Name | Last modified | Size | Description | |
---|---|---|---|---|
Parent Directory | - | |||
buildbin-out.txt | 12-Jun-2024 03:44 | 11K | ||
buildbin-summary.dcf | 12-Jun-2024 03:44 | 521 | ||
buildsrc-out.txt | 12-Jun-2024 03:44 | 904 | ||
buildsrc-summary.dcf | 12-Jun-2024 03:44 | 422 | ||
checksrc-out.txt | 12-Jun-2024 03:44 | 9.4K | ||
checksrc-summary.dcf | 12-Jun-2024 03:44 | 443 | ||
install-out.txt | 12-Jun-2024 03:44 | 9.5K | ||
install-summary.dcf | 12-Jun-2024 03:44 | 266 | ||