Index of /checkResults/release/bioc-LATEST/STdeconvolve/raw-results/palomino7
Name
Last modified
Size
Description
Parent Directory
-
install-summary.dcf
17-Jul-2024 06:40
279
buildsrc-summary.dcf
17-Jul-2024 06:40
381
install-out.txt
17-Jul-2024 06:40
631
buildsrc-out.txt
17-Jul-2024 06:40
954