Name | Last modified | Size | Description | |
---|---|---|---|---|
Parent Directory | - | |||
install-summary.dcf | 17-Jul-2024 06:39 | 270 | ||
buildsrc-summary.dcf | 17-Jul-2024 06:39 | 341 | ||
checksrc-summary.dcf | 03-Jul-2024 23:19 | 432 | ||
install-out.txt | 17-Jul-2024 06:39 | 648 | ||
buildsrc-out.txt | 17-Jul-2024 06:39 | 897 | ||
checksrc-out.txt | 03-Jul-2024 23:19 | 5.1K | ||