Name | Last modified | Size | Description | |
---|---|---|---|---|
Parent Directory | - | |||
install-summary.dcf | 10-May-2024 00:41 | 278 | ||
install-out.txt | 10-May-2024 00:41 | 1.0K | ||
checksrc-summary.dcf | 09-May-2024 00:41 | 469 | ||
checksrc-out.txt | 09-May-2024 00:41 | 5.3K | ||
buildsrc-summary.dcf | 10-May-2024 00:41 | 442 | ||
buildsrc-out.txt | 10-May-2024 00:41 | 899 | ||