Index of /checkResults/release/bioc-LATEST/STATegRa/raw-results/nebbiolo2

[ICO]NameLast modifiedSizeDescription

[DIR]Parent Directory  -  
[TXT]buildsrc-out.txt03-Mar-2024 01:36 873  
[   ]buildsrc-summary.dcf03-Mar-2024 01:36 421  
[TXT]checksrc-out.txt03-Mar-2024 01:36 4.4K 
[   ]checksrc-summary.dcf03-Mar-2024 01:36 418  
[TXT]install-out.txt03-Mar-2024 01:36 963  
[   ]install-summary.dcf03-Mar-2024 01:36 261