Index of /checkResults/release/bioc-LATEST/STATegRa/raw-results/kunpeng2

[ICO]NameLast modifiedSizeDescription

[DIR]Parent Directory  -  
[TXT]buildsrc-out.txt03-Nov-2023 00:41 867  
[   ]buildsrc-summary.dcf03-Nov-2023 00:41 415  
[TXT]checksrc-out.txt03-Nov-2023 00:41 4.6K 
[   ]checksrc-summary.dcf03-Nov-2023 00:41 421  
[TXT]install-out.txt03-Nov-2023 00:41 951  
[   ]install-summary.dcf03-Nov-2023 00:41 255