Back to Multiple platform build/check report for BioC 3.12
ABCDEFGHIJKLMNOPQR[S]TUVWXYZ

Multiple platform build/check report for BioC 3.12

Results for STAN

This page was generated on 2020-10-29 12:14:50 -0400 (Thu, 29 Oct 2020).

Package 1796/1974HostnameOS / ArchINSTALLBUILDCHECKBUILD BIN
STAN 2.18.0
Rafael Campos-Martin
Snapshot Date: 2020-10-28 14:42:40 -0400 (Wed, 28 Oct 2020)
URL: https://git.bioconductor.org/packages/STAN
Branch: RELEASE_3_12
Last Commit: efe18e3
Last Changed Date: 2020-10-27 10:57:53 -0400 (Tue, 27 Oct 2020)
malbec1 Linux (Ubuntu 18.04.4 LTS) / x86_64  OK  OK  OK UNNEEDED, same version exists in internal repository
nebbiolo1 Linux (Ubuntu 20.04.1 LTS) / x86_64  OK  OK  OK 
tokay1 Windows Server 2012 R2 Standard / x64  OK  OK  OK  OK YES, new version is higher than in internal repository
merida1 macOS 10.14.6 Mojave / x86_64  OK  OK  WARNINGS  OK UNNEEDED, same version exists in internal repository