Back to Multiple platform build/check report for BioC 3.12
ABCDEFGHIJKLMNOPQR[S]TUVWXYZ

Multiple platform build/check report for BioC 3.12

Results for SSPA

This page was generated on 2021-01-16 11:50:36 -0500 (Sat, 16 Jan 2021).

Package 1791/1974HostnameOS / ArchINSTALLBUILDCHECKBUILD BIN
SSPA 2.30.0
Maarten van Iterson
Snapshot Date: 2021-01-15 14:40:26 -0500 (Fri, 15 Jan 2021)
URL: https://git.bioconductor.org/packages/SSPA
Branch: RELEASE_3_12
Last Commit: 3fa684d
Last Changed Date: 2020-10-27 10:35:35 -0500 (Tue, 27 Oct 2020)
malbec1 Linux (Ubuntu 18.04.5 LTS) / x86_64  OK  OK  WARNINGS UNNEEDED, same version exists in internal repository
nebbiolo1 Linux (Ubuntu 20.04.1 LTS) / x86_64  OK  OK  WARNINGS 
tokay1 Windows Server 2012 R2 Standard / x64  OK  OK  WARNINGS  OK UNNEEDED, same version exists in internal repository
merida1 macOS 10.14.6 Mojave / x86_64  OK  OK  WARNINGS  OK UNNEEDED, same version exists in internal repository