Back to Multiple platform build/check report for BioC 3.17:   simplified   long
ABCDEFGHIJKLMNOPQR[S]TUVWXYZ

This page was generated on 2023-09-29 11:36:55 -0400 (Fri, 29 Sep 2023).

HostnameOSArch (*)R versionInstalled pkgs
nebbiolo1Linux (Ubuntu 22.04.2 LTS)x86_644.3.1 (2023-06-16) -- "Beagle Scouts" 4626
palomino3Windows Server 2022 Datacenterx644.3.1 (2023-06-16 ucrt) -- "Beagle Scouts" 4379
merida1macOS 12.6.4 Montereyx86_644.3.1 (2023-06-16) -- "Beagle Scouts" 4395
Click on any hostname to see more info about the system (e.g. compilers)      (*) as reported by 'uname -p', except on Windows and Mac OS X

Package 1961/2230HostnameOS / ArchINSTALLBUILDCHECKBUILD BIN
SOMNiBUS 1.8.0  (landing page)
Audrey Lema├žon
Snapshot Date: 2023-09-28 14:00:15 -0400 (Thu, 28 Sep 2023)
git_url: https://git.bioconductor.org/packages/SOMNiBUS
git_branch: RELEASE_3_17
git_last_commit: ff0c9b8
git_last_commit_date: 2023-04-25 11:26:20 -0400 (Tue, 25 Apr 2023)
nebbiolo1Linux (Ubuntu 22.04.2 LTS) / x86_64  OK    OK    TIMEOUT  
palomino3Windows Server 2022 Datacenter / x64  OK    OK    TIMEOUT    OK  
merida1macOS 12.6.4 Monterey / x86_64  OK    OK    TIMEOUT    OK  

INSTALL results for SOMNiBUS on palomino3


To the developers/maintainers of the SOMNiBUS package:
- Allow up to 24 hours (and sometimes 48 hours) for your latest push to git@git.bioconductor.org:packages/SOMNiBUS.git to reflect on this report. See Troubleshooting Build Report for more information.
- Use the following Renviron settings to reproduce errors and warnings.
- If 'R CMD check' started to fail recently on the Linux builder(s) over a missing dependency, add the missing dependency to 'Suggests:' in your DESCRIPTION file. See Renviron.bioc for more information.

raw results


Summary

Package: SOMNiBUS
Version: 1.8.0
Command: F:\biocbuild\bbs-3.17-bioc\R\bin\R.exe CMD INSTALL SOMNiBUS
StartedAt: 2023-09-28 17:02:35 -0400 (Thu, 28 Sep 2023)
EndedAt: 2023-09-28 17:03:31 -0400 (Thu, 28 Sep 2023)
EllapsedTime: 55.9 seconds
RetCode: 0
Status:   OK  

Command output

##############################################################################
##############################################################################
###
### Running command:
###
###   F:\biocbuild\bbs-3.17-bioc\R\bin\R.exe CMD INSTALL SOMNiBUS
###
##############################################################################
##############################################################################


* installing to library 'F:/biocbuild/bbs-3.17-bioc/R/library'
* installing *source* package 'SOMNiBUS' ...
** using staged installation
** R
** data
** inst
** byte-compile and prepare package for lazy loading
** help
*** installing help indices
** building package indices
** installing vignettes
** testing if installed package can be loaded from temporary location
** testing if installed package can be loaded from final location
** testing if installed package keeps a record of temporary installation path
* DONE (SOMNiBUS)