Index of /checkResults/release/bioc-LATEST/SNAGEE/raw-results/riesling1

[ICO]NameLast modifiedSizeDescription

[DIR]Parent Directory  -  
[TXT]buildbin-out.txt19-Mar-2022 00:08 1.3K 
[   ]buildbin-summary.dcf19-Mar-2022 00:08 509  
[TXT]buildsrc-out.txt19-Mar-2022 00:08 834  
[   ]buildsrc-summary.dcf19-Mar-2022 00:08 448  
[TXT]checksrc-out.txt19-Mar-2022 00:08 4.4K 
[   ]checksrc-summary.dcf19-Mar-2022 00:08 442  
[TXT]install-out.txt19-Mar-2022 00:08 1.2K 
[   ]install-summary.dcf19-Mar-2022 00:08 267