Index of /checkResults/release/bioc-LATEST/SNAGEE/raw-results
Name
Last modified
Size
Description
Parent Directory
-
merida1/
02-Jul-2022 01:08
-
nebbiolo1/
02-Jul-2022 01:05
-
palomino3/
02-Jul-2022 01:07
-
riesling1/
19-Mar-2022 00:08
-
info.dcf
02-Jul-2022 01:08
265