Name | Last modified | Size | Description | |
---|---|---|---|---|
Parent Directory | - | |||
buildsrc-out.txt | 04-May-2024 00:41 | 898 | ||
buildsrc-summary.dcf | 04-May-2024 00:41 | 419 | ||
checksrc-out.txt | 04-May-2024 00:41 | 5.4K | ||
checksrc-summary.dcf | 04-May-2024 00:41 | 438 | ||
install-out.txt | 04-May-2024 00:41 | 2.6K | ||
install-summary.dcf | 04-May-2024 00:41 | 264 | ||