Index of /checkResults/release/bioc-LATEST/SISPA/raw-results/palomino3

[ICO]NameLast modifiedSizeDescription

[DIR]Parent Directory  -  
[TXT]buildbin-out.txt04-Aug-2022 02:22 1.1K 
[   ]buildbin-summary.dcf04-Aug-2022 02:22 503  
[TXT]buildsrc-out.txt04-Aug-2022 02:22 1.0K 
[   ]buildsrc-summary.dcf04-Aug-2022 02:22 444  
[TXT]checksrc-out.txt04-Aug-2022 02:22 3.4K 
[   ]checksrc-summary.dcf04-Aug-2022 02:22 439  
[TXT]install-out.txt04-Aug-2022 02:22 1.0K 
[   ]install-summary.dcf04-Aug-2022 02:22 264