Name | Last modified | Size | Description | |
---|---|---|---|---|
Parent Directory | - | |||
install-out.txt | 28-Mar-2024 00:38 | 1.2K | ||
install-summary.dcf | 28-Mar-2024 00:38 | 265 | ||
buildsrc-out.txt | 28-Mar-2024 00:38 | 967 | ||
buildsrc-summary.dcf | 28-Mar-2024 00:38 | 422 | ||
checksrc-out.txt | 28-Mar-2024 00:38 | 5.6K | ||
checksrc-summary.dcf | 28-Mar-2024 00:38 | 442 | ||
buildbin-out.txt | 28-Mar-2024 00:38 | 1.3K | ||
buildbin-summary.dcf | 28-Mar-2024 00:38 | 518 | ||