Index of /checkResults/release/bioc-LATEST/SISPA/raw-results/merida1

[ICO]NameLast modifiedSizeDescription

[DIR]Parent Directory  -  
[TXT]buildbin-out.txt02-Jul-2022 01:08 1.2K 
[   ]buildbin-summary.dcf02-Jul-2022 01:08 518  
[TXT]buildsrc-out.txt02-Jul-2022 01:08 967  
[   ]buildsrc-summary.dcf02-Jul-2022 01:08 422  
[TXT]checksrc-out.txt02-Jul-2022 01:08 3.7K 
[   ]checksrc-summary.dcf02-Jul-2022 01:08 436  
[TXT]install-out.txt02-Jul-2022 01:08 1.0K 
[   ]install-summary.dcf02-Jul-2022 01:08 265