Index of /checkResults/release/bioc-LATEST/SISPA/raw-results
Name
Last modified
Size
Description
Parent Directory
-
nebbiolo1/
04-Jun-2023 03:36
-
palomino3/
04-Jun-2023 03:37
-
info.dcf
04-Jun-2023 03:38
273
merida1/
04-Jun-2023 03:38
-