Back to Multiple platform build/check report for BioC 3.12
ABCDEFGHIJKLMNOPQR[S]TUVWXYZ

BUILD report for SIMLR on tokay1

This page was generated on 2021-04-17 12:09:52 -0400 (Sat, 17 Apr 2021).

To the developers/maintainers of the SIMLR package:
Please make sure to use the following settings in order to reproduce any error or warning you see on this page.
Package 1718/1974HostnameOS / ArchINSTALLBUILDCHECKBUILD BIN
SIMLR 1.16.0  (landing page)
Luca De Sano
Snapshot Date: 2021-04-16 14:50:12 -0400 (Fri, 16 Apr 2021)
URL: https://git.bioconductor.org/packages/SIMLR
Branch: RELEASE_3_12
Last Commit: 596a86f
Last Changed Date: 2020-10-27 11:17:59 -0400 (Tue, 27 Oct 2020)
malbec1Linux (Ubuntu 18.04.5 LTS) / x86_64  OK    OK    OK  UNNEEDED, same version exists in internal repository
tokay1Windows Server 2012 R2 Standard / x64  OK    OK    OK    OK  UNNEEDED, same version exists in internal repository
merida1macOS 10.14.6 Mojave / x86_64  OK    OK    OK    OK  UNNEEDED, same version exists in internal repository

Summary

Package: SIMLR
Version: 1.16.0
Command: chmod a+r SIMLR -R && C:\Users\biocbuild\bbs-3.12-bioc\R\bin\R.exe CMD build --keep-empty-dirs --no-resave-data SIMLR
StartedAt: 2021-04-16 23:05:49 -0400 (Fri, 16 Apr 2021)
EndedAt: 2021-04-16 23:09:38 -0400 (Fri, 16 Apr 2021)
EllapsedTime: 228.9 seconds
RetCode: 0
Status:   OK   
PackageFile: SIMLR_1.16.0.tar.gz
PackageFileSize: 3.512 MiB

Command output

##############################################################################
##############################################################################
###
### Running command:
###
###   chmod a+r SIMLR -R && C:\Users\biocbuild\bbs-3.12-bioc\R\bin\R.exe CMD build --keep-empty-dirs --no-resave-data SIMLR
###
##############################################################################
##############################################################################


* checking for file 'SIMLR/DESCRIPTION' ... OK
* preparing 'SIMLR':
* checking DESCRIPTION meta-information ... OK
* cleaning src
* installing the package to build vignettes
* creating vignettes ... OK
* cleaning src
* checking for LF line-endings in source and make files and shell scripts
* checking for empty or unneeded directories
* building 'SIMLR_1.16.0.tar.gz'