![]() | Name | Last modified | Size | Description |
---|---|---|---|---|
![]() | Parent Directory | - | ||
![]() | buildsrc-out.txt | 28-Sep-2023 00:36 | 861 | |
![]() | buildsrc-summary.dcf | 28-Sep-2023 00:36 | 410 | |
![]() | checksrc-out.txt | 28-Sep-2023 00:36 | 3.3K | |
![]() | checksrc-summary.dcf | 28-Sep-2023 00:36 | 405 | |
![]() | install-out.txt | 28-Sep-2023 00:36 | 954 | |
![]() | install-summary.dcf | 28-Sep-2023 00:36 | 254 | |