Back to Multiple platform build/check report for BioC 3.14
ABCDEFGHIJKLMNOPQR[S]TUVWXYZ

This page was generated on 2021-12-03 13:06:04 -0500 (Fri, 03 Dec 2021).

BUILD BIN results for SIMAT on machv2

To the developers/maintainers of the SIMAT package:
- Please allow up to 24 hours (and sometimes 48 hours) for your latest push to git@git.bioconductor.org:packages/SIMAT.git to
reflect on this report. See How and When does the builder pull? When will my changes propagate? here for more information.
- Make sure to use the following settings in order to reproduce any error or warning you see on this page.

raw results

Package 1797/2083HostnameOS / ArchINSTALLBUILDCHECKBUILD BIN
SIMAT 1.26.0  (landing page)
M. R. Nezami Ranjbar
Snapshot Date: 2021-12-02 01:55:06 -0500 (Thu, 02 Dec 2021)
git_url: https://git.bioconductor.org/packages/SIMAT
git_branch: RELEASE_3_14
git_last_commit: 03f478f
git_last_commit_date: 2021-10-26 12:19:16 -0500 (Tue, 26 Oct 2021)
nebbiolo2Linux (Ubuntu 20.04.3 LTS) / x86_64  OK    OK    OK  UNNEEDED, same version is already published
tokay2Windows Server 2012 R2 Standard / x64  OK    OK    OK    OK  UNNEEDED, same version is already published
machv2macOS 10.14.6 Mojave / x86_64  OK    OK    OK    OK  UNNEEDED, same version is already published

Summary

Package: SIMAT
Version: 1.26.0
Command: rm -rf SIMAT.buildbin-libdir && mkdir SIMAT.buildbin-libdir && /Users/biocbuild/BBS/utils/build-universal.sh SIMAT_1.26.0.tar.gz /Library/Frameworks/R.framework/Resources/bin/R SIMAT.buildbin-libdir
StartedAt: 2021-12-02 23:47:22 -0500 (Thu, 02 Dec 2021)
EndedAt: 2021-12-02 23:48:31 -0500 (Thu, 02 Dec 2021)
EllapsedTime: 69.0 seconds
RetCode: 0
Status:   OK  
PackageFile: SIMAT_1.26.0.tgz
PackageFileSize: 1.12 MiB

Command output

##############################################################################
##############################################################################
###
### Running command:
###
###   rm -rf SIMAT.buildbin-libdir && mkdir SIMAT.buildbin-libdir && /Users/biocbuild/BBS/utils/build-universal.sh SIMAT_1.26.0.tar.gz /Library/Frameworks/R.framework/Resources/bin/R SIMAT.buildbin-libdir
###
##############################################################################
##############################################################################


>>>>>>> 
>>>>>>> INSTALLATION WITH 'R CMD INSTALL --preclean --no-multiarch --library=SIMAT.buildbin-libdir SIMAT_1.26.0.tar.gz'
>>>>>>> 

* installing *source* package ‘SIMAT’ ...
** using staged installation
** R
** data
** inst
** byte-compile and prepare package for lazy loading
** help
*** installing help indices
** building package indices
** installing vignettes
** testing if installed package can be loaded from temporary location
** testing if installed package can be loaded from final location
** testing if installed package keeps a record of temporary installation path
* DONE (SIMAT)