Back to Multiple platform build/check report for BioC 3.15
ABCDEFGHIJKLMNOPQR[S]TUVWXYZ

This page was generated on 2022-08-05 14:18:51 -0400 (Fri, 05 Aug 2022).

HostnameOSArch (*)R versionInstalled pkgs
nebbiolo1Linux (Ubuntu 20.04.4 LTS)x86_644.2.1 (2022-06-23) -- "Funny-Looking Kid" 4361
merida1macOS 10.14.6 Mojavex86_644.2.1 (2022-06-23) -- "Funny-Looking Kid" 4179
Click on any hostname to see more info about the system (e.g. compilers)      (*) as reported by 'uname -p', except on Windows and Mac OS X

All results for package SIMAT


To the developers/maintainers of the SIMAT package:
- Please allow up to 24 hours (and sometimes 48 hours) for your latest push to git@git.bioconductor.org:packages/SIMAT.git to
reflect on this report. See How and When does the builder pull? When will my changes propagate? for more information.
- Make sure to use the following settings in order to reproduce any error or warning you see on this page.

raw results

Package 1845/2140HostnameOS / ArchINSTALLBUILDCHECKBUILD BIN
SIMAT 1.28.0  (landing page)
M. R. Nezami Ranjbar
Snapshot Date: 2022-08-04 13:55:18 -0400 (Thu, 04 Aug 2022)
git_url: https://git.bioconductor.org/packages/SIMAT
git_branch: RELEASE_3_15
git_last_commit: 985ca73
git_last_commit_date: 2022-04-26 11:24:14 -0400 (Tue, 26 Apr 2022)
nebbiolo1Linux (Ubuntu 20.04.4 LTS) / x86_64  OK    OK    OK  UNNEEDED, same version is already published
merida1macOS 10.14.6 Mojave / x86_64  OK    OK    OK    OK  UNNEEDED, same version is already published