Back to Multiple platform build/check report for BioC 3.12
ABCDEFGHIJKLMNOPQR[S]TUVWXYZ

CHECK report for SGSeq on tokay1

This page was generated on 2021-04-17 12:09:50 -0400 (Sat, 17 Apr 2021).

To the developers/maintainers of the SGSeq package:
Please make sure to use the following settings in order to reproduce any error or warning you see on this page.
Package 1693/1974HostnameOS / ArchINSTALLBUILDCHECKBUILD BIN
SGSeq 1.24.0  (landing page)
Leonard Goldstein
Snapshot Date: 2021-04-16 14:50:12 -0400 (Fri, 16 Apr 2021)
URL: https://git.bioconductor.org/packages/SGSeq
Branch: RELEASE_3_12
Last Commit: d776538
Last Changed Date: 2020-10-27 11:00:12 -0400 (Tue, 27 Oct 2020)
malbec1Linux (Ubuntu 18.04.5 LTS) / x86_64  OK    OK    OK  UNNEEDED, same version exists in internal repository
tokay1Windows Server 2012 R2 Standard / x64  OK    OK    OK    OK  UNNEEDED, same version exists in internal repository
merida1macOS 10.14.6 Mojave / x86_64  OK    OK    OK    OK  UNNEEDED, same version exists in internal repository

Summary

Package: SGSeq
Version: 1.24.0
Command: C:\Users\biocbuild\bbs-3.12-bioc\R\bin\R.exe CMD check --force-multiarch --install=check:SGSeq.install-out.txt --library=C:\Users\biocbuild\bbs-3.12-bioc\R\library --no-vignettes --timings SGSeq_1.24.0.tar.gz
StartedAt: 2021-04-17 05:34:40 -0400 (Sat, 17 Apr 2021)
EndedAt: 2021-04-17 05:56:51 -0400 (Sat, 17 Apr 2021)
EllapsedTime: 1331.0 seconds
RetCode: 0
Status:   OK   
CheckDir: SGSeq.Rcheck
Warnings: 0

Command output

##############################################################################
##############################################################################
###
### Running command:
###
###   C:\Users\biocbuild\bbs-3.12-bioc\R\bin\R.exe CMD check --force-multiarch --install=check:SGSeq.install-out.txt --library=C:\Users\biocbuild\bbs-3.12-bioc\R\library --no-vignettes --timings SGSeq_1.24.0.tar.gz
###
##############################################################################
##############################################################################


* using log directory 'C:/Users/biocbuild/bbs-3.12-bioc/meat/SGSeq.Rcheck'
* using R version 4.0.5 (2021-03-31)
* using platform: x86_64-w64-mingw32 (64-bit)
* using session charset: ISO8859-1
* using option '--no-vignettes'
* checking for file 'SGSeq/DESCRIPTION' ... OK
* checking extension type ... Package
* this is package 'SGSeq' version '1.24.0'
* checking package namespace information ... OK
* checking package dependencies ... OK
* checking if this is a source package ... OK
* checking if there is a namespace ... OK
* checking for hidden files and directories ... OK
* checking for portable file names ... OK
* checking whether package 'SGSeq' can be installed ... OK
* checking installed package size ... OK
* checking package directory ... OK
* checking 'build' directory ... OK
* checking DESCRIPTION meta-information ... OK
* checking top-level files ... OK
* checking for left-over files ... OK
* checking index information ... OK
* checking package subdirectories ... OK
* checking R files for non-ASCII characters ... OK
* checking R files for syntax errors ... OK
* loading checks for arch 'i386'
** checking whether the package can be loaded ... OK
** checking whether the package can be loaded with stated dependencies ... OK
** checking whether the package can be unloaded cleanly ... OK
** checking whether the namespace can be loaded with stated dependencies ... OK
** checking whether the namespace can be unloaded cleanly ... OK
* loading checks for arch 'x64'
** checking whether the package can be loaded ... OK
** checking whether the package can be loaded with stated dependencies ... OK
** checking whether the package can be unloaded cleanly ... OK
** checking whether the namespace can be loaded with stated dependencies ... OK
** checking whether the namespace can be unloaded cleanly ... OK
* checking dependencies in R code ... NOTE
Unexported objects imported by ':::' calls:
  'GenomicRanges:::extraColumnSlotNames'
  'GenomicRanges:::extraColumnSlotsAsDF'
  See the note in ?`:::` about the use of this operator.
* checking S3 generic/method consistency ... OK
* checking replacement functions ... OK
* checking foreign function calls ... OK
* checking R code for possible problems ... OK
* checking Rd files ... OK
* checking Rd metadata ... OK
* checking Rd cross-references ... OK
* checking for missing documentation entries ... OK
* checking for code/documentation mismatches ... OK
* checking Rd \usage sections ... OK
* checking Rd contents ... OK
* checking for unstated dependencies in examples ... OK
* checking contents of 'data' directory ... OK
* checking data for non-ASCII characters ... OK
* checking data for ASCII and uncompressed saves ... OK
* checking files in 'vignettes' ... OK
* checking examples ...
** running examples for arch 'i386' ... OK
Examples with CPU (user + system) or elapsed time > 5s
                       user system elapsed
predictVariantEffects 53.14   0.63   54.70
analyzeFeatures       30.36   0.49   30.88
predictTxFeatures     17.73   0.12   17.88
getSGVariantCounts    11.62   0.11   11.74
getSGFeatureCounts     7.57   0.08    7.64
** running examples for arch 'x64' ... OK
Examples with CPU (user + system) or elapsed time > 5s
                       user system elapsed
predictVariantEffects 53.36   0.28   54.78
analyzeFeatures       33.87   0.42   34.29
predictTxFeatures     21.04   0.22   21.27
getSGVariantCounts    12.03   0.27   12.30
getSGFeatureCounts    10.27   0.23   10.50
* checking for unstated dependencies in 'tests' ... OK
* checking tests ...
** running tests for arch 'i386' ...
  Running 'runTests.R'
 OK
** running tests for arch 'x64' ...
  Running 'runTests.R'
 OK
* checking for unstated dependencies in vignettes ... OK
* checking package vignettes in 'inst/doc' ... OK
* checking running R code from vignettes ... SKIPPED
* checking re-building of vignette outputs ... SKIPPED
* checking PDF version of manual ... OK
* DONE

Status: 1 NOTE
See
  'C:/Users/biocbuild/bbs-3.12-bioc/meat/SGSeq.Rcheck/00check.log'
for details.



Installation output

SGSeq.Rcheck/00install.out

##############################################################################
##############################################################################
###
### Running command:
###
###   C:\cygwin\bin\curl.exe -O http://172.29.0.3/BBS/3.12/bioc/src/contrib/SGSeq_1.24.0.tar.gz && rm -rf SGSeq.buildbin-libdir && mkdir SGSeq.buildbin-libdir && C:\Users\biocbuild\bbs-3.12-bioc\R\bin\R.exe CMD INSTALL --merge-multiarch --build --library=SGSeq.buildbin-libdir SGSeq_1.24.0.tar.gz && C:\Users\biocbuild\bbs-3.12-bioc\R\bin\R.exe CMD INSTALL SGSeq_1.24.0.zip && rm SGSeq_1.24.0.tar.gz SGSeq_1.24.0.zip
###
##############################################################################
##############################################################################


  % Total    % Received % Xferd  Average Speed   Time    Time     Time  Current
                                 Dload  Upload   Total   Spent    Left  Speed

  0     0    0     0    0     0      0      0 --:--:-- --:--:-- --:--:--     0
  0     0    0     0    0     0      0      0 --:--:-- --:--:-- --:--:--     0
100 1258k  100 1258k    0     0  31.0M      0 --:--:-- --:--:-- --:--:-- 31.5M

install for i386

* installing *source* package 'SGSeq' ...
** using staged installation
** R
** data
*** moving datasets to lazyload DB
** inst
** byte-compile and prepare package for lazy loading
** help
*** installing help indices
  converting help for package 'SGSeq'
    finding HTML links ... done
    SGFeatureCounts                         html  
    SGFeatures                              html  
    SGSegments                              html  
    SGVariantCounts                         html  
    SGVariants                              html  
    TxFeatures                              html  
    analyzeFeatures                         html  
    analyzeVariants                         html  
    annotate                                html  
    annotateSGVariants                      html  
    assays                                  html  
    convertToSGFeatures                     html  
    convertToTxFeatures                     html  
    exonCompatible                          html  
    exportFeatures                          html  
    filterFeatures                          html  
    findOverlapsRanges                      html  
    findSGVariants                          html  
    getBamInfo                              html  
    getSGFeatureCounts                      html  
    getSGFeatureCountsPerSample             html  
    getSGVariantCounts                      html  
    gr                                      html  
    importTranscripts                       html  
    junctionCompatible                      html  
    makeSGFeatureCounts                     html  
    makeVariantNames                        html  
    mergeTxFeatures                         html  
    plotCoverage                            html  
    plotFeatures                            html  
    plotSpliceGraph                         html  
    plotVariants                            html  
    predictCandidatesInternal               html  
    predictCandidatesTerminal               html  
    predictExonsInternal                    html  
    predictExonsTerminal                    html  
    predictJunctions                        html  
    predictSpliced                          html  
    predictTxFeatures                       html  
    predictTxFeaturesPerSample              html  
    predictTxFeaturesPerStrand              html  
    predictVariantEffects                   html  
    processTerminalExons                    html  
    removeExonsIsolated                     html  
    sgf_ann                                 html  
    sgf_pred                                html  
    sgfc_ann                                html  
    sgfc_pred                               html  
    sgv_ann                                 html  
    sgv_pred                                html  
    sgvc_ann                                html  
    sgvc_ann_from_bam                       html  
    sgvc_pred                               html  
    sgvc_pred_from_bam                      html  
    si                                      html  
    slots                                   html  
    splicesiteOverlap                       html  
    tx                                      html  
    txf_ann                                 html  
    txf_pred                                html  
    updateObject                            html  
** building package indices
** installing vignettes
** testing if installed package can be loaded from temporary location
** testing if installed package can be loaded from final location
** testing if installed package keeps a record of temporary installation path

install for x64

* installing *source* package 'SGSeq' ...
** testing if installed package can be loaded
* MD5 sums
packaged installation of 'SGSeq' as SGSeq_1.24.0.zip
* DONE (SGSeq)
* installing to library 'C:/Users/biocbuild/bbs-3.12-bioc/R/library'
package 'SGSeq' successfully unpacked and MD5 sums checked

Tests output

SGSeq.Rcheck/tests_i386/runTests.Rout


R version 4.0.5 (2021-03-31) -- "Shake and Throw"
Copyright (C) 2021 The R Foundation for Statistical Computing
Platform: i386-w64-mingw32/i386 (32-bit)

R is free software and comes with ABSOLUTELY NO WARRANTY.
You are welcome to redistribute it under certain conditions.
Type 'license()' or 'licence()' for distribution details.

R is a collaborative project with many contributors.
Type 'contributors()' for more information and
'citation()' on how to cite R or R packages in publications.

Type 'demo()' for some demos, 'help()' for on-line help, or
'help.start()' for an HTML browser interface to help.
Type 'q()' to quit R.

> BiocGenerics:::testPackage("SGSeq")

Attaching package: 'BiocGenerics'

The following objects are masked from 'package:parallel':

    clusterApply, clusterApplyLB, clusterCall, clusterEvalQ,
    clusterExport, clusterMap, parApply, parCapply, parLapply,
    parLapplyLB, parRapply, parSapply, parSapplyLB

The following objects are masked from 'package:stats':

    IQR, mad, sd, var, xtabs

The following objects are masked from 'package:base':

    Filter, Find, Map, Position, Reduce, anyDuplicated, append,
    as.data.frame, basename, cbind, colnames, dirname, do.call,
    duplicated, eval, evalq, get, grep, grepl, intersect, is.unsorted,
    lapply, mapply, match, mget, order, paste, pmax, pmax.int, pmin,
    pmin.int, rank, rbind, rownames, sapply, setdiff, sort, table,
    tapply, union, unique, unsplit, which.max, which.min


Attaching package: 'S4Vectors'

The following object is masked from 'package:base':

    expand.grid


Attaching package: 'IRanges'

The following object is masked from 'package:grDevices':

    windows


Attaching package: 'Biostrings'

The following object is masked from 'package:base':

    strsplit


Attaching package: 'MatrixGenerics'

The following objects are masked from 'package:matrixStats':

    colAlls, colAnyNAs, colAnys, colAvgsPerRowSet, colCollapse,
    colCounts, colCummaxs, colCummins, colCumprods, colCumsums,
    colDiffs, colIQRDiffs, colIQRs, colLogSumExps, colMadDiffs,
    colMads, colMaxs, colMeans2, colMedians, colMins, colOrderStats,
    colProds, colQuantiles, colRanges, colRanks, colSdDiffs, colSds,
    colSums2, colTabulates, colVarDiffs, colVars, colWeightedMads,
    colWeightedMeans, colWeightedMedians, colWeightedSds,
    colWeightedVars, rowAlls, rowAnyNAs, rowAnys, rowAvgsPerColSet,
    rowCollapse, rowCounts, rowCummaxs, rowCummins, rowCumprods,
    rowCumsums, rowDiffs, rowIQRDiffs, rowIQRs, rowLogSumExps,
    rowMadDiffs, rowMads, rowMaxs, rowMeans2, rowMedians, rowMins,
    rowOrderStats, rowProds, rowQuantiles, rowRanges, rowRanks,
    rowSdDiffs, rowSds, rowSums2, rowTabulates, rowVarDiffs, rowVars,
    rowWeightedMads, rowWeightedMeans, rowWeightedMedians,
    rowWeightedSds, rowWeightedVars

Welcome to Bioconductor

    Vignettes contain introductory material; view with
    'browseVignettes()'. To cite Bioconductor, see
    'citation("Biobase")', and for packages 'citation("pkgname")'.


Attaching package: 'Biobase'

The following object is masked from 'package:MatrixGenerics':

    rowMedians

The following objects are masked from 'package:matrixStats':

    anyMissing, rowMedians

Predict features...
N1 complete.
N2 complete.
N3 complete.
N4 complete.
T1 complete.
T2 complete.
T3 complete.
T4 complete.
Process features...
Obtain counts...
N1 complete.
N2 complete.
N3 complete.
N4 complete.
T1 complete.
T2 complete.
T3 complete.
T4 complete.
Find segments...
Find variants...
Annotate variants...
[updateObject] Validating the updated object ... OK
[updateObject] Validating the updated object ... OK
Find segments...
Find variants...
Annotate variants...
Find segments...
Find variants...
Annotate variants...
Find segments...
Find variants...
Annotate variants...
Find segments...
Find variants...
Annotate variants...
N1 complete.
N2 complete.
N3 complete.
N4 complete.
T1 complete.
T2 complete.
T3 complete.
T4 complete.
N1 complete.
N2 complete.
N3 complete.
N4 complete.
T1 complete.
T2 complete.
T3 complete.
T4 complete.
[updateObject] Validating the updated object ... OK
[updateObject] Validating the updated object ... OK
N1 complete.
N2 complete.
N3 complete.
N4 complete.
T1 complete.
T2 complete.
T3 complete.
T4 complete.
N1 complete.
N2 complete.
N3 complete.
N4 complete.
T1 complete.
T2 complete.
T3 complete.
T4 complete.
Loading required package: BSgenome.Hsapiens.UCSC.hg19
Loading required package: BSgenome
Loading required package: rtracklayer
[updateObject] Validating the updated object ... OK
[updateObject] Validating the updated object ... OK
Predicting effect of 2 variants on 3 coding transcripts...
[updateObject] Validating the updated object ... OK
[updateObject] Validating the updated object ... OK
Predicting effect of 3 variants on 3 coding transcripts...


RUNIT TEST PROTOCOL -- Sat Apr 17 05:52:11 2021 
*********************************************** 
Number of test functions: 17 
Number of errors: 0 
Number of failures: 0 

 
1 Test Suite : 
SGSeq RUnit Tests - 17 test functions, 0 errors, 0 failures
Number of test functions: 17 
Number of errors: 0 
Number of failures: 0 
> 
> proc.time()
   user  system elapsed 
 265.60    2.85  272.09 

SGSeq.Rcheck/tests_x64/runTests.Rout


R version 4.0.5 (2021-03-31) -- "Shake and Throw"
Copyright (C) 2021 The R Foundation for Statistical Computing
Platform: x86_64-w64-mingw32/x64 (64-bit)

R is free software and comes with ABSOLUTELY NO WARRANTY.
You are welcome to redistribute it under certain conditions.
Type 'license()' or 'licence()' for distribution details.

R is a collaborative project with many contributors.
Type 'contributors()' for more information and
'citation()' on how to cite R or R packages in publications.

Type 'demo()' for some demos, 'help()' for on-line help, or
'help.start()' for an HTML browser interface to help.
Type 'q()' to quit R.

> BiocGenerics:::testPackage("SGSeq")

Attaching package: 'BiocGenerics'

The following objects are masked from 'package:parallel':

    clusterApply, clusterApplyLB, clusterCall, clusterEvalQ,
    clusterExport, clusterMap, parApply, parCapply, parLapply,
    parLapplyLB, parRapply, parSapply, parSapplyLB

The following objects are masked from 'package:stats':

    IQR, mad, sd, var, xtabs

The following objects are masked from 'package:base':

    Filter, Find, Map, Position, Reduce, anyDuplicated, append,
    as.data.frame, basename, cbind, colnames, dirname, do.call,
    duplicated, eval, evalq, get, grep, grepl, intersect, is.unsorted,
    lapply, mapply, match, mget, order, paste, pmax, pmax.int, pmin,
    pmin.int, rank, rbind, rownames, sapply, setdiff, sort, table,
    tapply, union, unique, unsplit, which.max, which.min


Attaching package: 'S4Vectors'

The following object is masked from 'package:base':

    expand.grid


Attaching package: 'IRanges'

The following object is masked from 'package:grDevices':

    windows


Attaching package: 'Biostrings'

The following object is masked from 'package:base':

    strsplit


Attaching package: 'MatrixGenerics'

The following objects are masked from 'package:matrixStats':

    colAlls, colAnyNAs, colAnys, colAvgsPerRowSet, colCollapse,
    colCounts, colCummaxs, colCummins, colCumprods, colCumsums,
    colDiffs, colIQRDiffs, colIQRs, colLogSumExps, colMadDiffs,
    colMads, colMaxs, colMeans2, colMedians, colMins, colOrderStats,
    colProds, colQuantiles, colRanges, colRanks, colSdDiffs, colSds,
    colSums2, colTabulates, colVarDiffs, colVars, colWeightedMads,
    colWeightedMeans, colWeightedMedians, colWeightedSds,
    colWeightedVars, rowAlls, rowAnyNAs, rowAnys, rowAvgsPerColSet,
    rowCollapse, rowCounts, rowCummaxs, rowCummins, rowCumprods,
    rowCumsums, rowDiffs, rowIQRDiffs, rowIQRs, rowLogSumExps,
    rowMadDiffs, rowMads, rowMaxs, rowMeans2, rowMedians, rowMins,
    rowOrderStats, rowProds, rowQuantiles, rowRanges, rowRanks,
    rowSdDiffs, rowSds, rowSums2, rowTabulates, rowVarDiffs, rowVars,
    rowWeightedMads, rowWeightedMeans, rowWeightedMedians,
    rowWeightedSds, rowWeightedVars

Welcome to Bioconductor

    Vignettes contain introductory material; view with
    'browseVignettes()'. To cite Bioconductor, see
    'citation("Biobase")', and for packages 'citation("pkgname")'.


Attaching package: 'Biobase'

The following object is masked from 'package:MatrixGenerics':

    rowMedians

The following objects are masked from 'package:matrixStats':

    anyMissing, rowMedians

Predict features...
N1 complete.
N2 complete.
N3 complete.
N4 complete.
T1 complete.
T2 complete.
T3 complete.
T4 complete.
Process features...
Obtain counts...
N1 complete.
N2 complete.
N3 complete.
N4 complete.
T1 complete.
T2 complete.
T3 complete.
T4 complete.
Find segments...
Find variants...
Annotate variants...
[updateObject] Validating the updated object ... OK
[updateObject] Validating the updated object ... OK
Find segments...
Find variants...
Annotate variants...
Find segments...
Find variants...
Annotate variants...
Find segments...
Find variants...
Annotate variants...
Find segments...
Find variants...
Annotate variants...
N1 complete.
N2 complete.
N3 complete.
N4 complete.
T1 complete.
T2 complete.
T3 complete.
T4 complete.
N1 complete.
N2 complete.
N3 complete.
N4 complete.
T1 complete.
T2 complete.
T3 complete.
T4 complete.
[updateObject] Validating the updated object ... OK
[updateObject] Validating the updated object ... OK
N1 complete.
N2 complete.
N3 complete.
N4 complete.
T1 complete.
T2 complete.
T3 complete.
T4 complete.
N1 complete.
N2 complete.
N3 complete.
N4 complete.
T1 complete.
T2 complete.
T3 complete.
T4 complete.
Loading required package: BSgenome.Hsapiens.UCSC.hg19
Loading required package: BSgenome
Loading required package: rtracklayer
[updateObject] Validating the updated object ... OK
[updateObject] Validating the updated object ... OK
Predicting effect of 2 variants on 3 coding transcripts...
[updateObject] Validating the updated object ... OK
[updateObject] Validating the updated object ... OK
Predicting effect of 3 variants on 3 coding transcripts...


RUNIT TEST PROTOCOL -- Sat Apr 17 05:56:46 2021 
*********************************************** 
Number of test functions: 17 
Number of errors: 0 
Number of failures: 0 

 
1 Test Suite : 
SGSeq RUnit Tests - 17 test functions, 0 errors, 0 failures
Number of test functions: 17 
Number of errors: 0 
Number of failures: 0 
> 
> proc.time()
   user  system elapsed 
 269.60    2.07  274.28 

Example timings

SGSeq.Rcheck/examples_i386/SGSeq-Ex.timings

nameusersystemelapsed
SGFeatureCounts0.170.080.25
SGFeatures0.030.040.08
SGVariantCounts0.200.140.34
SGVariants0.100.130.22
TxFeatures0.030.040.08
analyzeFeatures30.36 0.4930.88
analyzeVariants2.140.012.17
annotate2.290.002.30
assays0.040.000.03
convertToSGFeatures1.670.001.67
convertToTxFeatures0.480.000.48
exportFeatures000
findSGVariants1.860.021.87
getBamInfo1.180.171.36
getSGFeatureCounts7.570.087.64
getSGVariantCounts11.62 0.1111.74
importTranscripts000
makeSGFeatureCounts0.100.000.09
makeVariantNames0.030.000.03
mergeTxFeatures0.420.000.42
plotCoverage000
plotFeatures000
plotSpliceGraph000
plotVariants000
predictTxFeatures17.73 0.1217.88
predictVariantEffects53.14 0.6354.70
processTerminalExons0.520.000.51
slots000

SGSeq.Rcheck/examples_x64/SGSeq-Ex.timings

nameusersystemelapsed
SGFeatureCounts0.280.000.28
SGFeatures0.070.000.06
SGVariantCounts0.200.050.25
SGVariants0.140.020.16
TxFeatures0.150.000.14
analyzeFeatures33.87 0.4234.29
analyzeVariants2.860.032.91
annotate3.190.003.19
assays0.040.000.04
convertToSGFeatures2.350.002.35
convertToTxFeatures0.870.000.87
exportFeatures000
findSGVariants2.460.002.46
getBamInfo2.320.302.62
getSGFeatureCounts10.27 0.2310.50
getSGVariantCounts12.03 0.2712.30
importTranscripts000
makeSGFeatureCounts0.090.000.10
makeVariantNames0.040.000.03
mergeTxFeatures0.530.000.53
plotCoverage000
plotFeatures000
plotSpliceGraph000
plotVariants000
predictTxFeatures21.04 0.2221.27
predictVariantEffects53.36 0.2854.78
processTerminalExons0.320.000.31
slots000