Back to Multiple platform build/check report for BioC 3.12
ABCDEFGHIJKLMNOPQR[S]TUVWXYZ

BUILD BIN report for SGSeq on tokay1

This page was generated on 2021-04-17 12:09:51 -0400 (Sat, 17 Apr 2021).

To the developers/maintainers of the SGSeq package:
Please make sure to use the following settings in order to reproduce any error or warning you see on this page.
Package 1693/1974HostnameOS / ArchINSTALLBUILDCHECKBUILD BIN
SGSeq 1.24.0  (landing page)
Leonard Goldstein
Snapshot Date: 2021-04-16 14:50:12 -0400 (Fri, 16 Apr 2021)
URL: https://git.bioconductor.org/packages/SGSeq
Branch: RELEASE_3_12
Last Commit: d776538
Last Changed Date: 2020-10-27 11:00:12 -0400 (Tue, 27 Oct 2020)
malbec1Linux (Ubuntu 18.04.5 LTS) / x86_64  OK    OK    OK  UNNEEDED, same version exists in internal repository
tokay1Windows Server 2012 R2 Standard / x64  OK    OK    OK    OK  UNNEEDED, same version exists in internal repository
merida1macOS 10.14.6 Mojave / x86_64  OK    OK    OK    OK  UNNEEDED, same version exists in internal repository

Summary

Package: SGSeq
Version: 1.24.0
Command: rm -rf SGSeq.buildbin-libdir && mkdir SGSeq.buildbin-libdir && C:\Users\biocbuild\bbs-3.12-bioc\R\bin\R.exe CMD INSTALL --merge-multiarch --build --library=SGSeq.buildbin-libdir SGSeq_1.24.0.tar.gz
StartedAt: 2021-04-17 08:25:13 -0400 (Sat, 17 Apr 2021)
EndedAt: 2021-04-17 08:26:15 -0400 (Sat, 17 Apr 2021)
EllapsedTime: 61.3 seconds
RetCode: 0
Status:   OK   
PackageFile: SGSeq_1.24.0.zip
PackageFileSize: 1.746 MiB

Command output

##############################################################################
##############################################################################
###
### Running command:
###
###   rm -rf SGSeq.buildbin-libdir && mkdir SGSeq.buildbin-libdir && C:\Users\biocbuild\bbs-3.12-bioc\R\bin\R.exe CMD INSTALL --merge-multiarch --build --library=SGSeq.buildbin-libdir SGSeq_1.24.0.tar.gz
###
##############################################################################
##############################################################################



install for i386

* installing *source* package 'SGSeq' ...
** using staged installation
** R
** data
*** moving datasets to lazyload DB
** inst
** byte-compile and prepare package for lazy loading
** help
*** installing help indices
  converting help for package 'SGSeq'
    finding HTML links ... done
    SGFeatureCounts                         html  
    SGFeatures                              html  
    SGSegments                              html  
    SGVariantCounts                         html  
    SGVariants                              html  
    TxFeatures                              html  
    analyzeFeatures                         html  
    analyzeVariants                         html  
    annotate                                html  
    annotateSGVariants                      html  
    assays                                  html  
    convertToSGFeatures                     html  
    convertToTxFeatures                     html  
    exonCompatible                          html  
    exportFeatures                          html  
    filterFeatures                          html  
    findOverlapsRanges                      html  
    findSGVariants                          html  
    getBamInfo                              html  
    getSGFeatureCounts                      html  
    getSGFeatureCountsPerSample             html  
    getSGVariantCounts                      html  
    gr                                      html  
    importTranscripts                       html  
    junctionCompatible                      html  
    makeSGFeatureCounts                     html  
    makeVariantNames                        html  
    mergeTxFeatures                         html  
    plotCoverage                            html  
    plotFeatures                            html  
    plotSpliceGraph                         html  
    plotVariants                            html  
    predictCandidatesInternal               html  
    predictCandidatesTerminal               html  
    predictExonsInternal                    html  
    predictExonsTerminal                    html  
    predictJunctions                        html  
    predictSpliced                          html  
    predictTxFeatures                       html  
    predictTxFeaturesPerSample              html  
    predictTxFeaturesPerStrand              html  
    predictVariantEffects                   html  
    processTerminalExons                    html  
    removeExonsIsolated                     html  
    sgf_ann                                 html  
    sgf_pred                                html  
    sgfc_ann                                html  
    sgfc_pred                               html  
    sgv_ann                                 html  
    sgv_pred                                html  
    sgvc_ann                                html  
    sgvc_ann_from_bam                       html  
    sgvc_pred                               html  
    sgvc_pred_from_bam                      html  
    si                                      html  
    slots                                   html  
    splicesiteOverlap                       html  
    tx                                      html  
    txf_ann                                 html  
    txf_pred                                html  
    updateObject                            html  
** building package indices
** installing vignettes
** testing if installed package can be loaded from temporary location
** testing if installed package can be loaded from final location
** testing if installed package keeps a record of temporary installation path

install for x64

* installing *source* package 'SGSeq' ...
** testing if installed package can be loaded
* MD5 sums
packaged installation of 'SGSeq' as SGSeq_1.24.0.zip
* DONE (SGSeq)