Back to Multiple platform build/check report for BioC 3.12
ABCDEFGHIJKLMNOPQR[S]TUVWXYZ

CHECK report for SGSeq on malbec1

This page was generated on 2021-04-17 12:07:44 -0400 (Sat, 17 Apr 2021).

To the developers/maintainers of the SGSeq package:
Please make sure to use the following settings in order to reproduce any error or warning you see on this page.
Package 1693/1974HostnameOS / ArchINSTALLBUILDCHECKBUILD BIN
SGSeq 1.24.0  (landing page)
Leonard Goldstein
Snapshot Date: 2021-04-16 14:50:12 -0400 (Fri, 16 Apr 2021)
URL: https://git.bioconductor.org/packages/SGSeq
Branch: RELEASE_3_12
Last Commit: d776538
Last Changed Date: 2020-10-27 11:00:12 -0400 (Tue, 27 Oct 2020)
malbec1Linux (Ubuntu 18.04.5 LTS) / x86_64  OK    OK    OK  UNNEEDED, same version exists in internal repository
tokay1Windows Server 2012 R2 Standard / x64  OK    OK    OK    OK  UNNEEDED, same version exists in internal repository
merida1macOS 10.14.6 Mojave / x86_64  OK    OK    OK    OK  UNNEEDED, same version exists in internal repository

Summary

Package: SGSeq
Version: 1.24.0
Command: /home/biocbuild/bbs-3.12-bioc/R/bin/R CMD check --install=check:SGSeq.install-out.txt --library=/home/biocbuild/bbs-3.12-bioc/R/library --no-vignettes --timings SGSeq_1.24.0.tar.gz
StartedAt: 2021-04-17 05:06:33 -0400 (Sat, 17 Apr 2021)
EndedAt: 2021-04-17 05:19:53 -0400 (Sat, 17 Apr 2021)
EllapsedTime: 799.9 seconds
RetCode: 0
Status:   OK  
CheckDir: SGSeq.Rcheck
Warnings: 0

Command output

##############################################################################
##############################################################################
###
### Running command:
###
###   /home/biocbuild/bbs-3.12-bioc/R/bin/R CMD check --install=check:SGSeq.install-out.txt --library=/home/biocbuild/bbs-3.12-bioc/R/library --no-vignettes --timings SGSeq_1.24.0.tar.gz
###
##############################################################################
##############################################################################


* using log directory ‘/home/biocbuild/bbs-3.12-bioc/meat/SGSeq.Rcheck’
* using R version 4.0.5 (2021-03-31)
* using platform: x86_64-pc-linux-gnu (64-bit)
* using session charset: UTF-8
* using option ‘--no-vignettes’
* checking for file ‘SGSeq/DESCRIPTION’ ... OK
* checking extension type ... Package
* this is package ‘SGSeq’ version ‘1.24.0’
* checking package namespace information ... OK
* checking package dependencies ... OK
* checking if this is a source package ... OK
* checking if there is a namespace ... OK
* checking for hidden files and directories ... OK
* checking for portable file names ... OK
* checking for sufficient/correct file permissions ... OK
* checking whether package ‘SGSeq’ can be installed ... OK
* checking installed package size ... OK
* checking package directory ... OK
* checking ‘build’ directory ... OK
* checking DESCRIPTION meta-information ... OK
* checking top-level files ... OK
* checking for left-over files ... OK
* checking index information ... OK
* checking package subdirectories ... OK
* checking R files for non-ASCII characters ... OK
* checking R files for syntax errors ... OK
* checking whether the package can be loaded ... OK
* checking whether the package can be loaded with stated dependencies ... OK
* checking whether the package can be unloaded cleanly ... OK
* checking whether the namespace can be loaded with stated dependencies ... OK
* checking whether the namespace can be unloaded cleanly ... OK
* checking dependencies in R code ... NOTE
Unexported objects imported by ':::' calls:
  ‘GenomicRanges:::extraColumnSlotNames’
  ‘GenomicRanges:::extraColumnSlotsAsDF’
  See the note in ?`:::` about the use of this operator.
* checking S3 generic/method consistency ... OK
* checking replacement functions ... OK
* checking foreign function calls ... OK
* checking R code for possible problems ... OK
* checking Rd files ... OK
* checking Rd metadata ... OK
* checking Rd cross-references ... OK
* checking for missing documentation entries ... OK
* checking for code/documentation mismatches ... OK
* checking Rd \usage sections ... OK
* checking Rd contents ... OK
* checking for unstated dependencies in examples ... OK
* checking contents of ‘data’ directory ... OK
* checking data for non-ASCII characters ... OK
* checking data for ASCII and uncompressed saves ... OK
* checking files in ‘vignettes’ ... OK
* checking examples ... OK
Examples with CPU (user + system) or elapsed time > 5s
                        user system elapsed
predictVariantEffects 69.272  0.120  71.219
analyzeFeatures       33.160  0.372  33.758
predictTxFeatures     18.696  0.128  18.849
getSGVariantCounts    10.020  0.116  10.155
getSGFeatureCounts     9.136  0.140   9.297
* checking for unstated dependencies in ‘tests’ ... OK
* checking tests ...
  Running ‘runTests.R’
 OK
* checking for unstated dependencies in vignettes ... OK
* checking package vignettes in ‘inst/doc’ ... OK
* checking running R code from vignettes ... SKIPPED
* checking re-building of vignette outputs ... SKIPPED
* checking PDF version of manual ... OK
* DONE

Status: 1 NOTE
See
  ‘/home/biocbuild/bbs-3.12-bioc/meat/SGSeq.Rcheck/00check.log’
for details.



Installation output

SGSeq.Rcheck/00install.out

##############################################################################
##############################################################################
###
### Running command:
###
###   /home/biocbuild/bbs-3.12-bioc/R/bin/R CMD INSTALL SGSeq
###
##############################################################################
##############################################################################


* installing to library ‘/home/biocbuild/bbs-3.12-bioc/R/library’
* installing *source* package ‘SGSeq’ ...
** using staged installation
** R
** data
*** moving datasets to lazyload DB
** inst
** byte-compile and prepare package for lazy loading
** help
*** installing help indices
** building package indices
** installing vignettes
** testing if installed package can be loaded from temporary location
** testing if installed package can be loaded from final location
** testing if installed package keeps a record of temporary installation path
* DONE (SGSeq)

Tests output

SGSeq.Rcheck/tests/runTests.Rout


R version 4.0.5 (2021-03-31) -- "Shake and Throw"
Copyright (C) 2021 The R Foundation for Statistical Computing
Platform: x86_64-pc-linux-gnu (64-bit)

R is free software and comes with ABSOLUTELY NO WARRANTY.
You are welcome to redistribute it under certain conditions.
Type 'license()' or 'licence()' for distribution details.

R is a collaborative project with many contributors.
Type 'contributors()' for more information and
'citation()' on how to cite R or R packages in publications.

Type 'demo()' for some demos, 'help()' for on-line help, or
'help.start()' for an HTML browser interface to help.
Type 'q()' to quit R.

> BiocGenerics:::testPackage("SGSeq")

Attaching package: 'BiocGenerics'

The following objects are masked from 'package:parallel':

    clusterApply, clusterApplyLB, clusterCall, clusterEvalQ,
    clusterExport, clusterMap, parApply, parCapply, parLapply,
    parLapplyLB, parRapply, parSapply, parSapplyLB

The following objects are masked from 'package:stats':

    IQR, mad, sd, var, xtabs

The following objects are masked from 'package:base':

    Filter, Find, Map, Position, Reduce, anyDuplicated, append,
    as.data.frame, basename, cbind, colnames, dirname, do.call,
    duplicated, eval, evalq, get, grep, grepl, intersect, is.unsorted,
    lapply, mapply, match, mget, order, paste, pmax, pmax.int, pmin,
    pmin.int, rank, rbind, rownames, sapply, setdiff, sort, table,
    tapply, union, unique, unsplit, which.max, which.min


Attaching package: 'S4Vectors'

The following object is masked from 'package:base':

    expand.grid


Attaching package: 'Biostrings'

The following object is masked from 'package:base':

    strsplit


Attaching package: 'MatrixGenerics'

The following objects are masked from 'package:matrixStats':

    colAlls, colAnyNAs, colAnys, colAvgsPerRowSet, colCollapse,
    colCounts, colCummaxs, colCummins, colCumprods, colCumsums,
    colDiffs, colIQRDiffs, colIQRs, colLogSumExps, colMadDiffs,
    colMads, colMaxs, colMeans2, colMedians, colMins, colOrderStats,
    colProds, colQuantiles, colRanges, colRanks, colSdDiffs, colSds,
    colSums2, colTabulates, colVarDiffs, colVars, colWeightedMads,
    colWeightedMeans, colWeightedMedians, colWeightedSds,
    colWeightedVars, rowAlls, rowAnyNAs, rowAnys, rowAvgsPerColSet,
    rowCollapse, rowCounts, rowCummaxs, rowCummins, rowCumprods,
    rowCumsums, rowDiffs, rowIQRDiffs, rowIQRs, rowLogSumExps,
    rowMadDiffs, rowMads, rowMaxs, rowMeans2, rowMedians, rowMins,
    rowOrderStats, rowProds, rowQuantiles, rowRanges, rowRanks,
    rowSdDiffs, rowSds, rowSums2, rowTabulates, rowVarDiffs, rowVars,
    rowWeightedMads, rowWeightedMeans, rowWeightedMedians,
    rowWeightedSds, rowWeightedVars

Welcome to Bioconductor

    Vignettes contain introductory material; view with
    'browseVignettes()'. To cite Bioconductor, see
    'citation("Biobase")', and for packages 'citation("pkgname")'.


Attaching package: 'Biobase'

The following object is masked from 'package:MatrixGenerics':

    rowMedians

The following objects are masked from 'package:matrixStats':

    anyMissing, rowMedians

Predict features...
N1 complete.
N2 complete.
N3 complete.
N4 complete.
T1 complete.
T2 complete.
T3 complete.
T4 complete.
Process features...
Obtain counts...
N1 complete.
N2 complete.
N3 complete.
N4 complete.
T1 complete.
T2 complete.
T3 complete.
T4 complete.
Find segments...
Find variants...
Annotate variants...
[updateObject] Validating the updated object ... OK
[updateObject] Validating the updated object ... OK
Find segments...
Find variants...
Annotate variants...
Find segments...
Find variants...
Annotate variants...
Find segments...
Find variants...
Annotate variants...
Find segments...
Find variants...
Annotate variants...
N1 complete.
N2 complete.
N3 complete.
N4 complete.
T1 complete.
T2 complete.
T3 complete.
T4 complete.
N1 complete.
N2 complete.
N3 complete.
N4 complete.
T1 complete.
T2 complete.
T3 complete.
T4 complete.
[updateObject] Validating the updated object ... OK
[updateObject] Validating the updated object ... OK
N1 complete.
N2 complete.
N3 complete.
N4 complete.
T1 complete.
T2 complete.
T3 complete.
T4 complete.
N1 complete.
N2 complete.
N3 complete.
N4 complete.
T1 complete.
T2 complete.
T3 complete.
T4 complete.
Loading required package: BSgenome.Hsapiens.UCSC.hg19
Loading required package: BSgenome
Loading required package: rtracklayer
[updateObject] Validating the updated object ... OK
[updateObject] Validating the updated object ... OK
Predicting effect of 2 variants on 3 coding transcripts...
[updateObject] Validating the updated object ... OK
[updateObject] Validating the updated object ... OK
Predicting effect of 3 variants on 3 coding transcripts...


RUNIT TEST PROTOCOL -- Sat Apr 17 05:19:49 2021 
*********************************************** 
Number of test functions: 17 
Number of errors: 0 
Number of failures: 0 

 
1 Test Suite : 
SGSeq RUnit Tests - 17 test functions, 0 errors, 0 failures
Number of test functions: 17 
Number of errors: 0 
Number of failures: 0 
> 
> proc.time()
   user  system elapsed 
298.732   1.824 304.980 

Example timings

SGSeq.Rcheck/SGSeq-Ex.timings

nameusersystemelapsed
SGFeatureCounts0.2080.0080.217
SGFeatures0.0840.0000.083
SGVariantCounts0.3600.0160.376
SGVariants0.2240.0120.237
TxFeatures0.0960.0000.093
analyzeFeatures33.160 0.37233.758
analyzeVariants2.4880.0082.507
annotate2.9200.0002.925
assays0.0320.0000.031
convertToSGFeatures2.3480.0002.354
convertToTxFeatures0.8840.0000.888
exportFeatures000
findSGVariants2.4640.0002.469
getBamInfo1.5320.3041.847
getSGFeatureCounts9.1360.1409.297
getSGVariantCounts10.020 0.11610.155
importTranscripts000
makeSGFeatureCounts0.0800.0000.081
makeVariantNames0.0320.0000.031
mergeTxFeatures0.4520.0000.453
plotCoverage000
plotFeatures000
plotSpliceGraph000
plotVariants000
predictTxFeatures18.696 0.12818.849
predictVariantEffects69.272 0.12071.219
processTerminalExons0.3520.0000.352
slots0.0040.0000.003