Back to Multiple platform build/check report for BioC 3.12
ABCDEFGHIJKLMNOPQR[S]TUVWXYZ

BUILD report for SGSeq on malbec1

This page was generated on 2021-04-17 12:07:44 -0400 (Sat, 17 Apr 2021).

To the developers/maintainers of the SGSeq package:
Please make sure to use the following settings in order to reproduce any error or warning you see on this page.
Package 1693/1974HostnameOS / ArchINSTALLBUILDCHECKBUILD BIN
SGSeq 1.24.0  (landing page)
Leonard Goldstein
Snapshot Date: 2021-04-16 14:50:12 -0400 (Fri, 16 Apr 2021)
URL: https://git.bioconductor.org/packages/SGSeq
Branch: RELEASE_3_12
Last Commit: d776538
Last Changed Date: 2020-10-27 11:00:12 -0400 (Tue, 27 Oct 2020)
malbec1Linux (Ubuntu 18.04.5 LTS) / x86_64  OK    OK    OK  UNNEEDED, same version exists in internal repository
tokay1Windows Server 2012 R2 Standard / x64  OK    OK    OK    OK  UNNEEDED, same version exists in internal repository
merida1macOS 10.14.6 Mojave / x86_64  OK    OK    OK    OK  UNNEEDED, same version exists in internal repository

Summary

Package: SGSeq
Version: 1.24.0
Command: /home/biocbuild/bbs-3.12-bioc/R/bin/R CMD build --keep-empty-dirs --no-resave-data SGSeq
StartedAt: 2021-04-16 21:31:43 -0400 (Fri, 16 Apr 2021)
EndedAt: 2021-04-16 21:36:51 -0400 (Fri, 16 Apr 2021)
EllapsedTime: 308.3 seconds
RetCode: 0
Status:   OK  
PackageFile: SGSeq_1.24.0.tar.gz
PackageFileSize: 1.721 MiB

Command output

##############################################################################
##############################################################################
###
### Running command:
###
###   /home/biocbuild/bbs-3.12-bioc/R/bin/R CMD build --keep-empty-dirs --no-resave-data SGSeq
###
##############################################################################
##############################################################################


* checking for file ‘SGSeq/DESCRIPTION’ ... OK
* preparing ‘SGSeq’:
* checking DESCRIPTION meta-information ... OK
* installing the package to build vignettes
* creating vignettes ... OK
* checking for LF line-endings in source and make files and shell scripts
* checking for empty or unneeded directories
* building ‘SGSeq_1.24.0.tar.gz’