Name | Last modified | Size | Description | |
---|---|---|---|---|
Parent Directory | - | |||
buildsrc-out.txt | 15-Jun-2024 03:37 | 1.1K | ||
buildsrc-summary.dcf | 15-Jun-2024 03:37 | 326 | ||
checksrc-out.txt | 23-Feb-2024 02:48 | 3.1K | ||
checksrc-summary.dcf | 23-Feb-2024 02:48 | 400 | ||
install-out.txt | 15-Jun-2024 03:37 | 951 | ||
install-summary.dcf | 15-Jun-2024 03:37 | 252 | ||