Name | Last modified | Size | Description | |
---|---|---|---|---|
Parent Directory | - | |||
install-summary.dcf | 26-Jun-2024 06:42 | 263 | ||
install-out.txt | 26-Jun-2024 06:42 | 1.0K | ||
checksrc-summary.dcf | 18-Feb-2024 16:29 | 430 | ||
checksrc-out.txt | 18-Feb-2024 16:29 | 3.3K | ||
buildsrc-summary.dcf | 26-Jun-2024 06:42 | 337 | ||
buildsrc-out.txt | 26-Jun-2024 06:42 | 1.3K | ||
buildbin-summary.dcf | 18-Feb-2024 16:29 | 510 | ||
buildbin-out.txt | 18-Feb-2024 16:29 | 1.1K | ||