Back to Multiple platform build/check report for BioC 3.11
ABCDEFGHIJKLMNOPQR[S]TUVWXYZ

Multiple platform build/check report for BioC 3.11

Results for SDAMS

This page was generated on 2020-09-19 11:52:35 -0400 (Sat, 19 Sep 2020).

Package 1617/1905HostnameOS / ArchINSTALLBUILDCHECKBUILD BIN
SDAMS 1.8.0
Yuntong Li
Snapshot Date: 2020-09-18 14:50:18 -0400 (Fri, 18 Sep 2020)
URL: https://git.bioconductor.org/packages/SDAMS
Branch: RELEASE_3_11
Last Commit: 136d00f
Last Changed Date: 2020-04-27 15:15:57 -0400 (Mon, 27 Apr 2020)
malbec2 Linux (Ubuntu 18.04.4 LTS) / x86_64  OK  OK  OK UNNEEDED, same version exists in internal repository
tokay2 Windows Server 2012 R2 Standard / x64  OK  OK  OK  NA 
machv2 macOS 10.14.6 Mojave / x86_64  OK  OK  OK  OK UNNEEDED, same version exists in internal repository