![]() | Name | Last modified | Size | Description |
---|---|---|---|---|
![]() | Parent Directory | - | ||
![]() | buildbin-out.txt | 26-Sep-2023 00:36 | 2.1K | |
![]() | buildbin-summary.dcf | 26-Sep-2023 00:36 | 512 | |
![]() | buildsrc-out.txt | 26-Sep-2023 00:36 | 870 | |
![]() | buildsrc-summary.dcf | 26-Sep-2023 00:36 | 449 | |
![]() | checksrc-out.txt | 26-Sep-2023 00:36 | 4.2K | |
![]() | checksrc-summary.dcf | 26-Sep-2023 00:36 | 445 | |
![]() | install-out.txt | 26-Sep-2023 00:36 | 1.9K | |
![]() | install-summary.dcf | 26-Sep-2023 00:36 | 267 | |