![]() | Name | Last modified | Size | Description |
---|---|---|---|---|
![]() | Parent Directory | - | ||
![]() | buildbin-out.txt | 24-Sep-2023 00:37 | 4.2K | |
![]() | buildbin-summary.dcf | 24-Sep-2023 00:37 | 528 | |
![]() | buildsrc-out.txt | 24-Sep-2023 00:37 | 845 | |
![]() | buildsrc-summary.dcf | 24-Sep-2023 00:37 | 426 | |
![]() | checksrc-out.txt | 24-Sep-2023 00:37 | 3.7K | |
![]() | checksrc-summary.dcf | 24-Sep-2023 00:37 | 442 | |
![]() | install-out.txt | 24-Sep-2023 00:37 | 2.2K | |
![]() | install-summary.dcf | 24-Sep-2023 00:37 | 269 | |