Index of /checkResults/release/bioc-LATEST/SCArray.sat/raw-results/kjohnson1

[ICO]NameLast modifiedSizeDescription

[DIR]Parent Directory  -  
[TXT]buildbin-out.txt17-Jul-2024 06:43 1.2K 
[   ]buildbin-summary.dcf17-Jul-2024 06:43 549  
[TXT]buildsrc-out.txt17-Jul-2024 06:43 831  
[   ]buildsrc-summary.dcf17-Jul-2024 06:43 438  
[TXT]checksrc-out.txt17-Jul-2024 06:43 3.5K 
[   ]checksrc-summary.dcf17-Jul-2024 06:43 458  
[TXT]install-out.txt17-Jul-2024 06:43 1.0K 
[   ]install-summary.dcf17-Jul-2024 06:43 276