Back to Multiple platform build/check report for BioC 3.18:   simplified   long
ABCDEFGHIJKLMNOPQR[S]TUVWXYZ

This page was generated on 2024-03-04 11:36:01 -0500 (Mon, 04 Mar 2024).

HostnameOSArch (*)R versionInstalled pkgs
nebbiolo2Linux (Ubuntu 22.04.3 LTS)x86_644.3.2 Patched (2023-11-13 r85521) -- "Eye Holes" 4692
palomino4Windows Server 2022 Datacenterx644.3.2 (2023-10-31 ucrt) -- "Eye Holes" 4445
lconwaymacOS 12.7.1 Montereyx86_644.3.2 Patched (2023-11-01 r85457) -- "Eye Holes" 4466
Click on any hostname to see more info about the system (e.g. compilers)      (*) as reported by 'uname -p', except on Windows and Mac OS X

Package 1849/2266HostnameOS / ArchINSTALLBUILDCHECKBUILD BIN
SCAN.UPC 2.44.0  (landing page)
Stephen R. Piccolo
Snapshot Date: 2024-03-03 14:05:05 -0500 (Sun, 03 Mar 2024)
git_url: https://git.bioconductor.org/packages/SCAN.UPC
git_branch: RELEASE_3_18
git_last_commit: 2687df9
git_last_commit_date: 2023-10-24 09:51:26 -0500 (Tue, 24 Oct 2023)
nebbiolo2Linux (Ubuntu 22.04.3 LTS) / x86_64  OK    OK    OK  UNNEEDED, same version is already published
palomino4Windows Server 2022 Datacenter / x64  OK    OK    OK    OK  UNNEEDED, same version is already published
lconwaymacOS 12.7.1 Monterey / x86_64  OK    OK    OK    OK  UNNEEDED, same version is already published
kjohnson1macOS 13.6.1 Ventura / arm64see weekly results here

CHECK results for SCAN.UPC on nebbiolo2


To the developers/maintainers of the SCAN.UPC package:
- Allow up to 24 hours (and sometimes 48 hours) for your latest push to git@git.bioconductor.org:packages/SCAN.UPC.git to reflect on this report. See Troubleshooting Build Report for more information.
- Use the following Renviron settings to reproduce errors and warnings.
- If 'R CMD check' started to fail recently on the Linux builder(s) over a missing dependency, add the missing dependency to 'Suggests:' in your DESCRIPTION file. See Renviron.bioc for more information.

raw results


Summary

Package: SCAN.UPC
Version: 2.44.0
Command: /home/biocbuild/bbs-3.18-bioc/R/bin/R CMD check --install=check:SCAN.UPC.install-out.txt --library=/home/biocbuild/bbs-3.18-bioc/R/site-library --timings SCAN.UPC_2.44.0.tar.gz
StartedAt: 2024-03-04 02:07:31 -0500 (Mon, 04 Mar 2024)
EndedAt: 2024-03-04 02:11:27 -0500 (Mon, 04 Mar 2024)
EllapsedTime: 236.2 seconds
RetCode: 0
Status:   OK  
CheckDir: SCAN.UPC.Rcheck
Warnings: 0

Command output

##############################################################################
##############################################################################
###
### Running command:
###
###   /home/biocbuild/bbs-3.18-bioc/R/bin/R CMD check --install=check:SCAN.UPC.install-out.txt --library=/home/biocbuild/bbs-3.18-bioc/R/site-library --timings SCAN.UPC_2.44.0.tar.gz
###
##############################################################################
##############################################################################


* using log directory ‘/home/biocbuild/bbs-3.18-bioc/meat/SCAN.UPC.Rcheck’
* using R version 4.3.2 Patched (2023-11-13 r85521)
* using platform: x86_64-pc-linux-gnu (64-bit)
* R was compiled by
    gcc (Ubuntu 11.4.0-1ubuntu1~22.04) 11.4.0
    GNU Fortran (Ubuntu 11.4.0-1ubuntu1~22.04) 11.4.0
* running under: Ubuntu 22.04.4 LTS
* using session charset: UTF-8
* checking for file ‘SCAN.UPC/DESCRIPTION’ ... OK
* checking extension type ... Package
* this is package ‘SCAN.UPC’ version ‘2.44.0’
* checking package namespace information ... OK
* checking package dependencies ... NOTE
Depends: includes the non-default packages:
  'Biobase', 'oligo', 'Biostrings', 'GEOquery', 'affy', 'affyio',
  'foreach', 'sva'
Adding so many packages to the search path is excessive and importing
selectively is preferable.
* checking if this is a source package ... OK
* checking if there is a namespace ... OK
* checking for hidden files and directories ... OK
* checking for portable file names ... OK
* checking for sufficient/correct file permissions ... OK
* checking whether package ‘SCAN.UPC’ can be installed ... OK
* checking installed package size ... OK
* checking package directory ... OK
* checking ‘build’ directory ... OK
* checking DESCRIPTION meta-information ... NOTE
License components which are templates and need '+ file LICENSE':
  MIT
* checking top-level files ... OK
* checking for left-over files ... OK
* checking index information ... OK
* checking package subdirectories ... OK
* checking R files for non-ASCII characters ... OK
* checking R files for syntax errors ... OK
* checking whether the package can be loaded ... OK
* checking whether the package can be loaded with stated dependencies ... OK
* checking whether the package can be unloaded cleanly ... OK
* checking whether the namespace can be loaded with stated dependencies ... OK
* checking whether the namespace can be unloaded cleanly ... OK
* checking loading without being on the library search path ... OK
* checking dependencies in R code ... OK
* checking S3 generic/method consistency ... OK
* checking replacement functions ... OK
* checking foreign function calls ... OK
* checking R code for possible problems ... NOTE
BatchAdjust: no visible global function definition for ‘varLabels’
BatchAdjust: no visible global function definition for ‘exprs<-’
BatchAdjust: no visible global function definition for ‘pData’
BatchAdjustFromFile: no visible global function definition for
  ‘sampleNames’
BatchAdjustFromFile: no visible global function definition for ‘pData’
BatchAdjustFromFile: no visible global function definition for
  ‘varLabels’
BatchAdjustFromFile: no visible global function definition for
  ‘pData<-’
InstallBrainArrayPackage: no visible global function definition for
  ‘download.file’
InstallBrainArrayPackage: no visible global function definition for
  ‘install.packages’
ProcessGtfSubset: no visible global function definition for ‘IRanges’
RS_BC: no visible global function definition for ‘median’
RS_BC: no visible global function definition for ‘dlnorm’
RS_BC: no visible global function definition for ‘rlnorm’
UPC_Generic_ExpressionSet: no visible global function definition for
  ‘pData’
UPC_Generic_ExpressionSet: no visible global function definition for
  ‘featureData’
UPC_Generic_ExpressionSet: no visible global function definition for
  ‘DNAStringSet’
UPC_Generic_ExpressionSet: no visible global function definition for
  ‘exprs<-’
UPC_RNASeq: no visible global function definition for ‘runif’
UPC_RNASeq: no visible global function definition for ‘sampleNames<-’
UPC_RNASeq: no visible global function definition for ‘featureNames<-’
UPC_nb: no visible global function definition for ‘dnbinom’
UPC_nn: no visible global function definition for ‘median’
UPC_nn: no visible global function definition for ‘var’
UPC_nn: no visible global function definition for ‘dnorm’
UPC_nn: no visible global function definition for ‘rnorm’
UPC_nn_bayes: no visible global function definition for ‘median’
UPC_nn_bayes: no visible global function definition for ‘var’
assign_bin: no visible global function definition for ‘rnorm’
channelNormalize: no visible global function definition for ‘var’
downloadBeadChipFromGEO: no visible global function definition for
  ‘untar’
downloadFromGEO: no visible global function definition for ‘untar’
iglNormalize: no visible global function definition for ‘loess’
madNormalize: no visible global function definition for ‘median’
processCelFiles: no visible global function definition for ‘%dopar%’
processCelFiles: no visible global function definition for
  ‘sampleNames<-’
processCelFiles: no visible global function definition for
  ‘featureNames<-’
processTwoColor: no visible global function definition for
  ‘sampleNames<-’
processTwoColor: no visible global function definition for
  ‘featureNames<-’
readAgilentData: no visible global function definition for ‘read.delim’
Undefined global functions or variables:
  %dopar% DNAStringSet IRanges dlnorm dnbinom dnorm download.file
  exprs<- featureData featureNames<- install.packages loess median
  pData pData<- read.delim rlnorm rnorm runif sampleNames sampleNames<-
  untar var varLabels
Consider adding
  importFrom("stats", "dlnorm", "dnbinom", "dnorm", "loess", "median",
             "rlnorm", "rnorm", "runif", "var")
  importFrom("utils", "download.file", "install.packages", "read.delim",
             "untar")
to your NAMESPACE file.
* checking Rd files ... OK
* checking Rd metadata ... OK
* checking Rd cross-references ... OK
* checking for missing documentation entries ... OK
* checking for code/documentation mismatches ... OK
* checking Rd \usage sections ... OK
* checking Rd contents ... OK
* checking for unstated dependencies in examples ... OK
* checking files in ‘vignettes’ ... OK
* checking examples ... OK
* checking for unstated dependencies in vignettes ... OK
* checking package vignettes in ‘inst/doc’ ... OK
* checking running R code from vignettes ...
  ‘SCAN.vignette.Rnw’ using ‘UTF-8’... OK
 OK
* checking re-building of vignette outputs ... OK
* checking PDF version of manual ... OK
* DONE

Status: 3 NOTEs
See
  ‘/home/biocbuild/bbs-3.18-bioc/meat/SCAN.UPC.Rcheck/00check.log’
for details.



Installation output

SCAN.UPC.Rcheck/00install.out

##############################################################################
##############################################################################
###
### Running command:
###
###   /home/biocbuild/bbs-3.18-bioc/R/bin/R CMD INSTALL SCAN.UPC
###
##############################################################################
##############################################################################


* installing to library ‘/home/biocbuild/bbs-3.18-bioc/R/site-library’
* installing *source* package ‘SCAN.UPC’ ...
** using staged installation
** R
** inst
** byte-compile and prepare package for lazy loading
Parallel computing support for 'oligo/crlmm': Disabled
     - Load 'ff'
     - Load and register a 'foreach' adaptor
        Example - Using 'multicore' for 2 cores:
             library(doMC)
             registerDoMC(2)
================================================================================
** help
*** installing help indices
** building package indices
** installing vignettes
** testing if installed package can be loaded from temporary location
Parallel computing support for 'oligo/crlmm': Disabled
     - Load 'ff'
     - Load and register a 'foreach' adaptor
        Example - Using 'multicore' for 2 cores:
             library(doMC)
             registerDoMC(2)
================================================================================
** testing if installed package can be loaded from final location
Parallel computing support for 'oligo/crlmm': Disabled
     - Load 'ff'
     - Load and register a 'foreach' adaptor
        Example - Using 'multicore' for 2 cores:
             library(doMC)
             registerDoMC(2)
================================================================================
** testing if installed package keeps a record of temporary installation path
* DONE (SCAN.UPC)

Tests output


Example timings

SCAN.UPC.Rcheck/SCAN.UPC-Ex.timings

nameusersystemelapsed
InstallBrainArrayPackage000
ParseMetaFromGtfFile0.0010.0000.001
SCAN000
SCAN_TwoColor000
UPC_Generic_ExpressionSet000
UPC_RNASeq000
UPC_TwoColor0.0000.0000.001