Name | Last modified | Size | Description | |
---|---|---|---|---|
Parent Directory | - | |||
checksrc-out.txt | 27-Jul-2024 06:39 | 4.3K | ||
buildbin-out.txt | 27-Jul-2024 06:39 | 3.1K | ||
install-out.txt | 27-Jul-2024 06:39 | 3.0K | ||
buildsrc-out.txt | 27-Jul-2024 06:39 | 851 | ||
buildbin-summary.dcf | 27-Jul-2024 06:39 | 491 | ||
buildsrc-summary.dcf | 27-Jul-2024 06:39 | 437 | ||
checksrc-summary.dcf | 27-Jul-2024 06:39 | 431 | ||
install-summary.dcf | 27-Jul-2024 06:39 | 261 | ||