Name | Last modified | Size | Description | |
---|---|---|---|---|
Parent Directory | - | |||
install-out.txt | 29-Jun-2024 06:42 | 3.0K | ||
install-summary.dcf | 29-Jun-2024 06:42 | 260 | ||
buildsrc-out.txt | 29-Jun-2024 06:42 | 851 | ||
buildsrc-summary.dcf | 29-Jun-2024 06:42 | 437 | ||
checksrc-out.txt | 29-Jun-2024 06:42 | 4.3K | ||
checksrc-summary.dcf | 29-Jun-2024 06:42 | 431 | ||
buildbin-out.txt | 29-Jun-2024 06:42 | 3.1K | ||
buildbin-summary.dcf | 29-Jun-2024 06:42 | 491 | ||