Name | Last modified | Size | Description | |
---|---|---|---|---|
Parent Directory | - | |||
buildsrc-out.txt | 24-Jul-2024 22:03 | 820 | ||
buildsrc-summary.dcf | 24-Jul-2024 22:03 | 406 | ||
checksrc-out.txt | 24-Jul-2024 22:03 | 3.7K | ||
checksrc-summary.dcf | 24-Jul-2024 22:03 | 398 | ||
install-out.txt | 24-Jul-2024 22:03 | 2.9K | ||
install-summary.dcf | 24-Jul-2024 22:03 | 251 | ||