Name | Last modified | Size | Description | |
---|---|---|---|---|
Parent Directory | - | |||
install-summary.dcf | 05-May-2024 00:39 | 261 | ||
install-out.txt | 05-May-2024 00:39 | 2.5K | ||
checksrc-summary.dcf | 05-May-2024 00:39 | 428 | ||
checksrc-out.txt | 05-May-2024 00:39 | 3.8K | ||
buildsrc-summary.dcf | 05-May-2024 00:39 | 416 | ||
buildsrc-out.txt | 05-May-2024 00:39 | 830 | ||
buildbin-summary.dcf | 05-May-2024 00:39 | 506 | ||
buildbin-out.txt | 05-May-2024 00:39 | 6.0K | ||