Back to Multiple platform build/check report for BioC 3.12
ABCDEFGHIJKLMNOPQR[S]TUVWXYZ

BUILD report for SBMLR on tokay1

This page was generated on 2021-02-22 12:40:37 -0500 (Mon, 22 Feb 2021).

To the developers/maintainers of the SBMLR package:
Please make sure to use the following settings in order to reproduce any error or warning you see on this page.
Package 1622/1974HostnameOS / ArchINSTALLBUILDCHECKBUILD BIN
SBMLR 1.86.0
Tomas Radivoyevitch
Snapshot Date: 2021-02-21 14:52:07 -0500 (Sun, 21 Feb 2021)
URL: https://git.bioconductor.org/packages/SBMLR
Branch: RELEASE_3_12
Last Commit: 1b53a3b
Last Changed Date: 2020-10-27 10:25:02 -0500 (Tue, 27 Oct 2020)
malbec1Linux (Ubuntu 18.04.5 LTS) / x86_64  OK    OK    OK  UNNEEDED, same version exists in internal repository
nebbiolo1Linux (Ubuntu 20.04.2 LTS) / x86_64  OK    OK    OK  
tokay1Windows Server 2012 R2 Standard / x64  OK    OK    OK    OK  UNNEEDED, same version exists in internal repository
merida1macOS 10.14.6 Mojave / x86_64  OK    OK    ERROR    OK  

Summary

Package: SBMLR
Version: 1.86.0
Command: chmod a+r SBMLR -R && C:\Users\biocbuild\bbs-3.12-bioc\R\bin\R.exe CMD build --keep-empty-dirs --no-resave-data SBMLR
StartedAt: 2021-02-21 23:15:28 -0500 (Sun, 21 Feb 2021)
EndedAt: 2021-02-21 23:15:47 -0500 (Sun, 21 Feb 2021)
EllapsedTime: 18.7 seconds
RetCode: 0
Status:   OK   
PackageFile: SBMLR_1.86.0.tar.gz
PackageFileSize: 232 KiB

Command output

##############################################################################
##############################################################################
###
### Running command:
###
###   chmod a+r SBMLR -R && C:\Users\biocbuild\bbs-3.12-bioc\R\bin\R.exe CMD build --keep-empty-dirs --no-resave-data SBMLR
###
##############################################################################
##############################################################################


* checking for file 'SBMLR/DESCRIPTION' ... OK
* preparing 'SBMLR':
* checking DESCRIPTION meta-information ... OK
* installing the package to build vignettes
* creating vignettes ... OK
* checking for LF line-endings in source and make files and shell scripts
* checking for empty or unneeded directories
* building 'SBMLR_1.86.0.tar.gz'