Back to Multiple platform build/check report for BioC 3.12
ABCDEFGHIJKLMNOPQR[S]TUVWXYZ

BUILD BIN report for SBMLR on tokay1

This page was generated on 2021-02-22 12:40:37 -0500 (Mon, 22 Feb 2021).

To the developers/maintainers of the SBMLR package:
Please make sure to use the following settings in order to reproduce any error or warning you see on this page.
Package 1622/1974HostnameOS / ArchINSTALLBUILDCHECKBUILD BIN
SBMLR 1.86.0
Tomas Radivoyevitch
Snapshot Date: 2021-02-21 14:52:07 -0500 (Sun, 21 Feb 2021)
URL: https://git.bioconductor.org/packages/SBMLR
Branch: RELEASE_3_12
Last Commit: 1b53a3b
Last Changed Date: 2020-10-27 10:25:02 -0500 (Tue, 27 Oct 2020)
malbec1Linux (Ubuntu 18.04.5 LTS) / x86_64  OK    OK    OK  UNNEEDED, same version exists in internal repository
nebbiolo1Linux (Ubuntu 20.04.2 LTS) / x86_64  OK    OK    OK  
tokay1Windows Server 2012 R2 Standard / x64  OK    OK    OK    OK  UNNEEDED, same version exists in internal repository
merida1macOS 10.14.6 Mojave / x86_64  OK    OK    ERROR    OK  

Summary

Package: SBMLR
Version: 1.86.0
Command: rm -rf SBMLR.buildbin-libdir && mkdir SBMLR.buildbin-libdir && C:\Users\biocbuild\bbs-3.12-bioc\R\bin\R.exe CMD INSTALL --merge-multiarch --build --library=SBMLR.buildbin-libdir SBMLR_1.86.0.tar.gz
StartedAt: 2021-02-22 10:15:18 -0500 (Mon, 22 Feb 2021)
EndedAt: 2021-02-22 10:15:52 -0500 (Mon, 22 Feb 2021)
EllapsedTime: 34.8 seconds
RetCode: 0
Status:   OK   
PackageFile: SBMLR_1.86.0.zip
PackageFileSize: 291.3 KiB

Command output

##############################################################################
##############################################################################
###
### Running command:
###
###   rm -rf SBMLR.buildbin-libdir && mkdir SBMLR.buildbin-libdir && C:\Users\biocbuild\bbs-3.12-bioc\R\bin\R.exe CMD INSTALL --merge-multiarch --build --library=SBMLR.buildbin-libdir SBMLR_1.86.0.tar.gz
###
##############################################################################
##############################################################################



install for i386

* installing *source* package 'SBMLR' ...
** using staged installation
** R
** inst
** byte-compile and prepare package for lazy loading
** help
*** installing help indices
  converting help for package 'SBMLR'
    finding HTML links ... done
    Ops.SBMLR                               html  
    S4toS3                                  html  
    readSBML                                html  
    readSBMLR                               html  
    saveSBML                                html  
    saveSBMLR                               html  
    sim                                     html  
    summary.SBMLR                           html  
** building package indices
** installing vignettes
** testing if installed package can be loaded from temporary location
** testing if installed package can be loaded from final location
** testing if installed package keeps a record of temporary installation path

install for x64

* installing *source* package 'SBMLR' ...
** testing if installed package can be loaded
* MD5 sums
packaged installation of 'SBMLR' as SBMLR_1.86.0.zip
* DONE (SBMLR)