Name | Last modified | Size | Description | |
---|---|---|---|---|
Parent Directory | - | |||
install-summary.dcf | 27-Jul-2024 06:41 | 271 | ||
install-out.txt | 27-Jul-2024 06:41 | 1.0K | ||
checksrc-summary.dcf | 27-Jul-2024 06:41 | 448 | ||
checksrc-out.txt | 27-Jul-2024 06:41 | 4.5K | ||
buildsrc-summary.dcf | 27-Jul-2024 06:41 | 431 | ||
buildsrc-out.txt | 27-Jul-2024 06:41 | 883 | ||
buildbin-summary.dcf | 27-Jul-2024 06:41 | 536 | ||
buildbin-out.txt | 27-Jul-2024 06:41 | 1.2K | ||