Back to Multiple platform build/check report for BioC 3.17:   simplified   long
ABCDEFGHIJKLMNOPQR[S]TUVWXYZ

This page was generated on 2023-06-03 14:36:06 -0400 (Sat, 03 Jun 2023).

HostnameOSArch (*)R versionInstalled pkgs
nebbiolo1Linux (Ubuntu 22.04.2 LTS)x86_644.3.0 RC (2023-04-13 r84269) -- "Already Tomorrow" 4623
palomino3Windows Server 2022 Datacenterx644.3.0 RC (2023-04-13 r84269 ucrt) -- "Already Tomorrow" 4374
merida1macOS 12.6.4 Montereyx86_644.3.0 RC (2023-04-13 r84257) -- "Already Tomorrow" 4332
Click on any hostname to see more info about the system (e.g. compilers)      (*) as reported by 'uname -p', except on Windows and Mac OS X

All results for package S4Vectors


To the developers/maintainers of the S4Vectors package:
- Allow up to 24 hours (and sometimes 48 hours) for your latest push to git@git.bioconductor.org:packages/S4Vectors.git to reflect on this report. See Troubleshooting Build Report for more information.

- Use the following Renviron settings to reproduce errors and warnings.

Note: If "R CMD check" recently failed on the Linux builder over a missing dependency, add the missing dependency to "Suggests" in your DESCRIPTION file. See the Renviron.bioc for details.

raw results

Package 1796/2229HostnameOS / ArchINSTALLBUILDCHECKBUILD BIN
S4Vectors 0.38.1  (landing page)
Hervé Pagès
Snapshot Date: 2023-06-02 14:00:14 -0400 (Fri, 02 Jun 2023)
git_url: https://git.bioconductor.org/packages/S4Vectors
git_branch: RELEASE_3_17
git_last_commit: 17a9d8c
git_last_commit_date: 2023-05-01 21:44:09 -0400 (Mon, 01 May 2023)
nebbiolo1Linux (Ubuntu 22.04.2 LTS) / x86_64  OK    OK    WARNINGS  UNNEEDED, same version is already published
palomino3Windows Server 2022 Datacenter / x64  OK    OK    WARNINGS    OK  UNNEEDED, same version is already published
merida1macOS 12.6.4 Monterey / x86_64  OK    OK    WARNINGS    OK  UNNEEDED, same version is already published

Results for Bioconductor software packages that depend directly on package S4Vectors

QUICK STATSOS / ArchINSTALLBUILDCHECKBUILD BIN
nebbiolo1Linux (Ubuntu 22.04.2 LTS) / x86_64
06656
018644
141139463
palomino3Windows Server 2022 Datacenter / x64
06640
218626
3120123452
00626
merida1macOS 12.6.4 Monterey / x86_64
013647
225633
922134468
01632
Package 1/663HostnameOS / ArchINSTALLBUILDCHECKBUILD BIN
ADImpute 1.10.0  (landing page)
Ana Carolina Leote
git_last_commit: 5a376f1
git_last_commit_date: 2023-04-25 11:24:24 -0400
nebbiolo1Linux (Ubuntu 22.04.2 LTS) / x86_64  OK    OK    WARNINGS  UNNEEDED, same version is already published
palomino3Windows Server 2022 Datacenter / x64  OK    OK    WARNINGS    OK  UNNEEDED, same version is already published
merida1macOS 12.6.4 Monterey / x86_64  OK    OK    WARNINGS    OK  UNNEEDED, same version is already published
Package 2/663HostnameOS / ArchINSTALLBUILDCHECKBUILD BIN
affycoretools 1.72.0  (landing page)
James W. MacDonald
git_last_commit: 229ae09
git_last_commit_date: 2023-04-25 09:42:43 -0400
nebbiolo1Linux (Ubuntu 22.04.2 LTS) / x86_64  OK    OK    OK  UNNEEDED, same version is already published
palomino3Windows Server 2022 Datacenter / x64  OK    OK    OK    OK  UNNEEDED, same version is already published
merida1macOS 12.6.4 Monterey / x86_64  OK    OK    OK    OK  NO, package depends on 'ReportingTools' which is not available
Package 3/663HostnameOS / ArchINSTALLBUILDCHECKBUILD BIN
aggregateBioVar 1.10.0  (landing page)
Jason Ratcliff
git_last_commit: 1f3fcf6
git_last_commit_date: 2023-04-25 11:23:10 -0400
nebbiolo1Linux (Ubuntu 22.04.2 LTS) / x86_64  OK    OK    OK  UNNEEDED, same version is already published
palomino3Windows Server 2022 Datacenter / x64  OK    OK    OK    OK  UNNEEDED, same version is already published
merida1macOS 12.6.4 Monterey / x86_64  OK    OK    OK    OK  UNNEEDED, same version is already published
Package 4/663HostnameOS / ArchINSTALLBUILDCHECKBUILD BIN
airpart 1.8.0  (landing page)
Wancen Mu
git_last_commit: 992ee0a
git_last_commit_date: 2023-04-25 11:28:04 -0400
nebbiolo1Linux (Ubuntu 22.04.2 LTS) / x86_64  OK    OK    OK  UNNEEDED, same version is already published
palomino3Windows Server 2022 Datacenter / x64  OK    OK    OK    OK  UNNEEDED, same version is already published
merida1macOS 12.6.4 Monterey / x86_64  OK    OK    OK    OK  NO, package depends on 'scater' which is not available
Package 5/663HostnameOS / ArchINSTALLBUILDCHECKBUILD BIN
alabaster.base 1.0.0  (landing page)
Aaron Lun
git_last_commit: 97c0956
git_last_commit_date: 2023-04-25 11:42:44 -0400
nebbiolo1Linux (Ubuntu 22.04.2 LTS) / x86_64  OK    OK    WARNINGS  UNNEEDED, same version is already published
palomino3Windows Server 2022 Datacenter / x64  OK    OK    OK    OK  UNNEEDED, same version is already published
merida1macOS 12.6.4 Monterey / x86_64  OK    OK    WARNINGS    OK  UNNEEDED, same version is already published
Package 6/663HostnameOS / ArchINSTALLBUILDCHECKBUILD BIN
alabaster.bumpy 1.0.0  (landing page)
Aaron Lun
git_last_commit: da9aa0c
git_last_commit_date: 2023-04-25 11:43:01 -0400
nebbiolo1Linux (Ubuntu 22.04.2 LTS) / x86_64  OK    OK    OK  UNNEEDED, same version is already published
palomino3Windows Server 2022 Datacenter / x64  OK    OK    OK    OK  UNNEEDED, same version is already published
merida1macOS 12.6.4 Monterey / x86_64  OK    OK    OK    OK  UNNEEDED, same version is already published
Package 7/663HostnameOS / ArchINSTALLBUILDCHECKBUILD BIN
alabaster.mae 1.0.0  (landing page)
Aaron Lun
git_last_commit: acbca50
git_last_commit_date: 2023-04-25 11:43:04 -0400
nebbiolo1Linux (Ubuntu 22.04.2 LTS) / x86_64  OK    OK    OK  UNNEEDED, same version is already published
palomino3Windows Server 2022 Datacenter / x64  OK    OK    OK    OK  UNNEEDED, same version is already published
merida1macOS 12.6.4 Monterey / x86_64  OK    OK    OK    OK  UNNEEDED, same version is already published
Package 8/663HostnameOS / ArchINSTALLBUILDCHECKBUILD BIN
alabaster.ranges 1.0.0  (landing page)
Aaron Lun
git_last_commit: 45e963a
git_last_commit_date: 2023-04-25 11:42:47 -0400
nebbiolo1Linux (Ubuntu 22.04.2 LTS) / x86_64  OK    OK    OK  UNNEEDED, same version is already published
palomino3Windows Server 2022 Datacenter / x64  OK    OK    OK    OK  UNNEEDED, same version is already published
merida1macOS 12.6.4 Monterey / x86_64  OK    OK    OK    OK  UNNEEDED, same version is already published
Package 9/663HostnameOS / ArchINSTALLBUILDCHECKBUILD BIN
alabaster.se 1.0.0  (landing page)
Aaron Lun
git_last_commit: e7fc40c
git_last_commit_date: 2023-04-25 11:42:52 -0400
nebbiolo1Linux (Ubuntu 22.04.2 LTS) / x86_64  OK    OK    OK  UNNEEDED, same version is already published
palomino3Windows Server 2022 Datacenter / x64  OK    OK    OK    OK  UNNEEDED, same version is already published
merida1macOS 12.6.4 Monterey / x86_64  OK    OK    OK    OK  UNNEEDED, same version is already published
Package 10/663HostnameOS / ArchINSTALLBUILDCHECKBUILD BIN
alabaster.spatial 1.0.0  (landing page)
Aaron Lun
git_last_commit: 0a9683f
git_last_commit_date: 2023-04-25 11:42:58 -0400
nebbiolo1Linux (Ubuntu 22.04.2 LTS) / x86_64  OK    OK    OK  UNNEEDED, same version is already published
palomino3Windows Server 2022 Datacenter / x64  OK    OK    OK    OK  UNNEEDED, same version is already published
merida1macOS 12.6.4 Monterey / x86_64  OK    OK    OK    OK  UNNEEDED, same version is already published
Package 11/663HostnameOS / ArchINSTALLBUILDCHECKBUILD BIN
alabaster.vcf 1.0.0  (landing page)
Aaron Lun
git_last_commit: d4b06e5
git_last_commit_date: 2023-04-25 11:43:09 -0400
nebbiolo1Linux (Ubuntu 22.04.2 LTS) / x86_64  OK    OK    OK  UNNEEDED, same version is already published
palomino3Windows Server 2022 Datacenter / x64  OK    OK    OK    OK  UNNEEDED, same version is already published
merida1macOS 12.6.4 Monterey / x86_64  OK    OK    OK    OK  UNNEEDED, same version is already published
Package 12/663HostnameOS / ArchINSTALLBUILDCHECKBUILD BIN
ALDEx2 1.32.0  (landing page)
Greg Gloor
git_last_commit: ba32b9a
git_last_commit_date: 2023-04-25 10:34:57 -0400
nebbiolo1Linux (Ubuntu 22.04.2 LTS) / x86_64  OK    OK    WARNINGS  UNNEEDED, same version is already published
palomino3Windows Server 2022 Datacenter / x64  OK    OK    WARNINGS    OK  UNNEEDED, same version is already published
merida1macOS 12.6.4 Monterey / x86_64  OK    OK    WARNINGS    OK  UNNEEDED, same version is already published
Package 13/663HostnameOS / ArchINSTALLBUILDCHECKBUILD BIN
AllelicImbalance 1.38.0  (landing page)
Jesper R Gadin
git_last_commit: 75a3b0f
git_last_commit_date: 2023-04-25 10:28:56 -0400
nebbiolo1Linux (Ubuntu 22.04.2 LTS) / x86_64  OK    OK    OK  UNNEEDED, same version is already published
palomino3Windows Server 2022 Datacenter / x64  OK    OK    OK    OK  UNNEEDED, same version is already published
merida1macOS 12.6.4 Monterey / x86_64  OK    OK    OK    OK  UNNEEDED, same version is already published
Package 14/663HostnameOS / ArchINSTALLBUILDCHECKBUILD BIN
alpine 1.26.0  (landing page)
Michael Love
git_last_commit: 1e317db
git_last_commit_date: 2023-04-25 10:49:05 -0400
nebbiolo1Linux (Ubuntu 22.04.2 LTS) / x86_64  OK    OK    WARNINGS  UNNEEDED, same version is already published
palomino3Windows Server 2022 Datacenter / x64  OK    OK    WARNINGS    OK  UNNEEDED, same version is already published
merida1macOS 12.6.4 Monterey / x86_64  OK    OK    WARNINGS    OK  UNNEEDED, same version is already published
Package 15/663HostnameOS / ArchINSTALLBUILDCHECKBUILD BIN
altcdfenvs 2.62.0  (landing page)
Laurent Gautier
git_last_commit: aedf0e9
git_last_commit_date: 2023-04-25 09:40:05 -0400
nebbiolo1Linux (Ubuntu 22.04.2 LTS) / x86_64  OK    OK    OK  UNNEEDED, same version is already published
palomino3Windows Server 2022 Datacenter / x64  OK    OK    OK    OK  UNNEEDED, same version is already published
merida1macOS 12.6.4 Monterey / x86_64  OK    OK    OK    OK  UNNEEDED, same version is already published
Package 16/663HostnameOS / ArchINSTALLBUILDCHECKBUILD BIN
amplican 1.22.1  (landing page)
Eivind Valen
git_last_commit: 1813c32
git_last_commit_date: 2023-05-05 14:00:14 -0400
nebbiolo1Linux (Ubuntu 22.04.2 LTS) / x86_64  OK    OK    OK  UNNEEDED, same version is already published
palomino3Windows Server 2022 Datacenter / x64  OK    OK    OK    OK  UNNEEDED, same version is already published
merida1macOS 12.6.4 Monterey / x86_64  OK    OK    OK    OK  UNNEEDED, same version is already published
Package 17/663HostnameOS / ArchINSTALLBUILDCHECKBUILD BIN
ANCOMBC 2.2.0  (landing page)
Huang Lin
git_last_commit: 92b41f2
git_last_commit_date: 2023-04-25 11:22:30 -0400
nebbiolo1Linux (Ubuntu 22.04.2 LTS) / x86_64  OK    OK    OK  UNNEEDED, same version is already published
palomino3Windows Server 2022 Datacenter / x64  OK    OK    OK    OK  UNNEEDED, same version is already published
merida1macOS 12.6.4 Monterey / x86_64  OK    OK    OK    OK  NO, package depends on 'mia' which is not available
Package 18/663HostnameOS / ArchINSTALLBUILDCHECKBUILD BIN
AneuFinder 1.28.0  (landing page)
Aaron Taudt
git_last_commit: e17d810
git_last_commit_date: 2023-04-25 10:45:33 -0400
nebbiolo1Linux (Ubuntu 22.04.2 LTS) / x86_64  OK    OK    OK  UNNEEDED, same version is already published
palomino3Windows Server 2022 Datacenter / x64  OK    OK    OK    OK  UNNEEDED, same version is already published
merida1macOS 12.6.4 Monterey / x86_64  OK    OK    OK    OK  UNNEEDED, same version is already published
Package 19/663HostnameOS / ArchINSTALLBUILDCHECKBUILD BIN
animalcules 1.16.0  (landing page)
Yue Zhao
git_last_commit: e7416c0
git_last_commit_date: 2023-04-25 11:10:12 -0400
nebbiolo1Linux (Ubuntu 22.04.2 LTS) / x86_64  OK    OK    ERROR  
palomino3Windows Server 2022 Datacenter / x64  OK    OK    WARNINGS    OK  UNNEEDED, same version is already published
merida1macOS 12.6.4 Monterey / x86_64  OK    OK    WARNINGS    OK  UNNEEDED, same version is already published
Package 20/663HostnameOS / ArchINSTALLBUILDCHECKBUILD BIN
AnnotationDbi 1.62.1  (landing page)
Bioconductor Package Maintainer
git_last_commit: 21f8479
git_last_commit_date: 2023-05-01 20:20:45 -0400
nebbiolo1Linux (Ubuntu 22.04.2 LTS) / x86_64  OK    OK    WARNINGS  UNNEEDED, same version is already published
palomino3Windows Server 2022 Datacenter / x64  OK    OK    WARNINGS    OK  UNNEEDED, same version is already published
merida1macOS 12.6.4 Monterey / x86_64  OK    OK    WARNINGS    OK  UNNEEDED, same version is already published
Package 21/663HostnameOS / ArchINSTALLBUILDCHECKBUILD BIN
AnnotationForge 1.42.0  (landing page)
Bioconductor Package Maintainer
git_last_commit: 2eac005
git_last_commit_date: 2023-04-25 10:23:24 -0400
nebbiolo1Linux (Ubuntu 22.04.2 LTS) / x86_64  OK    OK    WARNINGS  UNNEEDED, same version is already published
palomino3Windows Server 2022 Datacenter / x64  OK    OK    WARNINGS    OK  UNNEEDED, same version is already published
merida1macOS 12.6.4 Monterey / x86_64  OK    OK    WARNINGS    OK  UNNEEDED, same version is already published
Package 22/663HostnameOS / ArchINSTALLBUILDCHECKBUILD BIN
AnnotationHub 3.8.0  (landing page)
Bioconductor Package Maintainer
git_last_commit: 975022d
git_last_commit_date: 2023-04-25 10:26:37 -0400
nebbiolo1Linux (Ubuntu 22.04.2 LTS) / x86_64  OK    OK    WARNINGS  UNNEEDED, same version is already published
palomino3Windows Server 2022 Datacenter / x64  OK    OK    WARNINGS    OK  UNNEEDED, same version is already published
merida1macOS 12.6.4 Monterey / x86_64  OK    OK    WARNINGS    OK  UNNEEDED, same version is already published
Package 23/663HostnameOS / ArchINSTALLBUILDCHECKBUILD BIN
AnnotationHubData 1.30.0  (landing page)
Bioconductor Package Maintainer
git_last_commit: 3cf163f
git_last_commit_date: 2023-04-25 10:41:16 -0400
nebbiolo1Linux (Ubuntu 22.04.2 LTS) / x86_64  OK    OK    WARNINGS  UNNEEDED, same version is already published
palomino3Windows Server 2022 Datacenter / x64  OK    OK    WARNINGS    OK  UNNEEDED, same version is already published
merida1macOS 12.6.4 Monterey / x86_64  OK    OK    WARNINGS    OK  UNNEEDED, same version is already published
Package 24/663HostnameOS / ArchINSTALLBUILDCHECKBUILD BIN
annotatr 1.26.0  (landing page)
Raymond G. Cavalcante
git_last_commit: 2a45d0a
git_last_commit_date: 2023-04-25 10:50:36 -0400
nebbiolo1Linux (Ubuntu 22.04.2 LTS) / x86_64  OK    OK    OK  UNNEEDED, same version is already published
palomino3Windows Server 2022 Datacenter / x64  OK    OK    OK    OK  UNNEEDED, same version is already published
merida1macOS 12.6.4 Monterey / x86_64  OK    OK    OK    OK  UNNEEDED, same version is already published
Package 25/663HostnameOS / ArchINSTALLBUILDCHECKBUILD BIN
appreci8R 1.18.0  (landing page)
Sarah Sandmann
git_last_commit: 94c9d1b
git_last_commit_date: 2023-04-25 11:02:58 -0400
nebbiolo1Linux (Ubuntu 22.04.2 LTS) / x86_64  OK    OK    WARNINGS  UNNEEDED, same version is already published
palomino3Windows Server 2022 Datacenter / x64  OK    OK    WARNINGS    OK  UNNEEDED, same version is already published
merida1macOS 12.6.4 Monterey / x86_64  OK    OK    WARNINGS    OK  UNNEEDED, same version is already published
Package 26/663HostnameOS / ArchINSTALLBUILDCHECKBUILD BIN
ASpediaFI 1.14.0  (landing page)
Doyeong Yu
git_last_commit: 00e9ece
git_last_commit_date: 2023-04-25 11:13:24 -0400
nebbiolo1Linux (Ubuntu 22.04.2 LTS) / x86_64  ERROR    ERROR  skipped
palomino3Windows Server 2022 Datacenter / x64  ERROR    ERROR  skippedskipped
merida1macOS 12.6.4 Monterey / x86_64  ERROR    ERROR  skippedskipped
Package 27/663HostnameOS / ArchINSTALLBUILDCHECKBUILD BIN
ASpli 2.10.0  (landing page)
Estefania Mancini
git_last_commit: 2686a85
git_last_commit_date: 2023-04-25 10:48:38 -0400
nebbiolo1Linux (Ubuntu 22.04.2 LTS) / x86_64  OK    OK    ERROR  
palomino3Windows Server 2022 Datacenter / x64  OK    OK    WARNINGS    OK  UNNEEDED, same version is already published
merida1macOS 12.6.4 Monterey / x86_64  OK    OK    WARNINGS    OK  UNNEEDED, same version is already published
Package 28/663HostnameOS / ArchINSTALLBUILDCHECKBUILD BIN
ASURAT 1.4.0  (landing page)
Keita Iida
git_last_commit: 425489b
git_last_commit_date: 2023-04-25 11:36:55 -0400
nebbiolo1Linux (Ubuntu 22.04.2 LTS) / x86_64  OK    OK    OK  UNNEEDED, same version is already published
palomino3Windows Server 2022 Datacenter / x64  OK    OK    OK    OK  UNNEEDED, same version is already published
merida1macOS 12.6.4 Monterey / x86_64  OK    OK    OK    OK  UNNEEDED, same version is already published
Package 29/663HostnameOS / ArchINSTALLBUILDCHECKBUILD BIN
ATACseqQC 1.24.0  (landing page)
Jianhong Ou
git_last_commit: 06d4227
git_last_commit_date: 2023-04-25 10:54:12 -0400
nebbiolo1Linux (Ubuntu 22.04.2 LTS) / x86_64  OK    OK    OK  UNNEEDED, same version is already published
palomino3Windows Server 2022 Datacenter / x64  OK    OK    OK    OK  UNNEEDED, same version is already published
merida1macOS 12.6.4 Monterey / x86_64  OK    OK    OK    OK  UNNEEDED, same version is already published
Package 30/663HostnameOS / ArchINSTALLBUILDCHECKBUILD BIN
ATACseqTFEA 1.2.0  (landing page)
Jianhong Ou
git_last_commit: 7c0aef8
git_last_commit_date: 2023-04-25 11:39:37 -0400
nebbiolo1Linux (Ubuntu 22.04.2 LTS) / x86_64  OK    OK    OK  UNNEEDED, same version is already published
palomino3Windows Server 2022 Datacenter / x64  OK    OK    OK    OK  UNNEEDED, same version is already published
merida1macOS 12.6.4 Monterey / x86_64  OK    OK    OK    OK  UNNEEDED, same version is already published
Package 31/663HostnameOS / ArchINSTALLBUILDCHECKBUILD BIN
atena 1.6.0  (landing page)
Beatriz Calvo-Serra
git_last_commit: 4053ecb
git_last_commit_date: 2023-04-25 11:32:49 -0400
nebbiolo1Linux (Ubuntu 22.04.2 LTS) / x86_64  OK    OK    OK  UNNEEDED, same version is already published
palomino3Windows Server 2022 Datacenter / x64  OK    OK    OK    OK  UNNEEDED, same version is already published
merida1macOS 12.6.4 Monterey / x86_64  OK    OK    OK    OK  UNNEEDED, same version is already published
Package 32/663HostnameOS / ArchINSTALLBUILDCHECKBUILD BIN
autonomics 1.8.0  (landing page)
Aditya Bhagwat
git_last_commit: d84d5f1
git_last_commit_date: 2023-04-25 11:27:21 -0400
nebbiolo1Linux (Ubuntu 22.04.2 LTS) / x86_64  OK    OK    WARNINGS  UNNEEDED, same version is already published
palomino3Windows Server 2022 Datacenter / x64  OK    OK    WARNINGS    OK  UNNEEDED, same version is already published
merida1macOS 12.6.4 Monterey / x86_64  OK    OK    WARNINGS    OK  UNNEEDED, same version is already published
Package 33/663HostnameOS / ArchINSTALLBUILDCHECKBUILD BIN
BadRegionFinder 1.28.0  (landing page)
Sarah Sandmann
git_last_commit: 95a67a9
git_last_commit_date: 2023-04-25 10:45:57 -0400
nebbiolo1Linux (Ubuntu 22.04.2 LTS) / x86_64  OK    OK    OK  UNNEEDED, same version is already published
palomino3Windows Server 2022 Datacenter / x64  OK    OK    OK    OK  UNNEEDED, same version is already published
merida1macOS 12.6.4 Monterey / x86_64  OK    OK    OK    OK  UNNEEDED, same version is already published
Package 34/663HostnameOS / ArchINSTALLBUILDCHECKBUILD BIN
ballgown 2.32.0  (landing page)
Jack Fu
git_last_commit: c0fc299
git_last_commit_date: 2023-04-25 10:33:25 -0400
nebbiolo1Linux (Ubuntu 22.04.2 LTS) / x86_64  OK    OK    OK  UNNEEDED, same version is already published
palomino3Windows Server 2022 Datacenter / x64  OK    OK    OK    OK  UNNEEDED, same version is already published
merida1macOS 12.6.4 Monterey / x86_64  OK    OK    OK    OK  UNNEEDED, same version is already published
Package 35/663HostnameOS / ArchINSTALLBUILDCHECKBUILD BIN
bambu 3.2.3  (landing page)
Ying Chen
git_last_commit: 85357e2
git_last_commit_date: 2023-05-18 02:03:34 -0400
nebbiolo1Linux (Ubuntu 22.04.2 LTS) / x86_64  OK    OK    OK  UNNEEDED, same version is already published
palomino3Windows Server 2022 Datacenter / x64  OK    OK    OK    OK  UNNEEDED, same version is already published
merida1macOS 12.6.4 Monterey / x86_64  OK    OK    OK    OK  UNNEEDED, same version is already published
Package 36/663HostnameOS / ArchINSTALLBUILDCHECKBUILD BIN
bandle 1.4.1  (landing page)
Oliver M. Crook
git_last_commit: 8df33a5
git_last_commit_date: 2023-05-01 20:09:04 -0400
nebbiolo1Linux (Ubuntu 22.04.2 LTS) / x86_64  OK    OK    OK  UNNEEDED, same version is already published
palomino3Windows Server 2022 Datacenter / x64  OK    OK    OK    OK  UNNEEDED, same version is already published
merida1macOS 12.6.4 Monterey / x86_64  OK    OK    OK    OK  UNNEEDED, same version is already published
Package 37/663HostnameOS / ArchINSTALLBUILDCHECKBUILD BIN
barcodetrackR 1.8.0  (landing page)
Diego Alexander Espinoza
git_last_commit: 5db9a97
git_last_commit_date: 2023-04-25 11:28:09 -0400
nebbiolo1Linux (Ubuntu 22.04.2 LTS) / x86_64  OK    OK    OK  UNNEEDED, same version is already published
palomino3Windows Server 2022 Datacenter / x64  OK    OK    OK    OK  UNNEEDED, same version is already published
merida1macOS 12.6.4 Monterey / x86_64  OK    OK    OK    OK  UNNEEDED, same version is already published
Package 38/663HostnameOS / ArchINSTALLBUILDCHECKBUILD BIN
BASiCS 2.12.1  (landing page)
Catalina Vallejos
git_last_commit: ba27ab9
git_last_commit_date: 2023-05-01 20:02:57 -0400
nebbiolo1Linux (Ubuntu 22.04.2 LTS) / x86_64  OK    OK    ERROR  
palomino3Windows Server 2022 Datacenter / x64  OK    OK    ERROR    OK  
merida1macOS 12.6.4 Monterey / x86_64  OK    OK    ERROR    OK  
Package 39/663HostnameOS / ArchINSTALLBUILDCHECKBUILD BIN
BasicSTARRseq 1.28.0  (landing page)
Annika Buerger
git_last_commit: 75bd2b1
git_last_commit_date: 2023-04-25 10:44:02 -0400
nebbiolo1Linux (Ubuntu 22.04.2 LTS) / x86_64  OK    OK    OK  UNNEEDED, same version is already published
palomino3Windows Server 2022 Datacenter / x64  OK    OK    OK    OK  UNNEEDED, same version is already published
merida1macOS 12.6.4 Monterey / x86_64  OK    OK    OK    OK  UNNEEDED, same version is already published
Package 40/663HostnameOS / ArchINSTALLBUILDCHECKBUILD BIN
batchelor 1.16.0  (landing page)
Aaron Lun
git_last_commit: 8ecc91e
git_last_commit_date: 2023-04-25 11:09:01 -0400
nebbiolo1Linux (Ubuntu 22.04.2 LTS) / x86_64  OK    OK    ERROR  
palomino3Windows Server 2022 Datacenter / x64  OK    OK    ERROR    OK  
merida1macOS 12.6.4 Monterey / x86_64  OK    OK    ERROR    OK  
Package 41/663HostnameOS / ArchINSTALLBUILDCHECKBUILD BIN
BayesSpace 1.10.1  (landing page)
Matt Stone
git_last_commit: 8af698b
git_last_commit_date: 2023-05-01 20:03:51 -0400
nebbiolo1Linux (Ubuntu 22.04.2 LTS) / x86_64  OK    OK    OK  UNNEEDED, same version is already published
palomino3Windows Server 2022 Datacenter / x64  OK    OK    OK    OK  UNNEEDED, same version is already published
merida1macOS 12.6.4 Monterey / x86_64  OK    OK    OK    OK  NO, package depends on 'scater' which is not available
Package 42/663HostnameOS / ArchINSTALLBUILDCHECKBUILD BIN
BindingSiteFinder 1.6.0  (landing page)
Mirko Brüggemann
git_last_commit: 90784d9
git_last_commit_date: 2023-04-25 11:31:28 -0400
nebbiolo1Linux (Ubuntu 22.04.2 LTS) / x86_64  OK    OK    OK  UNNEEDED, same version is already published
palomino3Windows Server 2022 Datacenter / x64  OK    OK    OK    OK  UNNEEDED, same version is already published
merida1macOS 12.6.4 Monterey / x86_64  OK    OK    OK    OK  UNNEEDED, same version is already published
Package 43/663HostnameOS / ArchINSTALLBUILDCHECKBUILD BIN
BiocHubsShiny 1.0.0  (landing page)
Marcel Ramos
git_last_commit: 762fd05
git_last_commit_date: 2023-04-25 11:42:30 -0400
nebbiolo1Linux (Ubuntu 22.04.2 LTS) / x86_64  OK    OK    OK  UNNEEDED, same version is already published
palomino3Windows Server 2022 Datacenter / x64  OK    OK    OK    OK  UNNEEDED, same version is already published
merida1macOS 12.6.4 Monterey / x86_64  OK    OK    OK    OK  UNNEEDED, same version is already published
Package 44/663HostnameOS / ArchINSTALLBUILDCHECKBUILD BIN
BiocIO 1.10.0  (landing page)
Marcel Ramos
git_last_commit: 1368ff1
git_last_commit_date: 2023-04-25 11:21:59 -0400
nebbiolo1Linux (Ubuntu 22.04.2 LTS) / x86_64  OK    OK    OK  UNNEEDED, same version is already published
palomino3Windows Server 2022 Datacenter / x64  OK    OK    OK    OK  UNNEEDED, same version is already published
merida1macOS 12.6.4 Monterey / x86_64  OK    OK    OK    OK  UNNEEDED, same version is already published
Package 45/663HostnameOS / ArchINSTALLBUILDCHECKBUILD BIN
BiocNeighbors 1.18.0  (landing page)
Aaron Lun
git_last_commit: 4b19ef2
git_last_commit_date: 2023-04-25 11:02:50 -0400
nebbiolo1Linux (Ubuntu 22.04.2 LTS) / x86_64  OK    OK    WARNINGS  UNNEEDED, same version is already published
palomino3Windows Server 2022 Datacenter / x64  OK    OK    WARNINGS    OK  UNNEEDED, same version is already published
merida1macOS 12.6.4 Monterey / x86_64  OK    OK    WARNINGS    OK  UNNEEDED, same version is already published
Package 46/663HostnameOS / ArchINSTALLBUILDCHECKBUILD BIN
BiocOncoTK 1.20.0  (landing page)
VJ Carey
git_last_commit: ceb097d
git_last_commit_date: 2023-04-25 11:01:44 -0400
nebbiolo1Linux (Ubuntu 22.04.2 LTS) / x86_64  OK    OK    OK  UNNEEDED, same version is already published
palomino3Windows Server 2022 Datacenter / x64  OK    OK    OK    OK  UNNEEDED, same version is already published
merida1macOS 12.6.4 Monterey / x86_64  OK    OK    OK    OK  UNNEEDED, same version is already published
Package 47/663HostnameOS / ArchINSTALLBUILDCHECKBUILD BIN
BiocSet 1.14.0  (landing page)
Kayla Morrell
git_last_commit: 6254b15
git_last_commit_date: 2023-04-25 11:14:15 -0400
nebbiolo1Linux (Ubuntu 22.04.2 LTS) / x86_64  OK    OK    OK  UNNEEDED, same version is already published
palomino3Windows Server 2022 Datacenter / x64  OK    OK    OK    OK  UNNEEDED, same version is already published
merida1macOS 12.6.4 Monterey / x86_64  OK    OK    OK    OK  UNNEEDED, same version is already published
Package 48/663HostnameOS / ArchINSTALLBUILDCHECKBUILD BIN
BiocSingular 1.16.0  (landing page)
Aaron Lun
git_last_commit: 0db9a69
git_last_commit_date: 2023-04-25 11:08:01 -0400
nebbiolo1Linux (Ubuntu 22.04.2 LTS) / x86_64  OK    OK    WARNINGS  UNNEEDED, same version is already published
palomino3Windows Server 2022 Datacenter / x64  OK    OK    WARNINGS    OK  UNNEEDED, same version is already published
merida1macOS 12.6.4 Monterey / x86_64  OK    OK    WARNINGS    OK  UNNEEDED, same version is already published
Package 49/663HostnameOS / ArchINSTALLBUILDCHECKBUILD BIN
Biostrings 2.68.1  (landing page)
Hervé Pagès
git_last_commit: cfbb402
git_last_commit_date: 2023-05-16 00:34:25 -0400
nebbiolo1Linux (Ubuntu 22.04.2 LTS) / x86_64  OK    OK    WARNINGS  UNNEEDED, same version is already published
palomino3Windows Server 2022 Datacenter / x64  OK    OK    WARNINGS    OK  UNNEEDED, same version is already published
merida1macOS 12.6.4 Monterey / x86_64  OK    OK    WARNINGS    OK  UNNEEDED, same version is already published
Package 50/663HostnameOS / ArchINSTALLBUILDCHECKBUILD BIN
biotmle 1.24.0  (landing page)
Nima Hejazi
git_last_commit: fa7600c
git_last_commit_date: 2023-04-25 10:53:53 -0400
nebbiolo1Linux (Ubuntu 22.04.2 LTS) / x86_64  OK    OK    OK  UNNEEDED, same version is already published
palomino3Windows Server 2022 Datacenter / x64  OK    OK    OK    OK  UNNEEDED, same version is already published
merida1macOS 12.6.4 Monterey / x86_64  OK    OK    OK    OK  UNNEEDED, same version is already published
Package 51/663HostnameOS / ArchINSTALLBUILDCHECKBUILD BIN
biovizBase 1.48.0  (landing page)
Michael Lawrence
git_last_commit: 534db77
git_last_commit_date: 2023-04-25 10:21:06 -0400
nebbiolo1Linux (Ubuntu 22.04.2 LTS) / x86_64  OK    OK    WARNINGS  UNNEEDED, same version is already published
palomino3Windows Server 2022 Datacenter / x64  OK    OK    WARNINGS    OK  UNNEEDED, same version is already published
merida1macOS 12.6.4 Monterey / x86_64  OK    OK    WARNINGS    OK  UNNEEDED, same version is already published
Package 52/663HostnameOS / ArchINSTALLBUILDCHECKBUILD BIN
biscuiteer 1.14.0  (landing page)
Jacob Morrison
git_last_commit: 94ce421
git_last_commit_date: 2023-04-25 11:13:36 -0400
nebbiolo1Linux (Ubuntu 22.04.2 LTS) / x86_64  OK    OK    WARNINGS  UNNEEDED, same version is already published
palomino3Windows Server 2022 Datacenter / x64  OK    OK    WARNINGS    OK  UNNEEDED, same version is already published
merida1macOS 12.6.4 Monterey / x86_64  OK    OK    WARNINGS    OK  UNNEEDED, same version is already published
Package 53/663HostnameOS / ArchINSTALLBUILDCHECKBUILD BIN
BiSeq 1.40.0  (landing page)
Katja Hebestreit
git_last_commit: 9e686d0
git_last_commit_date: 2023-04-25 10:26:59 -0400
nebbiolo1Linux (Ubuntu 22.04.2 LTS) / x86_64  OK    OK    OK  UNNEEDED, same version is already published
palomino3Windows Server 2022 Datacenter / x64  OK    OK    OK    OK  UNNEEDED, same version is already published
merida1macOS 12.6.4 Monterey / x86_64  OK    OK    OK    OK  UNNEEDED, same version is already published
Package 54/663HostnameOS / ArchINSTALLBUILDCHECKBUILD BIN
bluster 1.10.0  (landing page)
Aaron Lun
git_last_commit: 3234042
git_last_commit_date: 2023-04-25 11:20:36 -0400
nebbiolo1Linux (Ubuntu 22.04.2 LTS) / x86_64  OK    OK    OK  UNNEEDED, same version is already published
palomino3Windows Server 2022 Datacenter / x64  OK    OK    OK    OK  UNNEEDED, same version is already published
merida1macOS 12.6.4 Monterey / x86_64  OK    OK    OK    OK  UNNEEDED, same version is already published
Package 55/663HostnameOS / ArchINSTALLBUILDCHECKBUILD BIN
bnbc 1.22.0  (landing page)
Kipper Fletez-Brant
git_last_commit: 4afeeae
git_last_commit_date: 2023-04-25 10:57:18 -0400
nebbiolo1Linux (Ubuntu 22.04.2 LTS) / x86_64  OK    OK    WARNINGS  UNNEEDED, same version is already published
palomino3Windows Server 2022 Datacenter / x64  OK    OK    WARNINGS    OK  UNNEEDED, same version is already published
merida1macOS 12.6.4 Monterey / x86_64  OK    OK    WARNINGS    OK  UNNEEDED, same version is already published
Package 56/663HostnameOS / ArchINSTALLBUILDCHECKBUILD BIN
BPRMeth 1.26.1  (landing page)
Chantriolnt-Andreas Kapourani
git_last_commit: 4130c6f
git_last_commit_date: 2023-05-01 20:03:01 -0400
nebbiolo1Linux (Ubuntu 22.04.2 LTS) / x86_64  OK    OK    OK  UNNEEDED, same version is already published
palomino3Windows Server 2022 Datacenter / x64  OK    OK    OK    OK  UNNEEDED, same version is already published
merida1macOS 12.6.4 Monterey / x86_64  OK    OK    OK    OK  UNNEEDED, same version is already published
Package 57/663HostnameOS / ArchINSTALLBUILDCHECKBUILD BIN
branchpointer 1.26.0  (landing page)
Beth Signal
git_last_commit: 2c21581
git_last_commit_date: 2023-04-25 10:52:58 -0400
nebbiolo1Linux (Ubuntu 22.04.2 LTS) / x86_64  OK    OK    OK  UNNEEDED, same version is already published
palomino3Windows Server 2022 Datacenter / x64  OK    OK    OK    OK  UNNEEDED, same version is already published
merida1macOS 12.6.4 Monterey / x86_64  OK    OK    OK    OK  UNNEEDED, same version is already published
Package 58/663HostnameOS / ArchINSTALLBUILDCHECKBUILD BIN
breakpointR 1.18.0  (landing page)
David Porubsky
git_last_commit: a649748
git_last_commit_date: 2023-04-25 11:04:34 -0400
nebbiolo1Linux (Ubuntu 22.04.2 LTS) / x86_64  OK    OK    OK  UNNEEDED, same version is already published
palomino3Windows Server 2022 Datacenter / x64  OK    OK    OK    OK  UNNEEDED, same version is already published
merida1macOS 12.6.4 Monterey / x86_64  OK    OK    OK    OK  UNNEEDED, same version is already published
Package 59/663HostnameOS / ArchINSTALLBUILDCHECKBUILD BIN
BRGenomics 1.12.0  (landing page)
Mike DeBerardine
git_last_commit: f73b855
git_last_commit_date: 2023-04-25 13:08:10 -0400
nebbiolo1Linux (Ubuntu 22.04.2 LTS) / x86_64  OK    OK    OK  UNNEEDED, same version is already published
palomino3Windows Server 2022 Datacenter / x64  OK    OK    OK    OK  UNNEEDED, same version is already published
merida1macOS 12.6.4 Monterey / x86_64  OK    OK    OK    OK  UNNEEDED, same version is already published
Package 60/663HostnameOS / ArchINSTALLBUILDCHECKBUILD BIN
BSgenome 1.68.0  (landing page)
Hervé Pagès
git_last_commit: c546020
git_last_commit_date: 2023-04-25 09:43:43 -0400
nebbiolo1Linux (Ubuntu 22.04.2 LTS) / x86_64  OK    OK    WARNINGS  UNNEEDED, same version is already published
palomino3Windows Server 2022 Datacenter / x64  OK    OK    WARNINGS    OK  UNNEEDED, same version is already published
merida1macOS 12.6.4 Monterey / x86_64  OK    OK    WARNINGS    OK  UNNEEDED, same version is already published
Package 61/663HostnameOS / ArchINSTALLBUILDCHECKBUILD BIN
BSgenomeForge 1.0.0  (landing page)
Hervé Pagès
git_last_commit: 21b3f25
git_last_commit_date: 2023-04-25 11:43:56 -0400
nebbiolo1Linux (Ubuntu 22.04.2 LTS) / x86_64  OK    OK    OK  UNNEEDED, same version is already published
palomino3Windows Server 2022 Datacenter / x64  OK    OK    ERROR    OK  
merida1macOS 12.6.4 Monterey / x86_64  OK    OK    OK    OK  UNNEEDED, same version is already published
Package 62/663HostnameOS / ArchINSTALLBUILDCHECKBUILD BIN
bsseq 1.36.0  (landing page)
Kasper Daniel Hansen
git_last_commit: 5dd72c5
git_last_commit_date: 2023-04-25 10:23:31 -0400
nebbiolo1Linux (Ubuntu 22.04.2 LTS) / x86_64  OK    OK    OK  UNNEEDED, same version is already published
palomino3Windows Server 2022 Datacenter / x64  OK    OK    OK    OK  UNNEEDED, same version is already published
merida1macOS 12.6.4 Monterey / x86_64  OK    OK    OK    OK  UNNEEDED, same version is already published
Package 63/663HostnameOS / ArchINSTALLBUILDCHECKBUILD BIN
bumphunter 1.42.0  (landing page)
Tamilselvi Guharaj
git_last_commit: 0eb2808
git_last_commit_date: 2023-04-25 10:24:57 -0400
nebbiolo1Linux (Ubuntu 22.04.2 LTS) / x86_64  OK    OK    OK  UNNEEDED, same version is already published
palomino3Windows Server 2022 Datacenter / x64  OK    OK    OK    OK  UNNEEDED, same version is already published
merida1macOS 12.6.4 Monterey / x86_64  OK    OK    OK    OK  UNNEEDED, same version is already published
Package 64/663HostnameOS / ArchINSTALLBUILDCHECKBUILD BIN
BumpyMatrix 1.8.0  (landing page)
Aaron Lun
git_last_commit: dd6b4f7
git_last_commit_date: 2023-04-25 11:25:52 -0400
nebbiolo1Linux (Ubuntu 22.04.2 LTS) / x86_64  OK    OK    OK  UNNEEDED, same version is already published
palomino3Windows Server 2022 Datacenter / x64  OK    OK    OK    OK  UNNEEDED, same version is already published
merida1macOS 12.6.4 Monterey / x86_64  OK    OK    OK    OK  UNNEEDED, same version is already published
Package 65/663HostnameOS / ArchINSTALLBUILDCHECKBUILD BIN
BUSpaRse 1.14.1  (landing page)
Lambda Moses
git_last_commit: 3eac292
git_last_commit_date: 2023-05-01 20:03:03 -0400
nebbiolo1Linux (Ubuntu 22.04.2 LTS) / x86_64  OK    OK    OK  UNNEEDED, same version is already published
palomino3Windows Server 2022 Datacenter / x64  OK    OK    OK    OK  UNNEEDED, same version is already published
merida1macOS 12.6.4 Monterey / x86_64  OK    OK    OK    OK  UNNEEDED, same version is already published
Package 66/663HostnameOS / ArchINSTALLBUILDCHECKBUILD BIN
BUSseq 1.6.1  (landing page)
Fangda Song
git_last_commit: b1dc7d3
git_last_commit_date: 2023-05-01 20:03:04 -0400
nebbiolo1Linux (Ubuntu 22.04.2 LTS) / x86_64  OK    OK    OK  UNNEEDED, same version is already published
palomino3Windows Server 2022 Datacenter / x64  OK    OK    OK    OK  UNNEEDED, same version is already published
merida1macOS 12.6.4 Monterey / x86_64  OK    OK    OK    OK  UNNEEDED, same version is already published
Package 67/663HostnameOS / ArchINSTALLBUILDCHECKBUILD BIN
CAGEfightR 1.20.0  (landing page)
Malte Thodberg
git_last_commit: 280ea89
git_last_commit_date: 2023-04-25 11:01:52 -0400
nebbiolo1Linux (Ubuntu 22.04.2 LTS) / x86_64  OK    OK    OK  UNNEEDED, same version is already published
palomino3Windows Server 2022 Datacenter / x64  OK    OK    OK    OK  UNNEEDED, same version is already published
merida1macOS 12.6.4 Monterey / x86_64  OK    OK    OK    OK  UNNEEDED, same version is already published
Package 68/663HostnameOS / ArchINSTALLBUILDCHECKBUILD BIN
CAGEr 2.6.0  (landing page)
Charles Plessy
git_last_commit: b4cd944
git_last_commit_date: 2023-04-25 10:25:53 -0400
nebbiolo1Linux (Ubuntu 22.04.2 LTS) / x86_64  OK    OK    OK  UNNEEDED, same version is already published
palomino3Windows Server 2022 Datacenter / x64  OK    OK    OK    OK  UNNEEDED, same version is already published
merida1macOS 12.6.4 Monterey / x86_64  OK    OK    OK    OK  UNNEEDED, same version is already published
Package 69/663HostnameOS / ArchINSTALLBUILDCHECKBUILD BIN
cardelino 1.2.0  (landing page)
Davis McCarthy
git_last_commit: ec1afd9
git_last_commit_date: 2023-04-25 11:40:59 -0400
nebbiolo1Linux (Ubuntu 22.04.2 LTS) / x86_64  OK    OK    OK  UNNEEDED, same version is already published
palomino3Windows Server 2022 Datacenter / x64  OK    OK    OK    OK  UNNEEDED, same version is already published
merida1macOS 12.6.4 Monterey / x86_64  OK    OK    OK    OK  UNNEEDED, same version is already published
Package 70/663HostnameOS / ArchINSTALLBUILDCHECKBUILD BIN
Cardinal 3.2.1  (landing page)
Kylie A. Bemis
git_last_commit: c16ca40
git_last_commit_date: 2023-05-02 20:47:36 -0400
nebbiolo1Linux (Ubuntu 22.04.2 LTS) / x86_64  OK    OK    OK  UNNEEDED, same version is already published
palomino3Windows Server 2022 Datacenter / x64  OK    OK    OK    OK  UNNEEDED, same version is already published
merida1macOS 12.6.4 Monterey / x86_64  OK    OK    OK    OK  UNNEEDED, same version is already published
Package 71/663HostnameOS / ArchINSTALLBUILDCHECKBUILD BIN
casper 2.34.0  (landing page)
David Rossell
git_last_commit: e05e2dd
git_last_commit_date: 2023-04-25 10:25:19 -0400
nebbiolo1Linux (Ubuntu 22.04.2 LTS) / x86_64  OK    OK    OK  UNNEEDED, same version is already published
palomino3Windows Server 2022 Datacenter / x64  OK    OK    WARNINGS    OK  UNNEEDED, same version is already published
merida1macOS 12.6.4 Monterey / x86_64  OK    ERROR  skippedskipped
Package 72/663HostnameOS / ArchINSTALLBUILDCHECKBUILD BIN
CATALYST 1.24.0  (landing page)
Helena L. Crowell
git_last_commit: f3e294e
git_last_commit_date: 2023-04-25 10:53:40 -0400
nebbiolo1Linux (Ubuntu 22.04.2 LTS) / x86_64  OK    OK    ERROR  
palomino3Windows Server 2022 Datacenter / x64  OK    OK    ERROR    OK  
merida1macOS 12.6.4 Monterey / x86_64  OK    OK    ERROR    OK  
Package 73/663HostnameOS / ArchINSTALLBUILDCHECKBUILD BIN
cBioPortalData 2.12.0  (landing page)
Marcel Ramos
git_last_commit: 13c35fc
git_last_commit_date: 2023-04-25 11:18:25 -0400
nebbiolo1Linux (Ubuntu 22.04.2 LTS) / x86_64  OK    OK    OK  UNNEEDED, same version is already published
palomino3Windows Server 2022 Datacenter / x64  OK    OK    OK    OK  UNNEEDED, same version is already published
merida1macOS 12.6.4 Monterey / x86_64  OK    OK    OK    OK  UNNEEDED, same version is already published
Package 74/663HostnameOS / ArchINSTALLBUILDCHECKBUILD BIN
ccfindR 1.20.0  (landing page)
Jun Woo
git_last_commit: c1a021b
git_last_commit_date: 2023-04-25 11:01:32 -0400
nebbiolo1Linux (Ubuntu 22.04.2 LTS) / x86_64  OK    OK    OK  UNNEEDED, same version is already published
palomino3Windows Server 2022 Datacenter / x64  OK    OK    OK    OK  UNNEEDED, same version is already published
merida1macOS 12.6.4 Monterey / x86_64  ERROR    ERROR  skippedskipped
Package 75/663HostnameOS / ArchINSTALLBUILDCHECKBUILD BIN
celaref 1.18.0  (landing page)
Sarah Williams
git_last_commit: 0ef9783
git_last_commit_date: 2023-04-25 11:03:35 -0400
nebbiolo1Linux (Ubuntu 22.04.2 LTS) / x86_64  OK    OK    OK  UNNEEDED, same version is already published
palomino3Windows Server 2022 Datacenter / x64  OK    OK    OK    OK  UNNEEDED, same version is already published
merida1macOS 12.6.4 Monterey / x86_64  OK    OK    OK    OK  UNNEEDED, same version is already published
Package 76/663HostnameOS / ArchINSTALLBUILDCHECKBUILD BIN
celda 1.16.1  (landing page)
Joshua Campbell
git_last_commit: 8170a89
git_last_commit_date: 2023-05-01 20:09:33 -0400
nebbiolo1Linux (Ubuntu 22.04.2 LTS) / x86_64  OK    OK    OK  UNNEEDED, same version is already published
palomino3Windows Server 2022 Datacenter / x64  OK    OK    OK    OK  UNNEEDED, same version is already published
merida1macOS 12.6.4 Monterey / x86_64  OK    OK    OK    OK  NO, package depends on 'scater' which is not available
Package 77/663HostnameOS / ArchINSTALLBUILDCHECKBUILD BIN
CellaRepertorium 1.10.0  (landing page)
Andrew McDavid
git_last_commit: 5f95462
git_last_commit_date: 2023-04-25 11:24:34 -0400
nebbiolo1Linux (Ubuntu 22.04.2 LTS) / x86_64  OK    OK    WARNINGS  UNNEEDED, same version is already published
palomino3Windows Server 2022 Datacenter / x64  OK    OK    OK    OK  UNNEEDED, same version is already published
merida1macOS 12.6.4 Monterey / x86_64  OK    OK    WARNINGS    OK  UNNEEDED, same version is already published
Package 78/663HostnameOS / ArchINSTALLBUILDCHECKBUILD BIN
CellBarcode 1.6.0  (landing page)
Wenjie Sun
git_last_commit: 53dc39e
git_last_commit_date: 2023-04-25 11:34:35 -0400
nebbiolo1Linux (Ubuntu 22.04.2 LTS) / x86_64  OK    OK    OK  UNNEEDED, same version is already published
palomino3Windows Server 2022 Datacenter / x64  OK    OK    OK    OK  UNNEEDED, same version is already published
merida1macOS 12.6.4 Monterey / x86_64  OK    OK    OK    OK  UNNEEDED, same version is already published
Package 79/663HostnameOS / ArchINSTALLBUILDCHECKBUILD BIN
CellMapper 1.26.0  (landing page)
Brad Nelms
git_last_commit: f931892
git_last_commit_date: 2023-04-25 10:48:48 -0400
nebbiolo1Linux (Ubuntu 22.04.2 LTS) / x86_64  OK    OK    WARNINGS  UNNEEDED, same version is already published
palomino3Windows Server 2022 Datacenter / x64  OK    OK    WARNINGS    OK  UNNEEDED, same version is already published
merida1macOS 12.6.4 Monterey / x86_64  OK    OK    WARNINGS    OK  UNNEEDED, same version is already published
Package 80/663HostnameOS / ArchINSTALLBUILDCHECKBUILD BIN
censcyt 1.8.0  (landing page)
Reto Gerber
git_last_commit: 920e2a9
git_last_commit_date: 2023-04-25 11:25:31 -0400
nebbiolo1Linux (Ubuntu 22.04.2 LTS) / x86_64  OK    OK    OK  UNNEEDED, same version is already published
palomino3Windows Server 2022 Datacenter / x64  OK    OK    OK    OK  UNNEEDED, same version is already published
merida1macOS 12.6.4 Monterey / x86_64  OK    OK    OK    OK  UNNEEDED, same version is already published
Package 81/663HostnameOS / ArchINSTALLBUILDCHECKBUILD BIN
Cepo 1.6.0  (landing page)
Hani Jieun Kim
git_last_commit: 7588d12
git_last_commit_date: 2023-04-25 11:34:10 -0400
nebbiolo1Linux (Ubuntu 22.04.2 LTS) / x86_64  OK    OK    WARNINGS  UNNEEDED, same version is already published
palomino3Windows Server 2022 Datacenter / x64  OK    OK    WARNINGS    OK  UNNEEDED, same version is already published
merida1macOS 12.6.4 Monterey / x86_64  OK    OK    WARNINGS    OK  UNNEEDED, same version is already published
Package 82/663HostnameOS / ArchINSTALLBUILDCHECKBUILD BIN
CeTF 1.12.0  (landing page)
Carlos Alberto Oliveira de Biagi Junior
git_last_commit: f64ddb7
git_last_commit_date: 2023-04-25 11:14:38 -0400
nebbiolo1Linux (Ubuntu 22.04.2 LTS) / x86_64  OK    OK    OK  UNNEEDED, same version is already published
palomino3Windows Server 2022 Datacenter / x64  OK    OK    OK    OK  UNNEEDED, same version is already published
merida1macOS 12.6.4 Monterey / x86_64  OK    OK    OK    OK  UNNEEDED, same version is already published
Package 83/663HostnameOS / ArchINSTALLBUILDCHECKBUILD BIN
CexoR 1.38.0  (landing page)
Pedro Madrigal
git_last_commit: 91978b2
git_last_commit_date: 2023-04-25 11:33:13 -0400
nebbiolo1Linux (Ubuntu 22.04.2 LTS) / x86_64  OK    OK    OK  UNNEEDED, same version is already published
palomino3Windows Server 2022 Datacenter / x64  OK    OK    OK    OK  UNNEEDED, same version is already published
merida1macOS 12.6.4 Monterey / x86_64  OK    OK    OK    OK  UNNEEDED, same version is already published
Package 84/663HostnameOS / ArchINSTALLBUILDCHECKBUILD BIN
CHETAH 1.16.0  (landing page)
Jurrian de Kanter
git_last_commit: f6fc936
git_last_commit_date: 2023-04-25 11:39:10 -0400
nebbiolo1Linux (Ubuntu 22.04.2 LTS) / x86_64  OK    OK    OK  UNNEEDED, same version is already published
palomino3Windows Server 2022 Datacenter / x64  OK    OK    OK    OK  UNNEEDED, same version is already published
merida1macOS 12.6.4 Monterey / x86_64  OK    OK    OK    OK  UNNEEDED, same version is already published
Package 85/663HostnameOS / ArchINSTALLBUILDCHECKBUILD BIN
ChIC 1.20.0  (landing page)
Carmen Maria Livi
git_last_commit: 601181f
git_last_commit_date: 2023-04-25 11:01:05 -0400
nebbiolo1Linux (Ubuntu 22.04.2 LTS) / x86_64  ERROR    ERROR  skipped
palomino3Windows Server 2022 Datacenter / x64... NOT SUPPORTED ...
merida1macOS 12.6.4 Monterey / x86_64  ERROR    ERROR  skippedskipped
Package 86/663HostnameOS / ArchINSTALLBUILDCHECKBUILD BIN
chimeraviz 1.26.0  (landing page)
Stian Lågstad
git_last_commit: 9ce5919
git_last_commit_date: 2023-04-25 10:51:20 -0400
nebbiolo1Linux (Ubuntu 22.04.2 LTS) / x86_64  OK    OK    OK  UNNEEDED, same version is already published
palomino3Windows Server 2022 Datacenter / x64  OK    OK    OK    OK  UNNEEDED, same version is already published
merida1macOS 12.6.4 Monterey / x86_64  OK    OK    OK    OK  UNNEEDED, same version is already published
Package 87/663HostnameOS / ArchINSTALLBUILDCHECKBUILD BIN
ChIPanalyser 1.22.0  (landing page)
Patrick C.N. Martin
git_last_commit: 1c0e60b
git_last_commit_date: 2023-04-25 10:56:14 -0400
nebbiolo1Linux (Ubuntu 22.04.2 LTS) / x86_64  OK    OK    OK  UNNEEDED, same version is already published
palomino3Windows Server 2022 Datacenter / x64  OK    OK    OK    OK  UNNEEDED, same version is already published
merida1macOS 12.6.4 Monterey / x86_64  OK    OK    OK    OK  UNNEEDED, same version is already published
Package 88/663HostnameOS / ArchINSTALLBUILDCHECKBUILD BIN
ChIPComp 1.30.0  (landing page)
Li Chen
git_last_commit: 2305fe2
git_last_commit_date: 2023-04-25 10:41:03 -0400
nebbiolo1Linux (Ubuntu 22.04.2 LTS) / x86_64  OK    OK    OK  UNNEEDED, same version is already published
palomino3Windows Server 2022 Datacenter / x64  OK    OK    OK    OK  UNNEEDED, same version is already published
merida1macOS 12.6.4 Monterey / x86_64  OK    OK    OK    OK  UNNEEDED, same version is already published
Package 89/663HostnameOS / ArchINSTALLBUILDCHECKBUILD BIN
chipenrich 2.24.0  (landing page)
Kai Wang
git_last_commit: 4f411dc
git_last_commit_date: 2023-04-25 10:28:35 -0400
nebbiolo1Linux (Ubuntu 22.04.2 LTS) / x86_64  OK    OK    OK  UNNEEDED, same version is already published
palomino3Windows Server 2022 Datacenter / x64  OK    OK    OK    OK  UNNEEDED, same version is already published
merida1macOS 12.6.4 Monterey / x86_64  OK    OK    OK    OK  UNNEEDED, same version is already published
Package 90/663HostnameOS / ArchINSTALLBUILDCHECKBUILD BIN
ChIPexoQual 1.24.0  (landing page)
Rene Welch
git_last_commit: a96537e
git_last_commit_date: 2023-04-25 10:52:01 -0400
nebbiolo1Linux (Ubuntu 22.04.2 LTS) / x86_64  OK    OK    OK  UNNEEDED, same version is already published
palomino3Windows Server 2022 Datacenter / x64  OK    OK    OK    OK  UNNEEDED, same version is already published
merida1macOS 12.6.4 Monterey / x86_64  OK    OK    OK    OK  UNNEEDED, same version is already published
Package 91/663HostnameOS / ArchINSTALLBUILDCHECKBUILD BIN
ChIPpeakAnno 3.34.1  (landing page)
Jianhong Ou
git_last_commit: 1a47186
git_last_commit_date: 2023-04-26 18:52:20 -0400
nebbiolo1Linux (Ubuntu 22.04.2 LTS) / x86_64  OK    OK    OK  UNNEEDED, same version is already published
palomino3Windows Server 2022 Datacenter / x64  OK    OK    OK    OK  UNNEEDED, same version is already published
merida1macOS 12.6.4 Monterey / x86_64  OK    OK    OK    OK  UNNEEDED, same version is already published
Package 92/663HostnameOS / ArchINSTALLBUILDCHECKBUILD BIN
ChIPQC 1.36.0  (landing page)
Tom Carroll , Rory Stark
git_last_commit: a603854
git_last_commit_date: 2023-04-25 10:31:18 -0400
nebbiolo1Linux (Ubuntu 22.04.2 LTS) / x86_64  OK    OK    WARNINGS  UNNEEDED, same version is already published
palomino3Windows Server 2022 Datacenter / x64  OK    OK    WARNINGS    OK  UNNEEDED, same version is already published
merida1macOS 12.6.4 Monterey / x86_64  OK    OK    WARNINGS    OK  UNNEEDED, same version is already published
Package 93/663HostnameOS / ArchINSTALLBUILDCHECKBUILD BIN
ChIPseeker 1.36.0  (landing page)
Guangchuang Yu
git_last_commit: 3179a1f
git_last_commit_date: 2023-04-25 10:32:01 -0400
nebbiolo1Linux (Ubuntu 22.04.2 LTS) / x86_64  OK    OK    OK  UNNEEDED, same version is already published
palomino3Windows Server 2022 Datacenter / x64  OK    OK    OK    OK  UNNEEDED, same version is already published
merida1macOS 12.6.4 Monterey / x86_64  OK    OK    TIMEOUT    OK  
Package 94/663HostnameOS / ArchINSTALLBUILDCHECKBUILD BIN
chipseq 1.50.0  (landing page)
Bioconductor Package Maintainer
git_last_commit: 0bdfa25
git_last_commit_date: 2023-04-25 09:48:54 -0400
nebbiolo1Linux (Ubuntu 22.04.2 LTS) / x86_64  OK    OK    WARNINGS  UNNEEDED, same version is already published
palomino3Windows Server 2022 Datacenter / x64  OK    OK    WARNINGS    OK  UNNEEDED, same version is already published
merida1macOS 12.6.4 Monterey / x86_64  OK    OK    WARNINGS    OK  UNNEEDED, same version is already published
Package 95/663HostnameOS / ArchINSTALLBUILDCHECKBUILD BIN
ChIPseqR 1.54.0  (landing page)
Peter Humburg
git_last_commit: 2a7eaf4
git_last_commit_date: 2023-04-25 09:49:43 -0400
nebbiolo1Linux (Ubuntu 22.04.2 LTS) / x86_64  OK    OK    OK  UNNEEDED, same version is already published
palomino3Windows Server 2022 Datacenter / x64  OK    OK    OK    OK  UNNEEDED, same version is already published
merida1macOS 12.6.4 Monterey / x86_64  OK    OK    OK    OK  UNNEEDED, same version is already published
Package 96/663HostnameOS / ArchINSTALLBUILDCHECKBUILD BIN
ChromSCape 1.10.0  (landing page)
Pacome Prompsy
git_last_commit: 541e6b7
git_last_commit_date: 2023-04-25 11:23:20 -0400
nebbiolo1Linux (Ubuntu 22.04.2 LTS) / x86_64  OK    OK    WARNINGS  UNNEEDED, same version is already published
palomino3Windows Server 2022 Datacenter / x64  OK    OK    WARNINGS    OK  UNNEEDED, same version is already published
merida1macOS 12.6.4 Monterey / x86_64  OK    OK    WARNINGS    OK  NO, package depends on 'scater' which is not available
Package 97/663HostnameOS / ArchINSTALLBUILDCHECKBUILD BIN
chromstaR 1.26.0  (landing page)
Aaron Taudt
git_last_commit: 92f4418
git_last_commit_date: 2023-04-25 10:47:44 -0400
nebbiolo1Linux (Ubuntu 22.04.2 LTS) / x86_64  OK    OK    OK  UNNEEDED, same version is already published
palomino3Windows Server 2022 Datacenter / x64  OK    OK    OK    OK  UNNEEDED, same version is already published
merida1macOS 12.6.4 Monterey / x86_64  OK    OK    OK    OK  UNNEEDED, same version is already published
Package 98/663HostnameOS / ArchINSTALLBUILDCHECKBUILD BIN
chromswitch 1.22.0  (landing page)
Selin Jessa
git_last_commit: 23de3f7
git_last_commit_date: 2023-04-25 10:57:57 -0400
nebbiolo1Linux (Ubuntu 22.04.2 LTS) / x86_64  OK    OK    WARNINGS  UNNEEDED, same version is already published
palomino3Windows Server 2022 Datacenter / x64  OK    OK    WARNINGS    OK  UNNEEDED, same version is already published
merida1macOS 12.6.4 Monterey / x86_64  OK    OK    WARNINGS    OK  UNNEEDED, same version is already published
Package 99/663HostnameOS / ArchINSTALLBUILDCHECKBUILD BIN
chromVAR 1.22.1  (landing page)
Alicia Schep
git_last_commit: fbdaa18
git_last_commit_date: 2023-05-01 20:09:37 -0400
nebbiolo1Linux (Ubuntu 22.04.2 LTS) / x86_64  OK    OK    OK  UNNEEDED, same version is already published
palomino3Windows Server 2022 Datacenter / x64  OK    OK    OK    OK  UNNEEDED, same version is already published
merida1macOS 12.6.4 Monterey / x86_64  OK    OK    OK    OK  UNNEEDED, same version is already published
Package 100/663HostnameOS / ArchINSTALLBUILDCHECKBUILD BIN
cicero 1.18.0  (landing page)
Hannah Pliner
git_last_commit: b6a7b66
git_last_commit_date: 2023-04-25 11:04:55 -0400
nebbiolo1Linux (Ubuntu 22.04.2 LTS) / x86_64  OK    OK    OK  UNNEEDED, same version is already published
palomino3Windows Server 2022 Datacenter / x64  OK    OK    OK    OK  UNNEEDED, same version is already published
merida1macOS 12.6.4 Monterey / x86_64  OK    OK    OK    OK  UNNEEDED, same version is already published
Package 101/663HostnameOS / ArchINSTALLBUILDCHECKBUILD BIN
CINdex 1.28.0  (landing page)
Yuriy Gusev
git_last_commit: 1543a5e
git_last_commit_date: 2023-04-25 10:45:52 -0400
nebbiolo1Linux (Ubuntu 22.04.2 LTS) / x86_64  OK    OK    WARNINGS  UNNEEDED, same version is already published
palomino3Windows Server 2022 Datacenter / x64  OK    OK    WARNINGS    OK  UNNEEDED, same version is already published
merida1macOS 12.6.4 Monterey / x86_64  OK    OK    WARNINGS    OK  UNNEEDED, same version is already published
Package 102/663HostnameOS / ArchINSTALLBUILDCHECKBUILD BIN
circRNAprofiler 1.14.0  (landing page)
Simona Aufiero
git_last_commit: 1ddc8f7
git_last_commit_date: 2023-04-25 11:11:15 -0400
nebbiolo1Linux (Ubuntu 22.04.2 LTS) / x86_64  OK    OK    OK  UNNEEDED, same version is already published
palomino3Windows Server 2022 Datacenter / x64  OK    OK    OK    OK  UNNEEDED, same version is already published
merida1macOS 12.6.4 Monterey / x86_64  OK    OK    OK    OK  UNNEEDED, same version is already published
Package 103/663HostnameOS / ArchINSTALLBUILDCHECKBUILD BIN
CircSeqAlignTk 1.2.0  (landing page)
Jianqiang Sun
git_last_commit: f1b4cef
git_last_commit_date: 2023-04-25 11:40:31 -0400
nebbiolo1Linux (Ubuntu 22.04.2 LTS) / x86_64  OK    OK    OK  UNNEEDED, same version is already published
palomino3Windows Server 2022 Datacenter / x64  OK    OK    ERROR    OK  
merida1macOS 12.6.4 Monterey / x86_64  OK    OK    OK    OK  UNNEEDED, same version is already published
Package 104/663HostnameOS / ArchINSTALLBUILDCHECKBUILD BIN
CiteFuse 1.12.0  (landing page)
Yingxin Lin
git_last_commit: 488dd36
git_last_commit_date: 2023-04-25 11:17:18 -0400
nebbiolo1Linux (Ubuntu 22.04.2 LTS) / x86_64  OK    OK    OK  UNNEEDED, same version is already published
palomino3Windows Server 2022 Datacenter / x64  OK    OK    OK    OK  UNNEEDED, same version is already published
merida1macOS 12.6.4 Monterey / x86_64  OK    OK    OK    OK  UNNEEDED, same version is already published
Package 105/663HostnameOS / ArchINSTALLBUILDCHECKBUILD BIN
ClassifyR 3.4.5  (landing page)
Dario Strbenac
git_last_commit: 6e23b77
git_last_commit_date: 2023-06-01 01:35:49 -0400
nebbiolo1Linux (Ubuntu 22.04.2 LTS) / x86_64  OK    OK    OK  UNNEEDED, same version is already published
palomino3Windows Server 2022 Datacenter / x64  OK    OK    OK    OK  UNNEEDED, same version is already published
merida1macOS 12.6.4 Monterey / x86_64  OK    OK    TIMEOUT    OK  
Package 106/663HostnameOS / ArchINSTALLBUILDCHECKBUILD BIN
cleanUpdTSeq 1.38.0  (landing page)
Jianhong Ou ; Lihua Julie Zhu
git_last_commit: d6941d0
git_last_commit_date: 2023-04-25 10:27:42 -0400
nebbiolo1Linux (Ubuntu 22.04.2 LTS) / x86_64  OK    OK    OK  UNNEEDED, same version is already published
palomino3Windows Server 2022 Datacenter / x64  OK    OK    OK    OK  UNNEEDED, same version is already published
merida1macOS 12.6.4 Monterey / x86_64  OK    OK    OK    OK  UNNEEDED, same version is already published
Package 107/663HostnameOS / ArchINSTALLBUILDCHECKBUILD BIN
cleaver 1.38.0  (landing page)
Sebastian Gibb
git_last_commit: 069627a
git_last_commit_date: 2023-04-25 10:27:22 -0400
nebbiolo1Linux (Ubuntu 22.04.2 LTS) / x86_64  OK    OK    OK  UNNEEDED, same version is already published
palomino3Windows Server 2022 Datacenter / x64  OK    OK    OK    OK  UNNEEDED, same version is already published
merida1macOS 12.6.4 Monterey / x86_64  OK    OK    OK    OK  UNNEEDED, same version is already published
Package 108/663HostnameOS / ArchINSTALLBUILDCHECKBUILD BIN
cliProfiler 1.6.0  (landing page)
You Zhou
git_last_commit: f7202a6
git_last_commit_date: 2023-04-25 11:33:36 -0400
nebbiolo1Linux (Ubuntu 22.04.2 LTS) / x86_64  OK    OK    OK  UNNEEDED, same version is already published
palomino3Windows Server 2022 Datacenter / x64  OK    OK    OK    OK  UNNEEDED, same version is already published
merida1macOS 12.6.4 Monterey / x86_64  OK    OK    OK    OK  UNNEEDED, same version is already published
Package 109/663HostnameOS / ArchINSTALLBUILDCHECKBUILD BIN
CluMSID 1.16.0  (landing page)
Tobias Depke
git_last_commit: e71998f
git_last_commit_date: 2023-04-25 11:06:55 -0400
nebbiolo1Linux (Ubuntu 22.04.2 LTS) / x86_64  OK    OK    WARNINGS  UNNEEDED, same version is already published
palomino3Windows Server 2022 Datacenter / x64  OK    OK    WARNINGS    OK  UNNEEDED, same version is already published
merida1macOS 12.6.4 Monterey / x86_64  OK    OK    WARNINGS    OK  UNNEEDED, same version is already published
Package 110/663HostnameOS / ArchINSTALLBUILDCHECKBUILD BIN
clusterExperiment 2.20.0  (landing page)
Elizabeth Purdom
git_last_commit: 1b8f9ba
git_last_commit_date: 2023-04-25 10:48:04 -0400
nebbiolo1Linux (Ubuntu 22.04.2 LTS) / x86_64  OK    OK    WARNINGS  UNNEEDED, same version is already published
palomino3Windows Server 2022 Datacenter / x64  OK    OK    WARNINGS    OK  UNNEEDED, same version is already published
merida1macOS 12.6.4 Monterey / x86_64  OK    OK    TIMEOUT    OK  
Package 111/663HostnameOS / ArchINSTALLBUILDCHECKBUILD BIN
clustifyr 1.12.0  (landing page)
Kent Riemondy
git_last_commit: 82ccda3
git_last_commit_date: 2023-04-25 11:15:27 -0400
nebbiolo1Linux (Ubuntu 22.04.2 LTS) / x86_64  OK    OK    OK  UNNEEDED, same version is already published
palomino3Windows Server 2022 Datacenter / x64  OK    OK    OK    OK  UNNEEDED, same version is already published
merida1macOS 12.6.4 Monterey / x86_64  OK    OK    OK    OK  UNNEEDED, same version is already published
Package 112/663HostnameOS / ArchINSTALLBUILDCHECKBUILD BIN
cn.mops 1.46.0  (landing page)
Gundula Povysil
git_last_commit: baa7ea0
git_last_commit_date: 2023-04-25 10:21:44 -0400
nebbiolo1Linux (Ubuntu 22.04.2 LTS) / x86_64  OK    OK    OK  UNNEEDED, same version is already published
palomino3Windows Server 2022 Datacenter / x64  OK    OK    OK    OK  UNNEEDED, same version is already published
merida1macOS 12.6.4 Monterey / x86_64  OK    OK    OK    OK  UNNEEDED, same version is already published
Package 113/663HostnameOS / ArchINSTALLBUILDCHECKBUILD BIN
CNEr 1.36.0  (landing page)
Ge Tan
git_last_commit: 4f2feeb
git_last_commit_date: 2023-04-25 10:30:23 -0400
nebbiolo1Linux (Ubuntu 22.04.2 LTS) / x86_64  OK    OK    WARNINGS  UNNEEDED, same version is already published
palomino3Windows Server 2022 Datacenter / x64  OK    OK    WARNINGS    OK  UNNEEDED, same version is already published
merida1macOS 12.6.4 Monterey / x86_64  OK    OK    WARNINGS    OK  UNNEEDED, same version is already published
Package 114/663HostnameOS / ArchINSTALLBUILDCHECKBUILD BIN
CNVMetrics 1.4.0  (landing page)
Astrid Deschênes
git_last_commit: f240f40
git_last_commit_date: 2023-04-25 11:35:08 -0400
nebbiolo1Linux (Ubuntu 22.04.2 LTS) / x86_64  OK    OK    OK  UNNEEDED, same version is already published
palomino3Windows Server 2022 Datacenter / x64  OK    OK    OK    OK  UNNEEDED, same version is already published
merida1macOS 12.6.4 Monterey / x86_64  OK    OK    OK    OK  UNNEEDED, same version is already published
Package 115/663HostnameOS / ArchINSTALLBUILDCHECKBUILD BIN
CNVPanelizer 1.32.0  (landing page)
Thomas Wolf
git_last_commit: 86ffb06
git_last_commit_date: 2023-04-25 10:40:16 -0400
nebbiolo1Linux (Ubuntu 22.04.2 LTS) / x86_64  OK    OK    OK  UNNEEDED, same version is already published
palomino3Windows Server 2022 Datacenter / x64  OK    OK    OK    OK  UNNEEDED, same version is already published
merida1macOS 12.6.4 Monterey / x86_64  OK    OK    OK    OK  UNNEEDED, same version is already published
Package 116/663HostnameOS / ArchINSTALLBUILDCHECKBUILD BIN
CNVRanger 1.16.3  (landing page)
Ludwig Geistlinger
git_last_commit: 17d0070
git_last_commit_date: 2023-05-22 14:19:04 -0400
nebbiolo1Linux (Ubuntu 22.04.2 LTS) / x86_64  OK    OK    OK  UNNEEDED, same version is already published
palomino3Windows Server 2022 Datacenter / x64  OK    OK    OK    OK  UNNEEDED, same version is already published
merida1macOS 12.6.4 Monterey / x86_64  OK    OK    OK    OK  UNNEEDED, same version is already published
Package 117/663HostnameOS / ArchINSTALLBUILDCHECKBUILD BIN
COCOA 2.14.0  (landing page)
John Lawson
git_last_commit: bbc273b
git_last_commit_date: 2023-04-25 11:05:46 -0400
nebbiolo1Linux (Ubuntu 22.04.2 LTS) / x86_64  OK    OK    OK  UNNEEDED, same version is already published
palomino3Windows Server 2022 Datacenter / x64  OK    OK    OK    OK  UNNEEDED, same version is already published
merida1macOS 12.6.4 Monterey / x86_64  OK    OK    OK    OK  UNNEEDED, same version is already published
Package 118/663HostnameOS / ArchINSTALLBUILDCHECKBUILD BIN
CODEX 1.32.0  (landing page)
Yuchao Jiang
git_last_commit: 8392623
git_last_commit_date: 2023-04-25 10:37:02 -0400
nebbiolo1Linux (Ubuntu 22.04.2 LTS) / x86_64  OK    OK    OK  UNNEEDED, same version is already published
palomino3Windows Server 2022 Datacenter / x64  OK    OK    OK    OK  UNNEEDED, same version is already published
merida1macOS 12.6.4 Monterey / x86_64  OK    OK    OK    OK  UNNEEDED, same version is already published
Package 119/663HostnameOS / ArchINSTALLBUILDCHECKBUILD BIN
Cogito 1.6.0  (landing page)
Annika Bürger
git_last_commit: caa4ce9
git_last_commit_date: 2023-04-25 11:33:44 -0400
nebbiolo1Linux (Ubuntu 22.04.2 LTS) / x86_64  OK    OK    OK  UNNEEDED, same version is already published
palomino3Windows Server 2022 Datacenter / x64  OK    OK    OK    OK  UNNEEDED, same version is already published
merida1macOS 12.6.4 Monterey / x86_64  OK    OK    OK    OK  UNNEEDED, same version is already published
Package 120/663HostnameOS / ArchINSTALLBUILDCHECKBUILD BIN
comapr 1.4.0  (landing page)
Ruqian Lyu
git_last_commit: a4a9282
git_last_commit_date: 2023-04-25 11:35:25 -0400
nebbiolo1Linux (Ubuntu 22.04.2 LTS) / x86_64  OK    OK    OK  UNNEEDED, same version is already published
palomino3Windows Server 2022 Datacenter / x64  OK    OK    OK    OK  UNNEEDED, same version is already published
merida1macOS 12.6.4 Monterey / x86_64  OK    OK    OK    OK  UNNEEDED, same version is already published
Package 121/663HostnameOS / ArchINSTALLBUILDCHECKBUILD BIN
coMET 1.32.0  (landing page)
Tiphaine Martin
git_last_commit: 208d035
git_last_commit_date: 2023-04-25 11:41:26 -0400
nebbiolo1Linux (Ubuntu 22.04.2 LTS) / x86_64  OK    OK    WARNINGS  UNNEEDED, same version is already published
palomino3Windows Server 2022 Datacenter / x64  OK    OK    WARNINGS    OK  UNNEEDED, same version is already published
merida1macOS 12.6.4 Monterey / x86_64  OK    OK    WARNINGS    OK  UNNEEDED, same version is already published
Package 122/663HostnameOS / ArchINSTALLBUILDCHECKBUILD BIN
compEpiTools 1.34.1  (landing page)
Mattia Furlan
git_last_commit: 4f44f42
git_last_commit_date: 2023-05-02 15:23:53 -0400
nebbiolo1Linux (Ubuntu 22.04.2 LTS) / x86_64  OK    OK    WARNINGS  UNNEEDED, same version is already published
palomino3Windows Server 2022 Datacenter / x64  OK    OK    WARNINGS    OK  UNNEEDED, same version is already published
merida1macOS 12.6.4 Monterey / x86_64  OK    OK    WARNINGS    OK  NO, package depends on 'methylPipe' which is not available
Package 123/663HostnameOS / ArchINSTALLBUILDCHECKBUILD BIN
CompoundDb 1.4.0  (landing page)
Johannes Rainer
git_last_commit: 5c0f833
git_last_commit_date: 2023-04-25 11:35:41 -0400
nebbiolo1Linux (Ubuntu 22.04.2 LTS) / x86_64  OK    OK    OK  UNNEEDED, same version is already published
palomino3Windows Server 2022 Datacenter / x64  OK    OK    OK    OK  UNNEEDED, same version is already published
merida1macOS 12.6.4 Monterey / x86_64  OK    OK    OK    OK  UNNEEDED, same version is already published
Package 124/663HostnameOS / ArchINSTALLBUILDCHECKBUILD BIN
consensusDE 1.18.0  (landing page)
Ashley J. Waardenberg
git_last_commit: 58c20f9
git_last_commit_date: 2023-04-25 11:05:52 -0400
nebbiolo1Linux (Ubuntu 22.04.2 LTS) / x86_64  OK    OK    OK  UNNEEDED, same version is already published
palomino3Windows Server 2022 Datacenter / x64  OK    OK    OK    OK  UNNEEDED, same version is already published
merida1macOS 12.6.4 Monterey / x86_64  OK    OK    OK    OK  UNNEEDED, same version is already published
Package 125/663HostnameOS / ArchINSTALLBUILDCHECKBUILD BIN
consensusSeekeR 1.28.0  (landing page)
Astrid Deschenes
git_last_commit: e96278e
git_last_commit_date: 2023-04-25 10:42:44 -0400
nebbiolo1Linux (Ubuntu 22.04.2 LTS) / x86_64  OK    OK    OK  UNNEEDED, same version is already published
palomino3Windows Server 2022 Datacenter / x64  OK    OK    OK    OK  UNNEEDED, same version is already published
merida1macOS 12.6.4 Monterey / x86_64  OK    OK    OK    OK  UNNEEDED, same version is already published
Package 126/663HostnameOS / ArchINSTALLBUILDCHECKBUILD BIN
contiBAIT 1.28.0  (landing page)
Kieran O'Neill
git_last_commit: 48f8245
git_last_commit_date: 2023-04-25 10:44:16 -0400
nebbiolo1Linux (Ubuntu 22.04.2 LTS) / x86_64  OK    OK    WARNINGS  UNNEEDED, same version is already published
palomino3Windows Server 2022 Datacenter / x64  OK    OK    WARNINGS    OK  UNNEEDED, same version is already published
merida1macOS 12.6.4 Monterey / x86_64  OK    OK    WARNINGS    OK  UNNEEDED, same version is already published
Package 127/663HostnameOS / ArchINSTALLBUILDCHECKBUILD BIN
copynumber 1.40.0  (landing page)
Gro Nilsen
git_last_commit: 0c087da
git_last_commit_date: 2023-04-25 10:26:46 -0400
nebbiolo1Linux (Ubuntu 22.04.2 LTS) / x86_64  OK    ERROR  skipped
palomino3Windows Server 2022 Datacenter / x64  OK    ERROR  skippedskipped
merida1macOS 12.6.4 Monterey / x86_64  OK    ERROR  skippedskipped
Package 128/663HostnameOS / ArchINSTALLBUILDCHECKBUILD BIN
CopywriteR 2.32.0  (landing page)
Oscar Krijgsman
git_last_commit: b14b332
git_last_commit_date: 2023-04-25 10:39:03 -0400
nebbiolo1Linux (Ubuntu 22.04.2 LTS) / x86_64  OK    ERROR  skipped
palomino3Windows Server 2022 Datacenter / x64  OK    ERROR  skippedskipped
merida1macOS 12.6.4 Monterey / x86_64  OK    ERROR  skippedskipped
Package 129/663HostnameOS / ArchINSTALLBUILDCHECKBUILD BIN
CoreGx 2.4.0  (landing page)
Benjamin Haibe-Kains
git_last_commit: 788cc40
git_last_commit_date: 2023-04-25 11:18:08 -0400
nebbiolo1Linux (Ubuntu 22.04.2 LTS) / x86_64  OK    OK    OK  UNNEEDED, same version is already published
palomino3Windows Server 2022 Datacenter / x64  OK    OK    OK    OK  UNNEEDED, same version is already published
merida1macOS 12.6.4 Monterey / x86_64  OK    OK    OK    OK  UNNEEDED, same version is already published
Package 130/663HostnameOS / ArchINSTALLBUILDCHECKBUILD BIN
coseq 1.24.0  (landing page)
Andrea Rau
git_last_commit: 035b865
git_last_commit_date: 2023-04-25 10:51:51 -0400
nebbiolo1Linux (Ubuntu 22.04.2 LTS) / x86_64  OK    OK    OK  UNNEEDED, same version is already published
palomino3Windows Server 2022 Datacenter / x64  OK    OK    OK    OK  UNNEEDED, same version is already published
merida1macOS 12.6.4 Monterey / x86_64  OK    OK    OK    OK  UNNEEDED, same version is already published
Package 131/663HostnameOS / ArchINSTALLBUILDCHECKBUILD BIN
CoverageView 1.38.0  (landing page)
Ernesto Lowy
git_last_commit: 970269c
git_last_commit_date: 2023-04-25 10:31:32 -0400
nebbiolo1Linux (Ubuntu 22.04.2 LTS) / x86_64  OK    OK    WARNINGS  UNNEEDED, same version is already published
palomino3Windows Server 2022 Datacenter / x64... NOT SUPPORTED ...
merida1macOS 12.6.4 Monterey / x86_64  OK    OK    WARNINGS    OK  UNNEEDED, same version is already published
Package 132/663HostnameOS / ArchINSTALLBUILDCHECKBUILD BIN
crisprBase 1.4.0  (landing page)
Jean-Philippe Fortin
git_last_commit: b8d0906
git_last_commit_date: 2023-04-25 11:35:16 -0400
nebbiolo1Linux (Ubuntu 22.04.2 LTS) / x86_64  OK    OK    OK  UNNEEDED, same version is already published
palomino3Windows Server 2022 Datacenter / x64  OK    OK    OK    OK  UNNEEDED, same version is already published
merida1macOS 12.6.4 Monterey / x86_64  OK    OK    OK    OK  UNNEEDED, same version is already published
Package 133/663HostnameOS / ArchINSTALLBUILDCHECKBUILD BIN
crisprDesign 1.2.0  (landing page)
Jean-Philippe Fortin
git_last_commit: 16ad3b4
git_last_commit_date: 2023-04-25 11:39:18 -0400
nebbiolo1Linux (Ubuntu 22.04.2 LTS) / x86_64  OK    OK    OK  UNNEEDED, same version is already published
palomino3Windows Server 2022 Datacenter / x64  OK    OK    OK    OK  UNNEEDED, same version is already published
merida1macOS 12.6.4 Monterey / x86_64  OK    OK    OK    OK  NO, package depends on 'crisprScore' which is not available
Package 134/663HostnameOS / ArchINSTALLBUILDCHECKBUILD BIN
CRISPRseek 1.40.0  (landing page)
Lihua Julie Zhu
git_last_commit: 9be9a24
git_last_commit_date: 2023-04-25 10:29:39 -0400
nebbiolo1Linux (Ubuntu 22.04.2 LTS) / x86_64  OK    OK    OK  UNNEEDED, same version is already published
palomino3Windows Server 2022 Datacenter / x64  OK    OK    OK    OK  UNNEEDED, same version is already published
merida1macOS 12.6.4 Monterey / x86_64  OK    OK    TIMEOUT    OK  
Package 135/663HostnameOS / ArchINSTALLBUILDCHECKBUILD BIN
CrispRVariants 1.28.0  (landing page)
Helen Lindsay
git_last_commit: 8694ad0
git_last_commit_date: 2023-04-25 10:43:23 -0400
nebbiolo1Linux (Ubuntu 22.04.2 LTS) / x86_64  OK    OK    WARNINGS  UNNEEDED, same version is already published
palomino3Windows Server 2022 Datacenter / x64  OK    OK    WARNINGS    OK  UNNEEDED, same version is already published
merida1macOS 12.6.4 Monterey / x86_64  OK    OK    WARNINGS    OK  UNNEEDED, same version is already published
Package 136/663HostnameOS / ArchINSTALLBUILDCHECKBUILD BIN
crisprViz 1.2.0  (landing page)
Jean-Philippe Fortin
git_last_commit: fe18025
git_last_commit_date: 2023-04-25 11:40:13 -0400
nebbiolo1Linux (Ubuntu 22.04.2 LTS) / x86_64  OK    OK    OK  UNNEEDED, same version is already published
palomino3Windows Server 2022 Datacenter / x64  OK    OK    OK    OK  UNNEEDED, same version is already published
merida1macOS 12.6.4 Monterey / x86_64  OK    OK    OK    OK  NO, package depends on 'crisprDesign' which is not available
Package 137/663HostnameOS / ArchINSTALLBUILDCHECKBUILD BIN
CSAR 1.52.0  (landing page)
Jose M Muino
git_last_commit: d3f67ed
git_last_commit_date: 2023-04-25 09:49:58 -0400
nebbiolo1Linux (Ubuntu 22.04.2 LTS) / x86_64  OK    OK    OK  UNNEEDED, same version is already published
palomino3Windows Server 2022 Datacenter / x64  OK    OK    OK    OK  UNNEEDED, same version is already published
merida1macOS 12.6.4 Monterey / x86_64  OK    OK    OK    OK  UNNEEDED, same version is already published
Package 138/663HostnameOS / ArchINSTALLBUILDCHECKBUILD BIN
csaw 1.34.0  (landing page)
Aaron Lun
git_last_commit: a93327e
git_last_commit_date: 2023-04-25 10:35:43 -0400
nebbiolo1Linux (Ubuntu 22.04.2 LTS) / x86_64  OK    OK    WARNINGS  UNNEEDED, same version is already published
palomino3Windows Server 2022 Datacenter / x64  OK    OK    WARNINGS    OK  UNNEEDED, same version is already published
merida1macOS 12.6.4 Monterey / x86_64  OK    OK    WARNINGS    OK  UNNEEDED, same version is already published
Package 139/663HostnameOS / ArchINSTALLBUILDCHECKBUILD BIN
CSSQ 1.12.0  (landing page)
Fan Lab at Georgia Institute of Technology
git_last_commit: 939713e
git_last_commit_date: 2023-04-25 11:14:33 -0400
nebbiolo1Linux (Ubuntu 22.04.2 LTS) / x86_64  OK    OK    OK  UNNEEDED, same version is already published
palomino3Windows Server 2022 Datacenter / x64  OK    OK    OK    OK  UNNEEDED, same version is already published
merida1macOS 12.6.4 Monterey / x86_64  OK    OK    OK    OK  UNNEEDED, same version is already published
Package 140/663HostnameOS / ArchINSTALLBUILDCHECKBUILD BIN
CTDquerier 2.8.0  (landing page)
Xavier Escribà-Montagut
git_last_commit: b0e3527
git_last_commit_date: 2023-04-25 11:27:24 -0400
nebbiolo1Linux (Ubuntu 22.04.2 LTS) / x86_64  OK    OK    WARNINGS  UNNEEDED, same version is already published
palomino3Windows Server 2022 Datacenter / x64  OK    OK    WARNINGS    OK  UNNEEDED, same version is already published
merida1macOS 12.6.4 Monterey / x86_64  OK    OK    WARNINGS    OK  UNNEEDED, same version is already published
Package 141/663HostnameOS / ArchINSTALLBUILDCHECKBUILD BIN
cummeRbund 2.42.0  (landing page)
Loyal A. Goff
git_last_commit: dc5849d
git_last_commit_date: 2023-04-25 10:21:12 -0400
nebbiolo1Linux (Ubuntu 22.04.2 LTS) / x86_64  OK    OK    WARNINGS  UNNEEDED, same version is already published
palomino3Windows Server 2022 Datacenter / x64  OK    OK    WARNINGS    OK  UNNEEDED, same version is already published
merida1macOS 12.6.4 Monterey / x86_64  OK    OK    WARNINGS    OK  UNNEEDED, same version is already published
Package 142/663HostnameOS / ArchINSTALLBUILDCHECKBUILD BIN
customProDB 1.40.0  (landing page)
Xiaojing Wang
git_last_commit: 267665c
git_last_commit_date: 2023-04-25 10:27:25 -0400
nebbiolo1Linux (Ubuntu 22.04.2 LTS) / x86_64  OK    OK    OK  UNNEEDED, same version is already published
palomino3Windows Server 2022 Datacenter / x64  OK    OK    OK    OK  UNNEEDED, same version is already published
merida1macOS 12.6.4 Monterey / x86_64  OK    OK    OK    OK  UNNEEDED, same version is already published
Package 143/663HostnameOS / ArchINSTALLBUILDCHECKBUILD BIN
cydar 1.24.0  (landing page)
Aaron Lun
git_last_commit: b6b8ade
git_last_commit_date: 2023-04-25 10:53:10 -0400
nebbiolo1Linux (Ubuntu 22.04.2 LTS) / x86_64  OK    OK    ERROR  
palomino3Windows Server 2022 Datacenter / x64  OK    OK    OK    OK  UNNEEDED, same version is already published
merida1macOS 12.6.4 Monterey / x86_64  OK    OK    OK    OK  UNNEEDED, same version is already published
Package 144/663HostnameOS / ArchINSTALLBUILDCHECKBUILD BIN
cytofQC 1.0.0  (landing page)
Jill Lundell
git_last_commit: 860e3b7
git_last_commit_date: 2023-04-25 11:43:32 -0400
nebbiolo1Linux (Ubuntu 22.04.2 LTS) / x86_64  OK    OK    OK  UNNEEDED, same version is already published
palomino3Windows Server 2022 Datacenter / x64  OK    OK    OK    OK  UNNEEDED, same version is already published
merida1macOS 12.6.4 Monterey / x86_64  OK    OK    OK    OK  NO, package depends on 'CATALYST' which is not available
Package 145/663HostnameOS / ArchINSTALLBUILDCHECKBUILD BIN
cytoKernel 1.6.0  (landing page)
Tusharkanti Ghosh
git_last_commit: abbd26f
git_last_commit_date: 2023-04-25 11:32:54 -0400
nebbiolo1Linux (Ubuntu 22.04.2 LTS) / x86_64  OK    OK    OK  UNNEEDED, same version is already published
palomino3Windows Server 2022 Datacenter / x64  OK    OK    OK    OK  UNNEEDED, same version is already published
merida1macOS 12.6.4 Monterey / x86_64  OK    OK    OK    OK  UNNEEDED, same version is already published
Package 146/663HostnameOS / ArchINSTALLBUILDCHECKBUILD BIN
cytomapper 1.12.0  (landing page)
Nils Eling
git_last_commit: b2edd20
git_last_commit_date: 2023-04-25 11:16:41 -0400
nebbiolo1Linux (Ubuntu 22.04.2 LTS) / x86_64  OK    OK    OK  UNNEEDED, same version is already published
palomino3Windows Server 2022 Datacenter / x64  OK    OK    OK    OK  UNNEEDED, same version is already published
merida1macOS 12.6.4 Monterey / x86_64  OK    OK    OK    OK  UNNEEDED, same version is already published
Package 147/663HostnameOS / ArchINSTALLBUILDCHECKBUILD BIN
cytoviewer 1.0.0  (landing page)
Lasse Meyer
git_last_commit: 537a7dc
git_last_commit_date: 2023-04-25 11:43:48 -0400
nebbiolo1Linux (Ubuntu 22.04.2 LTS) / x86_64  OK    OK    OK  UNNEEDED, same version is already published
palomino3Windows Server 2022 Datacenter / x64  OK    OK    OK    OK  UNNEEDED, same version is already published
merida1macOS 12.6.4 Monterey / x86_64  OK    OK    OK    OK  UNNEEDED, same version is already published
Package 148/663HostnameOS / ArchINSTALLBUILDCHECKBUILD BIN
DAMEfinder 1.12.0  (landing page)
Stephany Orjuela
git_last_commit: de191b2
git_last_commit_date: 2023-04-25 11:15:03 -0400
nebbiolo1Linux (Ubuntu 22.04.2 LTS) / x86_64  OK    OK    OK  UNNEEDED, same version is already published
palomino3Windows Server 2022 Datacenter / x64  OK    OK    OK    OK  UNNEEDED, same version is already published
merida1macOS 12.6.4 Monterey / x86_64  OK    OK    OK    OK  UNNEEDED, same version is already published
Package 149/663HostnameOS / ArchINSTALLBUILDCHECKBUILD BIN
dasper 1.10.0  (landing page)
David Zhang
git_last_commit: 3a1d835
git_last_commit_date: 2023-04-25 11:24:39 -0400
nebbiolo1Linux (Ubuntu 22.04.2 LTS) / x86_64  OK    ERROR  skipped
palomino3Windows Server 2022 Datacenter / x64  OK    ERROR  skippedskipped
merida1macOS 12.6.4 Monterey / x86_64  OK    ERROR  skippedskipped
Package 150/663HostnameOS / ArchINSTALLBUILDCHECKBUILD BIN
debrowser 1.28.2  (landing page)
Alper Kucukural
git_last_commit: 2b0d25e
git_last_commit_date: 2023-06-01 11:32:55 -0400
nebbiolo1Linux (Ubuntu 22.04.2 LTS) / x86_64  OK    OK    OK  UNNEEDED, same version is already published
palomino3Windows Server 2022 Datacenter / x64  OK    OK    OK    OK  UNNEEDED, same version is already published
merida1macOS 12.6.4 Monterey / x86_64  OK    OK    OK    OK  UNNEEDED, same version is already published
Package 151/663HostnameOS / ArchINSTALLBUILDCHECKBUILD BIN
DECIPHER 2.28.0  (landing page)
Erik Wright
git_last_commit: 9be570c
git_last_commit_date: 2023-04-25 10:21:15 -0400
nebbiolo1Linux (Ubuntu 22.04.2 LTS) / x86_64  OK    OK    OK  UNNEEDED, same version is already published
palomino3Windows Server 2022 Datacenter / x64  OK    OK    OK    OK  UNNEEDED, same version is already published
merida1macOS 12.6.4 Monterey / x86_64  OK    OK    OK    OK  UNNEEDED, same version is already published
Package 152/663HostnameOS / ArchINSTALLBUILDCHECKBUILD BIN
decompTumor2Sig 2.16.0  (landing page)
Rosario M. Piro
git_last_commit: cc7095d
git_last_commit_date: 2023-04-25 11:06:30 -0400
nebbiolo1Linux (Ubuntu 22.04.2 LTS) / x86_64  OK    OK    OK  UNNEEDED, same version is already published
palomino3Windows Server 2022 Datacenter / x64  OK    OK    OK    OK  UNNEEDED, same version is already published
merida1macOS 12.6.4 Monterey / x86_64  OK    OK    OK    OK  UNNEEDED, same version is already published
Package 153/663HostnameOS / ArchINSTALLBUILDCHECKBUILD BIN
deconvR 1.6.0  (landing page)
Irem B. Gündüz
git_last_commit: 57e9e23
git_last_commit_date: 2023-04-25 11:34:02 -0400
nebbiolo1Linux (Ubuntu 22.04.2 LTS) / x86_64  OK    OK    OK  UNNEEDED, same version is already published
palomino3Windows Server 2022 Datacenter / x64  OK    OK    OK    OK  UNNEEDED, same version is already published
merida1macOS 12.6.4 Monterey / x86_64  OK    OK    OK    OK  UNNEEDED, same version is already published
Package 154/663HostnameOS / ArchINSTALLBUILDCHECKBUILD BIN
DEFormats 1.28.0  (landing page)
Andrzej Oleś
git_last_commit: 208c3aa
git_last_commit_date: 2023-04-25 10:45:38 -0400
nebbiolo1Linux (Ubuntu 22.04.2 LTS) / x86_64  OK    OK    OK  UNNEEDED, same version is already published
palomino3Windows Server 2022 Datacenter / x64  OK    OK    OK    OK  UNNEEDED, same version is already published
merida1macOS 12.6.4 Monterey / x86_64  OK    OK    OK    OK  UNNEEDED, same version is already published
Package 155/663HostnameOS / ArchINSTALLBUILDCHECKBUILD BIN
DegNorm 1.10.1  (landing page)
Ji-Ping Wang
git_last_commit: 3d3414b
git_last_commit_date: 2023-05-01 20:07:15 -0400
nebbiolo1Linux (Ubuntu 22.04.2 LTS) / x86_64  OK    OK    OK  UNNEEDED, same version is already published
palomino3Windows Server 2022 Datacenter / x64  OK    OK    OK    OK  UNNEEDED, same version is already published
merida1macOS 12.6.4 Monterey / x86_64  OK    OK    OK    OK  UNNEEDED, same version is already published
Package 156/663HostnameOS / ArchINSTALLBUILDCHECKBUILD BIN
DEGreport 1.36.0  (landing page)
Lorena Pantano
git_last_commit: 1aae69c
git_last_commit_date: 2023-04-25 10:32:39 -0400
nebbiolo1Linux (Ubuntu 22.04.2 LTS) / x86_64  OK    OK    WARNINGS  UNNEEDED, same version is already published
palomino3Windows Server 2022 Datacenter / x64  OK    OK    WARNINGS    OK  UNNEEDED, same version is already published
merida1macOS 12.6.4 Monterey / x86_64  OK    OK    WARNINGS    OK  UNNEEDED, same version is already published
Package 157/663HostnameOS / ArchINSTALLBUILDCHECKBUILD BIN
DelayedArray 0.26.3  (landing page)
Hervé Pagès
git_last_commit: 98215c5
git_last_commit_date: 2023-05-22 09:22:40 -0400
nebbiolo1Linux (Ubuntu 22.04.2 LTS) / x86_64  OK    OK    WARNINGS  UNNEEDED, same version is already published
palomino3Windows Server 2022 Datacenter / x64  OK    OK    WARNINGS    OK  UNNEEDED, same version is already published
merida1macOS 12.6.4 Monterey / x86_64  OK    OK    WARNINGS    OK  UNNEEDED, same version is already published
Package 158/663HostnameOS / ArchINSTALLBUILDCHECKBUILD BIN
DelayedDataFrame 1.16.0  (landing page)
Qian Liu
git_last_commit: 8833160
git_last_commit_date: 2023-04-25 11:06:40 -0400
nebbiolo1Linux (Ubuntu 22.04.2 LTS) / x86_64  OK    OK    ERROR  
palomino3Windows Server 2022 Datacenter / x64  OK    OK    OK    OK  UNNEEDED, same version is already published
merida1macOS 12.6.4 Monterey / x86_64  OK    OK    OK    OK  UNNEEDED, same version is already published
Package 159/663HostnameOS / ArchINSTALLBUILDCHECKBUILD BIN
DelayedMatrixStats 1.22.0  (landing page)
Peter Hickey
git_last_commit: e820ab9
git_last_commit_date: 2023-04-25 10:57:28 -0400
nebbiolo1Linux (Ubuntu 22.04.2 LTS) / x86_64  OK    OK    ERROR  
palomino3Windows Server 2022 Datacenter / x64  OK    OK    ERROR    OK  
merida1macOS 12.6.4 Monterey / x86_64  OK    OK    ERROR    OK  
Package 160/663HostnameOS / ArchINSTALLBUILDCHECKBUILD BIN
derfinder 1.34.0  (landing page)
Leonardo Collado-Torres
git_last_commit: dd81839
git_last_commit_date: 2023-04-25 10:35:03 -0400
nebbiolo1Linux (Ubuntu 22.04.2 LTS) / x86_64  OK    OK    OK  UNNEEDED, same version is already published
palomino3Windows Server 2022 Datacenter / x64  OK    OK    OK    OK  UNNEEDED, same version is already published
merida1macOS 12.6.4 Monterey / x86_64  OK    OK    OK    OK  UNNEEDED, same version is already published
Package 161/663HostnameOS / ArchINSTALLBUILDCHECKBUILD BIN
derfinderHelper 1.34.0  (landing page)
Leonardo Collado-Torres
git_last_commit: 6f35c67
git_last_commit_date: 2023-04-25 10:35:08 -0400
nebbiolo1Linux (Ubuntu 22.04.2 LTS) / x86_64  OK    OK    OK  UNNEEDED, same version is already published
palomino3Windows Server 2022 Datacenter / x64  OK    OK    OK    OK  UNNEEDED, same version is already published
merida1macOS 12.6.4 Monterey / x86_64  OK    OK    OK    OK  UNNEEDED, same version is already published
Package 162/663HostnameOS / ArchINSTALLBUILDCHECKBUILD BIN
derfinderPlot 1.34.0  (landing page)
Leonardo Collado-Torres
git_last_commit: a4e6dde
git_last_commit_date: 2023-04-25 10:35:05 -0400
nebbiolo1Linux (Ubuntu 22.04.2 LTS) / x86_64  OK    OK    OK  UNNEEDED, same version is already published
palomino3Windows Server 2022 Datacenter / x64  OK    OK    OK    OK  UNNEEDED, same version is already published
merida1macOS 12.6.4 Monterey / x86_64  OK    OK    OK    OK  UNNEEDED, same version is already published
Package 163/663HostnameOS / ArchINSTALLBUILDCHECKBUILD BIN
DEScan2 1.20.1  (landing page)
Dario Righelli
git_last_commit: f431536
git_last_commit_date: 2023-05-01 20:07:09 -0400
nebbiolo1Linux (Ubuntu 22.04.2 LTS) / x86_64  OK    OK    WARNINGS  UNNEEDED, same version is already published
palomino3Windows Server 2022 Datacenter / x64  OK    OK    WARNINGS    OK  UNNEEDED, same version is already published
merida1macOS 12.6.4 Monterey / x86_64  OK    OK    WARNINGS    OK  UNNEEDED, same version is already published
Package 164/663HostnameOS / ArchINSTALLBUILDCHECKBUILD BIN
DESeq2 1.40.1  (landing page)
Michael Love
git_last_commit: b4101bd
git_last_commit_date: 2023-05-01 20:07:11 -0400
nebbiolo1Linux (Ubuntu 22.04.2 LTS) / x86_64  OK    OK    OK  UNNEEDED, same version is already published
palomino3Windows Server 2022 Datacenter / x64  OK    OK    OK    OK  UNNEEDED, same version is already published
merida1macOS 12.6.4 Monterey / x86_64  OK    OK    OK    OK  UNNEEDED, same version is already published
Package 165/663HostnameOS / ArchINSTALLBUILDCHECKBUILD BIN
DESpace 1.0.0  (landing page)
Peiying Cai
git_last_commit: 8a6b785
git_last_commit_date: 2023-04-25 11:43:38 -0400
nebbiolo1Linux (Ubuntu 22.04.2 LTS) / x86_64  OK    OK    OK  UNNEEDED, same version is already published
palomino3Windows Server 2022 Datacenter / x64  OK    OK    OK    OK  UNNEEDED, same version is already published
merida1macOS 12.6.4 Monterey / x86_64  OK    OK    OK    OK  UNNEEDED, same version is already published
Package 166/663HostnameOS / ArchINSTALLBUILDCHECKBUILD BIN
DEWSeq 1.14.0  (landing page)
bioinformatics team Hentze
git_last_commit: d9a8908
git_last_commit_date: 2023-04-25 11:13:39 -0400
nebbiolo1Linux (Ubuntu 22.04.2 LTS) / x86_64  OK    OK    ERROR  
palomino3Windows Server 2022 Datacenter / x64  OK    OK    OK    OK  UNNEEDED, same version is already published
merida1macOS 12.6.4 Monterey / x86_64  OK    ERROR  skippedskipped
Package 167/663HostnameOS / ArchINSTALLBUILDCHECKBUILD BIN
DEXSeq 1.46.0  (landing page)
Alejandro Reyes
git_last_commit: 074c0bf
git_last_commit_date: 2023-04-25 10:20:02 -0400
nebbiolo1Linux (Ubuntu 22.04.2 LTS) / x86_64  OK    OK    ERROR  
palomino3Windows Server 2022 Datacenter / x64  OK    OK    OK    OK  UNNEEDED, same version is already published
merida1macOS 12.6.4 Monterey / x86_64  OK    OK    OK    OK  UNNEEDED, same version is already published
Package 168/663HostnameOS / ArchINSTALLBUILDCHECKBUILD BIN
DiffBind 3.10.0  (landing page)
Rory Stark
git_last_commit: 8d49ab2
git_last_commit_date: 2023-04-25 10:21:02 -0400
nebbiolo1Linux (Ubuntu 22.04.2 LTS) / x86_64  OK    OK    WARNINGS  UNNEEDED, same version is already published
palomino3Windows Server 2022 Datacenter / x64  OK    OK    OK    OK  UNNEEDED, same version is already published
merida1macOS 12.6.4 Monterey / x86_64  OK    OK    WARNINGS    OK  UNNEEDED, same version is already published
Package 169/663HostnameOS / ArchINSTALLBUILDCHECKBUILD BIN
diffcyt 1.20.0  (landing page)
Lukas M. Weber
git_last_commit: 5495365
git_last_commit_date: 2023-04-25 11:00:44 -0400
nebbiolo1Linux (Ubuntu 22.04.2 LTS) / x86_64  OK    OK    OK  UNNEEDED, same version is already published
palomino3Windows Server 2022 Datacenter / x64  OK    OK    OK    OK  UNNEEDED, same version is already published
merida1macOS 12.6.4 Monterey / x86_64  OK    OK    OK    OK  UNNEEDED, same version is already published
Package 170/663HostnameOS / ArchINSTALLBUILDCHECKBUILD BIN
diffHic 1.32.0  (landing page)
Aaron Lun
git_last_commit: 6c577d2
git_last_commit_date: 2023-04-25 10:39:29 -0400
nebbiolo1Linux (Ubuntu 22.04.2 LTS) / x86_64  OK    OK    WARNINGS  UNNEEDED, same version is already published
palomino3Windows Server 2022 Datacenter / x64  OK    OK    WARNINGS    OK  UNNEEDED, same version is already published
merida1macOS 12.6.4 Monterey / x86_64  OK    OK    WARNINGS    OK  UNNEEDED, same version is already published
Package 171/663HostnameOS / ArchINSTALLBUILDCHECKBUILD BIN
diffUTR 1.8.0  (landing page)
Pierre-Luc Germain
git_last_commit: 740683a
git_last_commit_date: 2023-04-25 11:29:40 -0400
nebbiolo1Linux (Ubuntu 22.04.2 LTS) / x86_64  OK    OK    OK  UNNEEDED, same version is already published
palomino3Windows Server 2022 Datacenter / x64  OK    OK    OK    OK  UNNEEDED, same version is already published
merida1macOS 12.6.4 Monterey / x86_64  OK    OK    OK    OK  UNNEEDED, same version is already published
Package 172/663HostnameOS / ArchINSTALLBUILDCHECKBUILD BIN
Dino 1.6.0  (landing page)
Jared Brown
git_last_commit: efa6351
git_last_commit_date: 2023-04-25 11:31:12 -0400
nebbiolo1Linux (Ubuntu 22.04.2 LTS) / x86_64  OK    OK    OK  UNNEEDED, same version is already published
palomino3Windows Server 2022 Datacenter / x64  OK    OK    OK    OK  UNNEEDED, same version is already published
merida1macOS 12.6.4 Monterey / x86_64  OK    OK    OK    OK  UNNEEDED, same version is already published
Package 173/663HostnameOS / ArchINSTALLBUILDCHECKBUILD BIN
DirichletMultinomial 1.42.0  (landing page)
Martin Morgan
git_last_commit: c388536
git_last_commit_date: 2023-04-25 10:23:01 -0400
nebbiolo1Linux (Ubuntu 22.04.2 LTS) / x86_64  OK    OK    WARNINGS  UNNEEDED, same version is already published
palomino3Windows Server 2022 Datacenter / x64  OK    OK    WARNINGS    OK  UNNEEDED, same version is already published
merida1macOS 12.6.4 Monterey / x86_64  OK    OK    OK    OK  UNNEEDED, same version is already published
Package 174/663HostnameOS / ArchINSTALLBUILDCHECKBUILD BIN
DiscoRhythm 1.16.0  (landing page)
Matthew Carlucci
git_last_commit: 239280c
git_last_commit_date: 2023-04-25 11:09:19 -0400
nebbiolo1Linux (Ubuntu 22.04.2 LTS) / x86_64  OK    OK    OK  UNNEEDED, same version is already published
palomino3Windows Server 2022 Datacenter / x64  OK    OK    OK    OK  UNNEEDED, same version is already published
merida1macOS 12.6.4 Monterey / x86_64  OK    OK    OK    OK  UNNEEDED, same version is already published
Package 175/663HostnameOS / ArchINSTALLBUILDCHECKBUILD BIN
dittoSeq 1.12.0  (landing page)
Daniel Bunis
git_last_commit: 77ab21d
git_last_commit_date: 2023-04-25 11:15:52 -0400
nebbiolo1Linux (Ubuntu 22.04.2 LTS) / x86_64  OK    OK    OK  UNNEEDED, same version is already published
palomino3Windows Server 2022 Datacenter / x64  OK    OK    OK    OK  UNNEEDED, same version is already published
merida1macOS 12.6.4 Monterey / x86_64  OK    OK    OK    OK  UNNEEDED, same version is already published
Package 176/663HostnameOS / ArchINSTALLBUILDCHECKBUILD BIN
DMCFB 1.14.0  (landing page)
Farhad Shokoohi
git_last_commit: 072bd32
git_last_commit_date: 2023-04-25 11:12:51 -0400
nebbiolo1Linux (Ubuntu 22.04.2 LTS) / x86_64  OK    OK    ERROR  
palomino3Windows Server 2022 Datacenter / x64  OK    OK    OK    OK  UNNEEDED, same version is already published
merida1macOS 12.6.4 Monterey / x86_64  OK    OK    OK    OK  UNNEEDED, same version is already published
Package 177/663HostnameOS / ArchINSTALLBUILDCHECKBUILD BIN
DMCHMM 1.22.0  (landing page)
Farhad Shokoohi
git_last_commit: b4f404a
git_last_commit_date: 2023-04-25 10:56:06 -0400
nebbiolo1Linux (Ubuntu 22.04.2 LTS) / x86_64  OK    OK    OK  UNNEEDED, same version is already published
palomino3Windows Server 2022 Datacenter / x64  OK    OK    WARNINGS    OK  UNNEEDED, same version is already published
merida1macOS 12.6.4 Monterey / x86_64  OK    OK    OK    OK  UNNEEDED, same version is already published
Package 178/663HostnameOS / ArchINSTALLBUILDCHECKBUILD BIN
DMRcaller 1.32.0  (landing page)
Nicolae Radu Zabet
git_last_commit: 5bfd754
git_last_commit_date: 2023-04-25 10:38:50 -0400
nebbiolo1Linux (Ubuntu 22.04.2 LTS) / x86_64  OK    OK    OK  UNNEEDED, same version is already published
palomino3Windows Server 2022 Datacenter / x64  OK    OK    OK    OK  UNNEEDED, same version is already published
merida1macOS 12.6.4 Monterey / x86_64  OK    OK    OK    OK  UNNEEDED, same version is already published
Package 179/663HostnameOS / ArchINSTALLBUILDCHECKBUILD BIN
DMRcate 2.14.0  (landing page)
Tim Peters
git_last_commit: 6e7bae0
git_last_commit_date: 2023-04-25 10:30:37 -0400
nebbiolo1Linux (Ubuntu 22.04.2 LTS) / x86_64  OK    OK    OK  UNNEEDED, same version is already published
palomino3Windows Server 2022 Datacenter / x64  OK    OK    TIMEOUT    OK  
merida1macOS 12.6.4 Monterey / x86_64  OK    OK    TIMEOUT    OK  
Package 180/663HostnameOS / ArchINSTALLBUILDCHECKBUILD BIN
dmrseq 1.20.0  (landing page)
Keegan Korthauer
git_last_commit: 3abc5d8
git_last_commit_date: 2023-04-25 10:59:39 -0400
nebbiolo1Linux (Ubuntu 22.04.2 LTS) / x86_64  OK    OK    ERROR  
palomino3Windows Server 2022 Datacenter / x64  OK    OK    OK    OK  UNNEEDED, same version is already published
merida1macOS 12.6.4 Monterey / x86_64  OK    OK    OK    OK  UNNEEDED, same version is already published
Package 181/663HostnameOS / ArchINSTALLBUILDCHECKBUILD BIN
DNAfusion 1.2.0  (landing page)
Christoffer Trier Maansson
git_last_commit: aef3ca8
git_last_commit_date: 2023-04-26 05:41:57 -0400
nebbiolo1Linux (Ubuntu 22.04.2 LTS) / x86_64  OK    OK    OK  UNNEEDED, same version is already published
palomino3Windows Server 2022 Datacenter / x64  OK    OK    OK    OK  UNNEEDED, same version is already published
merida1macOS 12.6.4 Monterey / x86_64  OK    OK    OK    OK  UNNEEDED, same version is already published
Package 182/663HostnameOS / ArchINSTALLBUILDCHECKBUILD BIN
doseR 1.16.0  (landing page)
ake.vastermark
git_last_commit: 485b76f
git_last_commit_date: 2023-04-25 11:08:12 -0400
nebbiolo1Linux (Ubuntu 22.04.2 LTS) / x86_64  OK    OK    OK  UNNEEDED, same version is already published
palomino3Windows Server 2022 Datacenter / x64  OK    OK    OK    OK  UNNEEDED, same version is already published
merida1macOS 12.6.4 Monterey / x86_64  OK    OK    OK    OK  UNNEEDED, same version is already published
Package 183/663HostnameOS / ArchINSTALLBUILDCHECKBUILD BIN
DRIMSeq 1.28.0  (landing page)
Malgorzata Nowicka
git_last_commit: 83a8b21
git_last_commit_date: 2023-04-25 10:45:22 -0400
nebbiolo1Linux (Ubuntu 22.04.2 LTS) / x86_64  OK    OK    WARNINGS  UNNEEDED, same version is already published
palomino3Windows Server 2022 Datacenter / x64  OK    OK    WARNINGS    OK  UNNEEDED, same version is already published
merida1macOS 12.6.4 Monterey / x86_64  OK    OK    WARNINGS    OK  UNNEEDED, same version is already published
Package 184/663HostnameOS / ArchINSTALLBUILDCHECKBUILD BIN
DropletUtils 1.20.0  (landing page)
Jonathan Griffiths
git_last_commit: 855762f
git_last_commit_date: 2023-04-25 10:58:49 -0400
nebbiolo1Linux (Ubuntu 22.04.2 LTS) / x86_64  OK    OK    WARNINGS  UNNEEDED, same version is already published
palomino3Windows Server 2022 Datacenter / x64  OK    OK    OK    OK  UNNEEDED, same version is already published
merida1macOS 12.6.4 Monterey / x86_64  OK    OK    WARNINGS    OK  UNNEEDED, same version is already published
Package 185/663HostnameOS / ArchINSTALLBUILDCHECKBUILD BIN
drugTargetInteractions 1.8.0  (landing page)
Thomas Girke
git_last_commit: 8ace133
git_last_commit_date: 2023-04-25 11:27:59 -0400
nebbiolo1Linux (Ubuntu 22.04.2 LTS) / x86_64  OK    OK    OK  UNNEEDED, same version is already published
palomino3Windows Server 2022 Datacenter / x64  OK    OK    OK    OK  UNNEEDED, same version is already published
merida1macOS 12.6.4 Monterey / x86_64  OK    OK    OK    OK  UNNEEDED, same version is already published
Package 186/663HostnameOS / ArchINSTALLBUILDCHECKBUILD BIN
dStruct 1.6.0  (landing page)
Krishna Choudhary
git_last_commit: fd33b43
git_last_commit_date: 2023-04-25 11:30:55 -0400
nebbiolo1Linux (Ubuntu 22.04.2 LTS) / x86_64  OK    OK    ERROR  
palomino3Windows Server 2022 Datacenter / x64  OK    OK    OK    OK  UNNEEDED, same version is already published
merida1macOS 12.6.4 Monterey / x86_64  OK    OK    OK    OK  UNNEEDED, same version is already published
Package 187/663HostnameOS / ArchINSTALLBUILDCHECKBUILD BIN
easyRNASeq 2.36.0  (landing page)
Nicolas Delhomme
git_last_commit: e5e1842
git_last_commit_date: 2023-04-25 10:22:04 -0400
nebbiolo1Linux (Ubuntu 22.04.2 LTS) / x86_64  OK    OK    OK  UNNEEDED, same version is already published
palomino3Windows Server 2022 Datacenter / x64  OK    OK    OK    OK  UNNEEDED, same version is already published
merida1macOS 12.6.4 Monterey / x86_64  OK    OK    OK    OK  UNNEEDED, same version is already published
Package 188/663HostnameOS / ArchINSTALLBUILDCHECKBUILD BIN
eegc 1.26.0  (landing page)
Xiaoyuan Zhou
git_last_commit: beea790
git_last_commit_date: 2023-04-25 10:49:11 -0400
nebbiolo1Linux (Ubuntu 22.04.2 LTS) / x86_64  OK    OK    ERROR  
palomino3Windows Server 2022 Datacenter / x64  OK    OK    WARNINGS    OK  UNNEEDED, same version is already published
merida1macOS 12.6.4 Monterey / x86_64  OK    OK    WARNINGS    OK  UNNEEDED, same version is already published
Package 189/663HostnameOS / ArchINSTALLBUILDCHECKBUILD BIN
eisaR 1.12.0  (landing page)
Michael Stadler
git_last_commit: a520f29
git_last_commit_date: 2023-04-25 11:16:12 -0400
nebbiolo1Linux (Ubuntu 22.04.2 LTS) / x86_64  OK    OK    OK  UNNEEDED, same version is already published
palomino3Windows Server 2022 Datacenter / x64  OK    OK    OK    OK  UNNEEDED, same version is already published
merida1macOS 12.6.4 Monterey / x86_64  OK    OK    OK    OK  UNNEEDED, same version is already published
Package 190/663HostnameOS / ArchINSTALLBUILDCHECKBUILD BIN
ELMER 2.24.1  (landing page)
Tiago Chedraoui Silva
git_last_commit: 5c6fd17
git_last_commit_date: 2023-05-07 16:43:07 -0400
nebbiolo1Linux (Ubuntu 22.04.2 LTS) / x86_64  OK    OK    WARNINGS  UNNEEDED, same version is already published
palomino3Windows Server 2022 Datacenter / x64  OK    OK    WARNINGS    OK  UNNEEDED, same version is already published
merida1macOS 12.6.4 Monterey / x86_64  OK    OK    WARNINGS    OK  UNNEEDED, same version is already published
Package 191/663HostnameOS / ArchINSTALLBUILDCHECKBUILD BIN
enhancerHomologSearch 1.6.1  (landing page)
Jianhong Ou
git_last_commit: 6ff2947
git_last_commit_date: 2023-05-01 20:09:59 -0400
nebbiolo1Linux (Ubuntu 22.04.2 LTS) / x86_64  OK    OK    WARNINGS  UNNEEDED, same version is already published
palomino3Windows Server 2022 Datacenter / x64  OK    OK    WARNINGS    OK  UNNEEDED, same version is already published
merida1macOS 12.6.4 Monterey / x86_64  OK    OK    WARNINGS    OK  UNNEEDED, same version is already published
Package 192/663HostnameOS / ArchINSTALLBUILDCHECKBUILD BIN
ENmix 1.36.01  (landing page)
Zongli Xu
git_last_commit: 313f491
git_last_commit_date: 2023-05-15 14:27:39 -0400
nebbiolo1Linux (Ubuntu 22.04.2 LTS) / x86_64  OK    OK    OK  UNNEEDED, same version is already published
palomino3Windows Server 2022 Datacenter / x64  OK    OK    OK    OK  UNNEEDED, same version is already published
merida1macOS 12.6.4 Monterey / x86_64  OK    OK    OK    OK  UNNEEDED, same version is already published
Package 193/663HostnameOS / ArchINSTALLBUILDCHECKBUILD BIN
EnrichmentBrowser 2.30.1  (landing page)
Ludwig Geistlinger
git_last_commit: 1f6368d
git_last_commit_date: 2023-05-13 14:29:04 -0400
nebbiolo1Linux (Ubuntu 22.04.2 LTS) / x86_64  OK    OK    OK  UNNEEDED, same version is already published
palomino3Windows Server 2022 Datacenter / x64  OK    OK    OK    OK  UNNEEDED, same version is already published
merida1macOS 12.6.4 Monterey / x86_64  OK    OK    OK    OK  UNNEEDED, same version is already published
Package 194/663HostnameOS / ArchINSTALLBUILDCHECKBUILD BIN
enrichTF 1.16.0  (landing page)
Zheng Wei
git_last_commit: 5dc47d9
git_last_commit_date: 2023-04-25 11:10:05 -0400
nebbiolo1Linux (Ubuntu 22.04.2 LTS) / x86_64  OK    OK    ERROR  
palomino3Windows Server 2022 Datacenter / x64  OK    OK    OK    OK  UNNEEDED, same version is already published
merida1macOS 12.6.4 Monterey / x86_64  OK    OK    OK    OK  UNNEEDED, same version is already published
Package 195/663HostnameOS / ArchINSTALLBUILDCHECKBUILD BIN
ensembldb 2.24.0  (landing page)
Johannes Rainer
git_last_commit: 45a79a4
git_last_commit_date: 2023-04-25 10:38:28 -0400
nebbiolo1Linux (Ubuntu 22.04.2 LTS) / x86_64  OK    OK    OK  UNNEEDED, same version is already published
palomino3Windows Server 2022 Datacenter / x64  OK    OK    OK    OK  UNNEEDED, same version is already published
merida1macOS 12.6.4 Monterey / x86_64  OK    OK    OK    OK  UNNEEDED, same version is already published
Package 196/663HostnameOS / ArchINSTALLBUILDCHECKBUILD BIN
ensemblVEP 1.42.0  (landing page)
Bioconductor Package Maintainer
git_last_commit: 700e0fd
git_last_commit_date: 2023-04-25 10:25:01 -0400
nebbiolo1Linux (Ubuntu 22.04.2 LTS) / x86_64  OK    OK    OK  UNNEEDED, same version is already published
palomino3Windows Server 2022 Datacenter / x64... NOT SUPPORTED ...
merida1macOS 12.6.4 Monterey / x86_64  OK    ERROR  skippedskipped
Package 197/663HostnameOS / ArchINSTALLBUILDCHECKBUILD BIN
epigenomix 1.40.0  (landing page)
Hans-Ulrich Klein
git_last_commit: 98e9d36
git_last_commit_date: 2023-04-25 10:26:05 -0400
nebbiolo1Linux (Ubuntu 22.04.2 LTS) / x86_64  OK    OK    OK  UNNEEDED, same version is already published
palomino3Windows Server 2022 Datacenter / x64  OK    OK    OK    OK  UNNEEDED, same version is already published
merida1macOS 12.6.4 Monterey / x86_64  OK    OK    OK    OK  UNNEEDED, same version is already published
Package 198/663HostnameOS / ArchINSTALLBUILDCHECKBUILD BIN
epigraHMM 1.8.2  (landing page)
Pedro Baldoni
git_last_commit: e4cf2a0
git_last_commit_date: 2023-05-18 02:16:19 -0400
nebbiolo1Linux (Ubuntu 22.04.2 LTS) / x86_64  OK    OK    WARNINGS  UNNEEDED, same version is already published
palomino3Windows Server 2022 Datacenter / x64  OK    OK    OK    OK  UNNEEDED, same version is already published
merida1macOS 12.6.4 Monterey / x86_64  OK    OK    WARNINGS    OK  UNNEEDED, same version is already published
Package 199/663HostnameOS / ArchINSTALLBUILDCHECKBUILD BIN
epihet 1.16.0  (landing page)
Xiaowen Chen
git_last_commit: 7a56e16
git_last_commit_date: 2023-04-25 11:06:43 -0400
nebbiolo1Linux (Ubuntu 22.04.2 LTS) / x86_64  ERROR    ERROR  skipped
palomino3Windows Server 2022 Datacenter / x64  ERROR    ERROR  skippedskipped
merida1macOS 12.6.4 Monterey / x86_64  ERROR    ERROR  skippedskipped
Package 200/663HostnameOS / ArchINSTALLBUILDCHECKBUILD BIN
EpiMix 1.2.0  (landing page)
Yuanning Zheng
git_last_commit: 68204f3
git_last_commit_date: 2023-04-25 11:39:07 -0400
nebbiolo1Linux (Ubuntu 22.04.2 LTS) / x86_64  OK    ERROR  skipped
palomino3Windows Server 2022 Datacenter / x64  OK    ERROR  skippedskipped
merida1macOS 12.6.4 Monterey / x86_64  OK    ERROR  skippedskipped
Package 201/663HostnameOS / ArchINSTALLBUILDCHECKBUILD BIN
epimutacions 1.4.0  (landing page)
Dolors Pelegri-Siso
git_last_commit: 78170ad
git_last_commit_date: 2023-04-25 11:37:33 -0400
nebbiolo1Linux (Ubuntu 22.04.2 LTS) / x86_64  OK    OK    OK  UNNEEDED, same version is already published
palomino3Windows Server 2022 Datacenter / x64  OK    OK    OK    OK  UNNEEDED, same version is already published
merida1macOS 12.6.4 Monterey / x86_64  OK    OK    OK    OK  UNNEEDED, same version is already published
Package 202/663HostnameOS / ArchINSTALLBUILDCHECKBUILD BIN
epistack 1.6.0  (landing page)
DEVAILLY Guillaume
git_last_commit: c0e3cbb
git_last_commit_date: 2023-04-25 11:33:47 -0400
nebbiolo1Linux (Ubuntu 22.04.2 LTS) / x86_64  OK    OK    OK  UNNEEDED, same version is already published
palomino3Windows Server 2022 Datacenter / x64  OK    OK    OK    OK  UNNEEDED, same version is already published
merida1macOS 12.6.4 Monterey / x86_64  OK    OK    OK    OK  UNNEEDED, same version is already published
Package 203/663HostnameOS / ArchINSTALLBUILDCHECKBUILD BIN
EpiTxDb 1.12.0  (landing page)
Felix G.M. Ernst
git_last_commit: f967697
git_last_commit_date: 2023-04-25 11:16:15 -0400
nebbiolo1Linux (Ubuntu 22.04.2 LTS) / x86_64  OK    OK    OK  UNNEEDED, same version is already published
palomino3Windows Server 2022 Datacenter / x64  OK    OK    OK    OK  UNNEEDED, same version is already published
merida1macOS 12.6.4 Monterey / x86_64  OK    OK    OK    OK  UNNEEDED, same version is already published
Package 204/663HostnameOS / ArchINSTALLBUILDCHECKBUILD BIN
epivizr 2.30.0  (landing page)
Hector Corrada Bravo
git_last_commit: 6d20ad8
git_last_commit_date: 2023-04-25 10:29:04 -0400
nebbiolo1Linux (Ubuntu 22.04.2 LTS) / x86_64  OK    OK    OK  UNNEEDED, same version is already published
palomino3Windows Server 2022 Datacenter / x64  OK    OK    OK    OK  UNNEEDED, same version is already published
merida1macOS 12.6.4 Monterey / x86_64  OK    OK    OK    OK  UNNEEDED, same version is already published
Package 205/663HostnameOS / ArchINSTALLBUILDCHECKBUILD BIN
epivizrData 1.28.0  (landing page)
Hector Corrada Bravo
git_last_commit: fee5b60
git_last_commit_date: 2023-04-25 10:46:48 -0400
nebbiolo1Linux (Ubuntu 22.04.2 LTS) / x86_64  OK    OK    OK  UNNEEDED, same version is already published
palomino3Windows Server 2022 Datacenter / x64  OK    OK    OK    OK  UNNEEDED, same version is already published
merida1macOS 12.6.4 Monterey / x86_64  OK    OK    OK    OK  UNNEEDED, same version is already published
Package 206/663HostnameOS / ArchINSTALLBUILDCHECKBUILD BIN
epivizrStandalone 1.28.0  (landing page)
Hector Corrada Bravo
git_last_commit: 6cf1f53
git_last_commit_date: 2023-04-25 10:47:03 -0400
nebbiolo1Linux (Ubuntu 22.04.2 LTS) / x86_64  OK    OK    WARNINGS