Name | Last modified | Size | Description | |
---|---|---|---|---|
Parent Directory | - | |||
install-summary.dcf | 15-Jun-2024 03:38 | 270 | ||
install-out.txt | 15-Jun-2024 03:38 | 22K | ||
checksrc-summary.dcf | 15-Jun-2024 03:38 | 451 | ||
checksrc-out.txt | 15-Jun-2024 03:38 | 4.6K | ||
buildsrc-summary.dcf | 15-Jun-2024 03:38 | 457 | ||
buildsrc-out.txt | 15-Jun-2024 03:38 | 956 | ||
buildbin-summary.dcf | 15-Jun-2024 03:38 | 522 | ||
buildbin-out.txt | 15-Jun-2024 03:38 | 22K | ||