Name | Last modified | Size | Description | |
---|---|---|---|---|
Parent Directory | - | |||
buildbin-out.txt | 05-Mar-2024 01:39 | 28K | ||
buildbin-summary.dcf | 05-Mar-2024 01:39 | 543 | ||
buildsrc-out.txt | 05-Mar-2024 01:39 | 854 | ||
buildsrc-summary.dcf | 05-Mar-2024 01:39 | 434 | ||
checksrc-out.txt | 05-Mar-2024 01:39 | 5.5K | ||
checksrc-summary.dcf | 05-Mar-2024 01:39 | 458 | ||
install-out.txt | 05-Mar-2024 01:39 | 25K | ||
install-summary.dcf | 05-Mar-2024 01:39 | 273 | ||