Back to Multiple platform build/check report for BioC 3.14
ABCDEFGHIJKLMNOPQ[R]STUVWXYZ

This page was generated on 2022-01-21 13:07:00 -0500 (Fri, 21 Jan 2022).

HostnameOSArch (*)R versionInstalled pkgs
nebbiolo2Linux (Ubuntu 20.04.4 LTS)x86_644.1.2 (2021-11-01) -- "Bird Hippie" 4329
tokay2Windows Server 2012 R2 Standardx644.1.2 (2021-11-01) -- "Bird Hippie" 4079
machv2macOS 10.14.6 Mojavex86_644.1.2 (2021-11-01) -- "Bird Hippie" 4140
Click on any hostname to see more info about the system (e.g. compilers)      (*) as reported by 'uname -p', except on Windows and Mac OS X

BUILD BIN results for Rnits on tokay2


To the developers/maintainers of the Rnits package:
- Please allow up to 24 hours (and sometimes 48 hours) for your latest push to git@git.bioconductor.org:packages/Rnits.git to
reflect on this report. See How and When does the builder pull? When will my changes propagate? here for more information.
- Make sure to use the following settings in order to reproduce any error or warning you see on this page.

raw results

Package 1640/2083HostnameOS / ArchINSTALLBUILDCHECKBUILD BIN
Rnits 1.28.0  (landing page)
Dipen P. Sangurdekar
Snapshot Date: 2022-01-20 01:55:04 -0500 (Thu, 20 Jan 2022)
git_url: https://git.bioconductor.org/packages/Rnits
git_branch: RELEASE_3_14
git_last_commit: fc51552
git_last_commit_date: 2021-10-26 12:15:38 -0500 (Tue, 26 Oct 2021)
nebbiolo2Linux (Ubuntu 20.04.4 LTS) / x86_64  OK    OK    WARNINGS  UNNEEDED, same version is already published
tokay2Windows Server 2012 R2 Standard / x64  OK    OK    WARNINGS    OK  UNNEEDED, same version is already published
machv2macOS 10.14.6 Mojave / x86_64  OK    OK    WARNINGS    OK  UNNEEDED, same version is already published

Summary

Package: Rnits
Version: 1.28.0
Command: rm -rf Rnits.buildbin-libdir && mkdir Rnits.buildbin-libdir && C:\Users\biocbuild\bbs-3.14-bioc\R\bin\R.exe CMD INSTALL --merge-multiarch --build --library=Rnits.buildbin-libdir Rnits_1.28.0.tar.gz
StartedAt: 2022-01-21 06:58:43 -0500 (Fri, 21 Jan 2022)
EndedAt: 2022-01-21 06:59:05 -0500 (Fri, 21 Jan 2022)
EllapsedTime: 21.7 seconds
RetCode: 0
Status:   OK  
PackageFile: Rnits_1.28.0.zip
PackageFileSize: 925.2 KiB

Command output

##############################################################################
##############################################################################
###
### Running command:
###
###   rm -rf Rnits.buildbin-libdir && mkdir Rnits.buildbin-libdir && C:\Users\biocbuild\bbs-3.14-bioc\R\bin\R.exe CMD INSTALL --merge-multiarch --build --library=Rnits.buildbin-libdir Rnits_1.28.0.tar.gz
###
##############################################################################
##############################################################################



install for i386

* installing *source* package 'Rnits' ...
** using staged installation
** R
** data
*** moving datasets to lazyload DB
** inst
** byte-compile and prepare package for lazy loading
** help
*** installing help indices
  converting help for package 'Rnits'
    finding HTML links ... done
    Rnits-class                             html  
    build.Rnits                             html  
    finding level-2 HTML links ... done

    calculateGCV-methods                    html  
    extract-methods                         html  
    fit-methods                             html  
    getCID-methods                          html  
    getFitModel-methods                     html  
    getLR-methods                           html  
    getNormTwoChannel-methods               html  
    getPval-methods                         html  
    getStat-methods                         html  
    plotResults-methods                     html  
    rnits                                   html  
    summarizeProbes-methods                 html  
    summary-methods                         html  
    timeAlign-methods                       html  
    topData-methods                         html  
    yeastchemostat                          html  
** building package indices
** installing vignettes
** testing if installed package can be loaded from temporary location
** testing if installed package can be loaded from final location
** testing if installed package keeps a record of temporary installation path

install for x64

* installing *source* package 'Rnits' ...
** testing if installed package can be loaded
* MD5 sums
packaged installation of 'Rnits' as Rnits_1.28.0.zip
* DONE (Rnits)