Index of /checkResults/release/bioc-LATEST/RnaSeqSampleSize/raw-results

[ICO]NameLast modifiedSizeDescription

[DIR]Parent Directory  -  
[   ]info.dcf09-Jun-2023 00:07 298  
[DIR]merida1/09-Jun-2023 00:07 -  
[DIR]nebbiolo1/09-Jun-2023 00:05 -  
[DIR]palomino3/09-Jun-2023 00:06 -