Index of /checkResults/release/bioc-LATEST/RiboCrypt/raw-results/palomino4

[ICO]NameLast modifiedSizeDescription

[DIR]Parent Directory  -  
[TXT]buildbin-out.txt30-Mar-2024 00:37 1.1K 
[   ]buildbin-summary.dcf30-Mar-2024 00:37 524  
[TXT]buildsrc-out.txt30-Mar-2024 00:37 885  
[   ]buildsrc-summary.dcf30-Mar-2024 00:37 459  
[TXT]checksrc-out.txt30-Mar-2024 00:37 12K 
[   ]checksrc-summary.dcf30-Mar-2024 00:37 453  
[TXT]install-out.txt30-Mar-2024 00:37 968  
[   ]install-summary.dcf30-Mar-2024 00:37 271