Index of /checkResults/release/bioc-LATEST/RiboCrypt/raw-results/nebbiolo2

[ICO]NameLast modifiedSizeDescription

[DIR]Parent Directory  -  
[TXT]buildsrc-out.txt30-Mar-2024 00:36 853  
[   ]buildsrc-summary.dcf30-Mar-2024 00:36 421  
[TXT]checksrc-out.txt30-Mar-2024 00:36 12K 
[   ]checksrc-summary.dcf30-Mar-2024 00:36 420  
[TXT]install-out.txt30-Mar-2024 00:36 958  
[   ]install-summary.dcf30-Mar-2024 00:36 262