Name | Last modified | Size | Description | |
---|---|---|---|---|
Parent Directory | - | |||
install-out.txt | 05-Mar-2024 01:39 | 74K | ||
install-summary.dcf | 05-Mar-2024 01:39 | 270 | ||
buildsrc-out.txt | 05-Mar-2024 01:39 | 846 | ||
buildsrc-summary.dcf | 05-Mar-2024 01:39 | 428 | ||
checksrc-out.txt | 05-Mar-2024 01:39 | 4.8K | ||
checksrc-summary.dcf | 05-Mar-2024 01:39 | 450 | ||
buildbin-out.txt | 05-Mar-2024 01:39 | 76K | ||
buildbin-summary.dcf | 05-Mar-2024 01:39 | 529 | ||