Index of /checkResults/release/bioc-LATEST/Rhisat2/raw-results/machv2

[ICO]NameLast modifiedSizeDescription

[DIR]Parent Directory  -  
[TXT]buildbin-out.txt15-Jan-2022 03:08 4.1K 
[   ]buildbin-summary.dcf15-Jan-2022 03:08 531  
[TXT]buildsrc-out.txt15-Jan-2022 03:08 846  
[   ]buildsrc-summary.dcf15-Jan-2022 03:08 428  
[TXT]checksrc-out.txt15-Jan-2022 03:08 3.6K 
[   ]checksrc-summary.dcf15-Jan-2022 03:08 444  
[TXT]install-out.txt15-Jan-2022 03:08 3.1K 
[   ]install-summary.dcf15-Jan-2022 03:08 270