Name | Last modified | Size | Description | |
---|---|---|---|---|
Parent Directory | - | |||
buildbin-out.txt | 27-Jul-2024 06:41 | 50K | ||
buildbin-summary.dcf | 27-Jul-2024 06:41 | 537 | ||
buildsrc-out.txt | 27-Jul-2024 06:41 | 898 | ||
buildsrc-summary.dcf | 27-Jul-2024 06:41 | 430 | ||
checksrc-out.txt | 27-Jul-2024 06:41 | 4.7K | ||
checksrc-summary.dcf | 27-Jul-2024 06:41 | 453 | ||
install-out.txt | 27-Jul-2024 06:41 | 48K | ||
install-summary.dcf | 27-Jul-2024 06:41 | 272 | ||