Name | Last modified | Size | Description | |
---|---|---|---|---|
Parent Directory | - | |||
install-summary.dcf | 12-Jun-2024 03:42 | 272 | ||
install-out.txt | 12-Jun-2024 03:42 | 48K | ||
checksrc-summary.dcf | 12-Jun-2024 03:42 | 453 | ||
checksrc-out.txt | 12-Jun-2024 03:42 | 4.7K | ||
buildsrc-summary.dcf | 12-Jun-2024 03:42 | 430 | ||
buildsrc-out.txt | 12-Jun-2024 03:42 | 898 | ||
buildbin-summary.dcf | 12-Jun-2024 03:42 | 537 | ||
buildbin-out.txt | 12-Jun-2024 03:42 | 50K | ||