Name | Last modified | Size | Description | |
---|---|---|---|---|
Parent Directory | - | |||
buildbin-out.txt | 12-Jun-2024 03:44 | 49K | ||
install-out.txt | 12-Jun-2024 03:44 | 47K | ||
checksrc-out.txt | 12-Jun-2024 03:44 | 4.7K | ||
buildsrc-out.txt | 12-Jun-2024 03:44 | 898 | ||
buildbin-summary.dcf | 12-Jun-2024 03:44 | 537 | ||
checksrc-summary.dcf | 12-Jun-2024 03:44 | 453 | ||
buildsrc-summary.dcf | 12-Jun-2024 03:44 | 430 | ||
install-summary.dcf | 12-Jun-2024 03:44 | 272 | ||